Workbook

Sheet Usmernenie
A1: Číslo: 00730/2026
A2: Usmernenie k priebežnému čerpaniu a vyúčtovaniu finančných prostriedkov poskytnutých Ministerstvom cestovného ruchu a športu SR v oblasti športu v roku 2026
A4: ZÁKLADNÉ POKYNY
A5: 1. Vložiť údaje do hárkov "Príjmy" a "Doklady".
A6: 2. Skontrolovať hárky "Doklady" a "Spolu".
A7: 3. Vyplniť hárok "Avízo - vratka" (len Prijímatelia, ktorí nevyčerpali celú sumu). V prípade vratky menšej ako 5 € (vrátane) za všetky účely spolu prijímateľ nevracia finančné prostriedky.
A8: 4. Po kontrole odoslať elektronickú verziu formuláru na adresu ziadosti.sport@mincrs.sk.
A9: 5. Vytlačiť hárky "Spolu", "Doklady", v prípade nevyčerpaných finančných prostriedkov aj vyplnený hárok "Avízo - vratka".
A10: 6. Dopísať do hárku "Spolu" dátum a čas odoslania elektronickej verzie formuláru vyúčtovania.
A11: 7. Podpísať hárok "Spolu" prípadne hárok "Avízo - vratka" štatutárnym zástupcom/zástupcami.
A12: 8. Odoslať vyúčtovanie - hárok "Doklady", hárok "Spolu" prípadne hárok "Avízo - vratka" v listinnej podobe na adresu: Ministerstvo cestovného ruchu a športu SR, sekcia financovania športu a štátnej športovej politiky, Pribinova 32, 810 08 Bratislava .
A13: Pri vypĺňaní odporúčame použiť hárok „Príklady“, v ktorom je uvedený spôsob uvádzania niektorých druhov výdavkov.
... A140: ....................................................................... JUDr. Dušan Hačko poverený vykonávaním funkcie generálneho riaditeľa sekcie financovania športu a štátnej športovej politiky

Sheet Príklady
A1: Príklady vyplnenia formulára
A2: =Doklady!A100 -> Priebežné čerpanie a vyúčtovanie finančných prostriedkov poskytnutých zo štátneho rozpočtu v oblasti športu v roku 2026 | H2: =+Doklady!I100 -> V1
H3: =+Doklady!I101 -> 46053
A4: Prijímateľ dotácie: | B4: Slovenský zväz skúšobný
A7: Účel úhrady (vyberte zo zoznamu, inak automatické vyhodnocovanie nebude fungovať) | B7: Interné číslo účtovného dokladu | C7: Číslo externého (originálneho) účtovného dokladu | D7: Dátum skutočnej úhrady účtovného dokladu | E7: Popis úhrady (vyberte z rozbaľovacieho zoznamu, alebo zadajte voľný text) | F7: IČO dodávateľa plnenia | G7: Dodávateľ plnenia | H7: Skutočne uhradená suma (eur) | I7: AK
A8: a - kriket - bežné výdavky | B8: 124/2026 | C8: DF 24 | D8: 46146 | E8: náklady na ubytovanie 10 športovcov + 1 tréner | G8: Chata Breznovčan | H8: 1350 | I8: 3
A9: a - kriket - bežné výdavky | B9: 100/2026 | C9: 3020 | D9: 46147 | E9: grafické práce na výrobe loga podujatia | G9: Anna Malá - PROMOTION, s.r.o. | H9: 100 | I9: 3
A10: a - kriket - bežné výdavky | B10: 121/2026 | C10: 100002352 | D10: 46148 | E10: cestovné - vlak - Bratislava - Brezno, 16 osôb | G10: Ján Rýchly | H10: 50 | I10: 3
A11: a - kriket - bežné výdavky | B11: 125/2026 | C11: DF 26 | D11: 46149 | E11: stravovanie 20 osôb | G11: Reštaurácia "U vodníka", Brezno | H11: 200 | I11: 3
A12: a - kriket - bežné výdavky | B12: 126/2026 | C12: DF 29 | D12: 46150 | E12: prenájom plavárne | G12: STARZ, Bratislava | H12: 180 | I12: 3
A13: a - kriket - bežné výdavky | B13: 128/2026 | C13: DF 30 | D13: 46151 | E13: nákup športového oblečenia - 15 ks | G13: Adidas, Brezno | H13: 505 | I13: 3
A14: a - kriket - bežné výdavky | B14: 270/2026 | C14: 3252514 | D14: 46152 | E14: nákup leteniek - 6 ks | G14: Czech Airlines | H14: 4700 | I14: 2
A15: a - kriket - bežné výdavky | B15: 274/2026 | C15: D/258/2026 | D15: 46153 | E15: materiálové zabezpečenie pretekov - nákup 4 pušiek | G15: Puškárstvo - Ernest Bezaj, Malinovo | H15: 3330 | I15: 2
A16: a - kriket - bežné výdavky | B16: 275/2026 | C16: DF 32 | D16: 46154 | E16: občerstvenie - 6 osôb | G16: Messing Catering, s.r.o., Rovinka | H16: 1000 | I16: 2
A17: a - kriket - bežné výdavky | B17: 280/2026 | C17: DF 33 | D17: 46155 | E17: ubytovanie - 2 osoby | G17: Jozef Karát - privát, Šaľa | H17: 300 | I17: 2
A18: a - kriket - bežné výdavky | B18: 190/2026 | C18: DF50 | D18: 46156 | E18: prenájom miestnosti | G18: Double Tree Hotel, Bratislava | H18: 600 | I18: 2
A19: a - kriket - bežné výdavky | B19: 250/2026 | C19: 999 | D19: 46157 | E19: cestovné - Cerová - Trnava a späť, 3.9.2026, 2 osoby | G19: Železničná spoločnosť, a.s., Slovensko | H19: 25.9 | I19: 2
... A23: a - kriket - bežné výdavky | B23: J/2026-20 | C23: 258 | D23: 46162 | E23: doplnky výživy - 21 športovcov | G23: Lekáreň Kozia, Bratislava | H23: 124 | I23: 2
A24: a - kriket - bežné výdavky | B24: DF2026/326 | C24: 1213275 | D24: 46163 | E24: oprava športtesteru | G24: TOP TREND Patrik Valo | H24: 19.1 | I24: 2
A25: a - kriket - bežné výdavky | B25: DF2026/193 | C25: 2007006035 | D25: 46164 | E25: havarijné poistenie 1-3/2026, EČV BA 258 KK | G25: Uniqa poisťovňa, a.s. | H25: 277.74 | I25: 4
A26: a - kriket - bežné výdavky | B26: 46357 | C26: 258 | D26: 46165 | E26: diaľničná nálepka na rok 2026 | G26: OMV, s.r.o. | H26: 50 | I26: 4
A27: a - kriket - bežné výdavky | B27: 199/2026 | C27: 32 | D27: 46166 | E27: poštovné | G27: Slovenská pošta, a.s. | H27: 9 | I27: 4
A28: a - kriket - bežné výdavky | B28: 46143 | C28: 3 | D28: 46167 | E28: nájom kancelárskych priestorov 2/2026 | G28: Slovenské združenie telesnej kultúry | H28: 10 | I28: 4
A29: a - kriket - bežné výdavky | B29: P1/V/259 | C29: 20123698752 | D29: 46168 | E29: regenerácia, 8 športovcov, 8/2026 | G29: SPORTMEDICAL s.r.o., Bratislava | H29: 500 | I29: 1
A30: a - kriket - bežné výdavky | B30: 235/2026 | C30: 40010 | D30: 46169 | E30: nákup materiálu - reprezentačná vlajka 1 ks | G30: ADAT, s.r.o. | H30: 71.2 | I30: 3
A31: a - kriket - bežné výdavky | B31: 206/2026 | C31: DF100/9/2026 | D31: 46170 | E31: refundácia nákladov na základe zmluvy pre CTM Žilina: Okresné kolo v skúškach, 7.8.2026, Žilina, 43 osôb, z toho: 37 športovcov, 1 tréner, 1 strážna služba, 1 masér, 3 technickí pracovníci, úhrada nákladov za stravovanie | G31: Prestige catering, s.r.o. | H31: 250 | I31: 1
A32: a - kriket - bežné výdavky | B32: 207/2026 | C32: DF500 | D32: 46171 | E32: prenájom plavárne, 4 dráhy, 8 hodín | G32: Mesto Žilina | H32: 320 | I32: 5
A33: a - kriket - bežné výdavky | B33: 305/20246 | C33: 14 | D33: 46172 | E33: upratovacie služby 5/2026 | G33: Boris Dubaj - živnostník | H33: 40 | I33: 4
A34: a - kriket - bežné výdavky | B34: 46023 | C34: V-2026-3 | D34: 46173 | E34: bankové poplatky | G34: SLSP, a.s. | H34: 25 | I34: 4
A35: a - kriket - bežné výdavky | B35: 46082 | C35: 980 | D35: 46174 | E35: poplatok medzinárodnej federácii za rok 2026 | G35: Internationale Asociation ..... | H35: 150 | I35: 4
A36: a - kriket - bežné výdavky | B36: 46113 | C36: 5 | D36: 46175 | E36: členský poplatok za rok 2026 | G36: Konfederácia športových zväzov | H36: 100 | I36: 4
A37: a - kriket - bežné výdavky | B37: 301/2026 | C37: 78954787 | D37: 46176 | E37: prenájom optického kábla 3/2026 | G37: e-Net, s.r.o. | H37: 74.1 | I37: 4
A38: a - kriket - bežné výdavky | B38: 330/2026 | C38: FD52 | D38: 46177 | E38: poplatky za telefón, 7/2026 | G38: Slovak telekom, a.s. | H38: 120 | I38: 2
A39: a - kriket - bežné výdavky | B39: V1-12 | C39: V1-12 | D39: 46178 | E39: PHM - služobné motorové vozidlo EČV: BA 111 SA Obdobie: 14.4. - 18.4.2026 Najazdené kilometre: 800 km | G39: Slovnaft, a.s. Bratislava | H39: 80 | I39: 3
A40: a - kriket - bežné výdavky | B40: 25 | C40: 358 | D40: 46179 | E40: trénerské služby 10/2026 | G40: Ondrej Pado - živnostník | H40: 600 | I40: 1
A41: a - kriket - bežné výdavky | B41: 3 | C41: 26985235 | D41: 46180 | E41: oprava služobného motorového vozidla, BA 222 AA | G41: Prvý autoservis, Bratislava | H41: 10 | I41: 3
A42: a - kriket - bežné výdavky | B42: P1/V/309 | C42: PP46130119 | D42: 46181 | E42: lekárske vyšetrenie - 10 športovcov | G42: Alpha medical a.s. | H42: 19 | I42: 2
A43: a - kriket - bežné výdavky | B43: 300/2026 | C43: 256 | D43: 46182 | E43: laboratórne vyšetrenie | G43: Nemocnica s poliklinikou, Prešov | H43: 230 | I43: 2
A44: a - kriket - bežné výdavky | B44: V/2026/3 | C44: DF2026/143 | D44: 46183 | E44: lyžiarsky servis - február 2026 | G44: Dušan Otčenáš - Martek Sport | H44: 175 | I44: 2
A45: a - kriket - bežné výdavky | B45: ID258 | C45: 369963 | D45: 46184 | E45: športová výstroj - tenisové rakety - 7 ks | G45: Sportissimo, Bratislava | H45: 147 | I45: 1
A46: b - Sergej Bubka | B46: DF2026/309 | C46: 20200136 | D46: 46185 | E46: trénerské služby - 1.12-20.12.2026 | G46: Peter Konrád | H46: 360 | I46: 10
A47: b - Sergej Bubka | B47: R/2026/11 | C47: 20123698752 | D47: 46186 | E47: regenerácia | G47: SPORTMEDICAL s.r.o., Bratislava | H47: 500 | I47: 10
A48: b - Sergej Bubka | B48: 46235 | C48: 369 | D48: 46187 | E48: prenájom tenisového kurtu 1.2.2026 | G48: Národné tenisové centrum, a.s. | H48: 20 | I48: 10
A49: b - Sergej Bubka | B49: 40/2026 | C49: 25412 | D49: 46188 | E49: doplnky výživy | G49: Sunpharma, s.r.o. | H49: 25 | I49: 10
A50: a - kriket - kapitálové výdavky | B50: 46266 | C50: 4/2026/DU | D50: 46189 | E50: nákup mikrobusu, EVČ BA 111 SS (faktúra doložená v prílohe vyúčtovania) | G50: AUDI centrum, s.r.o. | H50: 20000 | I50: 5
A51: k - kriket - rekonštrukcia haly v Čadci | B51: 89/2026 | C51: 36/14 | D51: 46190 | E51: rekonštrukcia športovej haly v Čadci - opláštenie tribúny, výmena sedadiel, rekonštrukcia šatní a sociálnych zariadení (faktúra doložená v prílohe vyúčtovania) | G51: Rekostav, s.r.o., Čadca | H51: 30000 | I51: 5
A52: a - kriket - bežné výdavky | B52: ID082 | C52: 555 | D52: 46191 | E52: doprava, BUS, 2.7.2026, 7.6.2021, 39 osôb | G52: Autodoprava Charvát, Veľké Bielice | H52: 123 | I52: 2
A53: a - kriket - bežné výdavky | B53: ID100 | C53: 444 | D53: 46192 | E53: cestovné, VLAK, Banská Bystrica - Košice, 3.7.2026, 8 osôb | G53: Ján Rýchly, prezident zväzu | H53: 1600 | I53: 2
A54: a - kriket - bežné výdavky | B54: FA213090 | C54: 1300072 | D54: 46194 | E54: potlač 4 ks športových dresov | G54: RES Promotion, s.r.o., Košice 1 | H54: 21.36 | I54: 2
A55: a - kriket - bežné výdavky | B55: 310/2026 | C55: DF2555 | D55: 46195 | E55: regenerácia 16.5.2026, 1 športovec | G55: Fyziopraktik, s.r.o. | H55: 20 | I55: 2
A56: a - kriket - bežné výdavky | B56: 32/2026 | C56: PZ5 | D56: 46196 | E56: trénerská činnosť 12/2026 | G56: Henrich Madaj - živnostník | H56: 200 | I56: 2
A57: a - kriket - bežné výdavky | B57: 25/2026 | C57: 254 | D57: 46197 | E57: Materiálové vybavenie športovcov CTM Žilina, náhradné súčiastky na bicykel | G57: Bottico, s.r.o. Otrokovice | H57: 201.5 | I57: 2
A58: a - kriket - bežné výdavky | B58: 288/2026 | C58: 141 | D58: 46198 | E58: regenerácia športovcov CTM Bobot, 30 hodín | G58: Slovenské liečebné kúpele Rajecké Teplice, a.s. | H58: 1010 | I58: 2
A59: a - kriket - bežné výdavky | B59: ID221 | C59: 25 | D59: 46199 | E59: refundácia nákladov na základe zmluvy za centrum talentovanej mládeže Bošáca: sústredenie mladších žiačok, 30.6.-7.7.2026, Bardejov, ubytovanie, 12 osôb | G59: Ubytovňa Nádej, Bardejov | H59: 1330 | I59: 2
A60: f - finančné odmeny športovcom a trénerom - Eleonóra Sihoťová | B60: 46357 | C60: 760998 | D60: 46200 | E60: odmena športovcom za výsledky dosiahnuté v roku 2026 | G60: Peter Novák | H60: 1000 | I60: 10
A61: f - finančné odmeny športovcom a trénerom - Miroslav Hurban | B61: 13/2026 | C61: 760852 | D61: 46201 | E61: odmena trénerovi mládeže | G61: Miroslav Hurban | H61: 200 | I61: 10
A62: e - Národná súťaž v skúškach | B62: 66/2026 | C62: 25 | D62: 46203 | E62: tlač diplomov A4 547 ks | G62: Mouton, s.r.o. Žilina | H62: 147.35 | I62: 10
A63: e - Národná súťaž v skúškach | B63: 361/2026 | C63: 36 | D63: 46204 | E63: technické a organizačné zabezpečenie súťaže - úprava pretekárskej dráhy, stavba pódia, organizácia záverečného ceremoniálu, moderovanie | G63: Dušan Tesár - Select Managering, s.r.o. | H63: 2500 | I63: 10
A64: e - Národná súťaž v skúškach | B64: 98/2026 | C64: 14 | D64: 46205 | E64: nákup športového vybavenia - 20 ks lôpt | G64: Sport, s.r.o. Poprad | H64: 1200 | I64: 10
A65: e - Národná súťaž v skúškach | B65: PC2026/36 | C65: 56/C | D65: 46206 | E65: PHM - služobné motorové vozidlo EČV: BL 363 AA Obdobie: 10.6.-15.6.2026 Najazdené kilometre: 600 | G65: OMV, s.r.o., Bratislava | H65: 350 | I65: 10
A66: e - Národná súťaž v skúškach | B66: 380/2026 | C66: 952 | D66: 46208 | E66: športový materiál - bedmintonové rakety, košíky | G66: Funny sport, s.r.o., Prešov | H66: 230 | I66: 10
A67: e - Národná súťaž v skúškach | B67: 390/2026 | C67: 3852/2026 | D67: 46209 | E67: zdravotné služby | G67: DZS OPTIMUS, s.r.o. | H67: 200 | I67: 10
A68: f - obnova turistických značkovaných trás a údržba turistických informačných miest | B68: 400/2026 | C68: V582/14 | D68: 46210 | E68: materiál na obnovu značkovania - okres Poprad - farby, štetce, stĺpiky | G68: Color, s.r.o., Poprad | H68: 10 | I68: 10

Sheet Príjmy
A1: Aktualizovaná suma prostriedkov poskytnutých ministerstvom k dátumu | C1: 46234 | G1: 46053
G2: 46081
A3: Prijímateľ | B3: =INDEX(Adr!B:B,Doklady!B102+1) -> Slovenský zväz moderného päťboja | G3: 46112
A4: IČO: | B4: =RIGHT("0000"&INDEX(Adr!A:A,Doklady!B102+1),8) -> 30788714 | G4: 46142
A5: Sídlo: | B5: =INDEX(Adr!D:D,Doklady!B102+1)&", "&INDEX(Adr!E:E,Doklady!B102+1) -> Olympijské námestie 14290/1, Bratislava | G5: 46173
G6: 46203
G7: 46234
G8: 46265
A9: PPG | B9: PPG | C9: Poskytnuté prostriedky | G9: 46295
A10: 026 01 | B10: Šport pre všetkých, školský a univerzitný šport | C10: =+Spolu!C10 -> 0 | G10: 46326
A11: 026 02 | B11: Uznané športy | C11: =+Spolu!C11 -> 121229 | G11: 46356
A12: 026 03 | B12: Národné športové projekty | C12: =+Spolu!C12 -> 0 | G12: 46387
A13: 026 04 | B13: Športová infraštruktúra | C13: =+Spolu!C13 -> 0
A14: 026 05 | B14: Prierezové činnosti v športe | C14: =+Spolu!C14 -> 0
A15: SPOLU | C15: =SUM(C10:C14) -> 121229
A17: Prijímateľ prostriedkov zo štátneho rozpočtu je povinný priebežne zverejňovať informácie o prijatí a spôsobe ich použitia najneskôr do 25. dňa kalendárneho mesiaca nasledujúceho po kalendárnom mesiaci, v ktorom boli prijaté alebo použité ( § 65, ods. 6 zákona č. 440/2015 Z. z. o športe a o zmene a doplnení niektorých zákonov v znení neskorších predpisov).
A61: 15

Sheet Spolu
A1: =Doklady!A100 -> Priebežné čerpanie a vyúčtovanie finančných prostriedkov poskytnutých zo štátneho rozpočtu v oblasti športu v roku 2026
B3: Prijímateľ dotácie: | C3: =INDEX(Adr!B2:B242,Doklady!B102) -> Slovenský zväz moderného päťboja | I3: =Doklady!I100 -> V1
B4: IČO: | C4: =INDEX(Adr!A2:A242,Doklady!B102) -> 30788714 | I4: =Doklady!I101 -> 46053
B5: Právna forma: | C5: =INDEX(Adr!C2:C242,Doklady!B102) -> občianske združenie
B6: Sídlo: | C6: =INDEX(Adr!D2:D242,Doklady!B102)&", "&INDEX(Adr!E2:E242,Doklady!B102)&", "&INDEX(Adr!F2:F242,Doklady!B102) -> Olympijské námestie 14290/1, Bratislava, 831 04
A9: PPG | B9: Podprogram | C9: Poskytnuté (eur) | D9: Vyúčtované (eur) | E9: Povinnosť vrátiť (eur)
A10: 026 01 | B10: Šport pre všetkých, školský a univerzitný šport | C10: =SUMIF(FP!J:J,Doklady!$B$1&A10,FP!D:D) -> 0 | D10: =C10-E10 -> 0 | E10: =SUMIF(K:K,A10,I:I) -> 0 | L10: AAA
A11: 026 02 | B11: Uznané športy | C11: =SUMIF(FP!J:J,Doklady!$B$1&A11,FP!D:D) -> 121229 | D11: =+C11-E11 -> 71965.74 | E11: =+I39-I42+I44-I47 -> 49263.26 | L11: =L41 -> a - moderný päťboj - bežné transfery
A12: 026 03 | B12: Národné športové projekty | C12: =SUMIF(FP!J:J,Doklady!$B$1&A12,FP!D:D) -> 0 | D12: =C12-E12 -> 0 | E12: =SUMIF(K:K,A12,I:I) -> 0 | L12: =L42 -> a - moderný päťboj - kapitálové transfery
A13: 026 04 | B13: Športová infraštruktúra | C13: =SUMIF(FP!J:J,Doklady!$B$1&A13,FP!D:D) -> 0 | D13: =C13-E13 -> 0 | E13: =SUMIF(K:K,A13,I:I) -> 0 | L13: =L46 -> 2
A14: 026 05 | B14: Prierezové činnosti v športe | C14: =SUMIF(FP!J:J,Doklady!$B$1&A14,FP!D:D) -> 0 | D14: =C14-E14 -> 0 | E14: =SUMIF(K:K,A14,I:I) -> 0 | L14: =L47 -> 2
A16: Účel | B16: Názov | I16: Suma
A17: a | B17: príspevok uznaným športom | I17: =SUMIF(FP!I:I,Doklady!$B$1&A17,FP!D:D) -> 121229
A18: b | B18: príspevok Slovenskému olympijskému a športovému výboru | I18: =SUMIF(FP!I:I,Doklady!$B$1&A18,FP!D:D) -> 0
A19: c | B19: príspevok Slovenskému paralympijskému výboru | I19: =SUMIF(FP!I:I,Doklady!$B$1&A19,FP!D:D) -> 0
A20: d | B20: príspevok športovcom top tímu | I20: =SUMIF(FP!I:I,Doklady!$B$1&A20,FP!D:D) -> 0
A21: e | B21: organizácia významnej súťaže alebo účasť na významnej súťaži podľa § 3 písm. h) vrátane prípravy na túto súťaž | I21: =SUMIF(FP!I:I,Doklady!$B$1&A21,FP!D:D) -> 0
A22: f | B22: plnenie úloh verejného záujmu v športe | I22: =SUMIF(FP!I:I,Doklady!$B$1&A22,FP!D:D) -> 0
A23: g | B23: rozvoj športov, ktoré nie sú uznanými podľa zákona č. 440/2015 Z. z. | I23: =SUMIF(FP!I:I,Doklady!$B$1&A23,FP!D:D) -> 0
A24: h | B24: podpora a rozvoj turistických a cykloturistických trás | I24: =SUMIF(FP!I:I,Doklady!$B$1&A24,FP!D:D) -> 0
A25: i | B25: podpora národného projektu športu pre všetkých so zameraním na mládež | I25: =SUMIF(FP!I:I,Doklady!$B$1&A25,FP!D:D) -> 0
A26: j | B26: projekty školského športu, univerzitného športu a športu pre všetkých | I26: =SUMIF(FP!I:I,Doklady!$B$1&A26,FP!D:D) -> 0
A27: k | B27: výstavba, modernizácia a rekonštrukcia športovej infraštruktúry národného významu | I27: =SUMIF(FP!I:I,Doklady!$B$1&A27,FP!D:D) -> 0
A28: l | B28: športové pohybové tábory pre mládež | I28: =SUMIF(FP!I:I,Doklady!$B$1&A28,FP!D:D) -> 0
A29: m | B29: organizácia tradičných športových podujatí | I29: =SUMIF(FP!I:I,Doklady!$B$1&A29,FP!D:D) -> 0
A30: n | I30: =SUMIF(FP!I:I,Doklady!$B$1&A30,FP!D:D) -> 0
A31: o | I31: =SUMIF(FP!I:I,Doklady!$B$1&A31,FP!D:D) -> 0
A32: p | I32: =SUMIF(FP!I:I,Doklady!$B$1&A32,FP!D:D) -> 0
A33: q | I33: =SUMIF(FP!I:I,Doklady!$B$1&A33,FP!D:D) -> 0
A34: r | I34: =SUMIF(FP!I:I,Doklady!$B$1&A34,FP!D:D) -> 0
A36: Použitie príspevku uznanému športu | C36: 1 | D36: 2 | E36: 3 | F36: 4 | G36: 5 | H36: 5
A38: Účel | B38: ="Šport "&K40 -> Šport moderný päťboj | C38: mládež 23 MIN.20% | D38: talenty MIN.20% | E38: reprezentácia MIN.25% | F38: prevádzka MAX.15% | G38: ostatné úlohy | H38: kapitálové transfery z PUŠ | I38: SPOLU | L38: =COUNTIF(FP!N:N,Doklady!B1&"aB") -> 1
A39: a | B39: Poskytnutý príspevok uznanému športu | C39: =I39*0.2 -> 24245.8 | D39: =I39*0.2 -> 24245.8 | E39: =I39*0.25 -> 30307.25 | F39: =+I39*0.15 -> 18184.35 | G39: =+MAX(I39-C39-D39-E39-F39-H39,0) -> 24245.8 | H39: =+IFERROR(VLOOKUP(K40&" - kapitálové transfery",B$53:C$90,2,0),0) -> 0 | I39: =SUMIF(FP!K:K,K40,FP!D:D) -> 121229 | L39: =COUNTIF(FP!N:N,Doklady!B1&"aK") -> 0
A40: a | B40: Vyúčtovaný príspevok uznanému športu | C40: =DSUM(Doklady!A103:J10011,"GGG",Spolu!L40:M42) -> 16075.63 | D40: =DSUM(Doklady!A103:J10011,"GGG",Spolu!N40:O42) -> 1485.7 | E40: =DSUM(Doklady!A103:J10011,"GGG",Spolu!P40:Q42) -> 48755.49 | F40: =DSUM(Doklady!A103:J10011,"GGG",Spolu!R40:S42) -> 5648.92 | G40: =DSUM(Doklady!A103:J10011,"GGG",Spolu!T40:U42)-H40 -> 0 | H40: =+IFERROR(VLOOKUP(K40&" - kapitálové transfery",B$53:D$90,3,0),0) -> 0 | I40: =+C40+D40+E40+F40+G40+H40 -> 71965.74 | J40: =+K45 -> . | K40: =IF(L38>0,INDEX(FP!K:K,Doklady!B2),".") -> moderný päťboj | L40: AAA | M40: HHH | N40: AAA | O40: HHH | P40: AAA | Q40: HHH | R40: AAA | S40: HHH | T40: AAA | U40: HHH
A41: a | B41: ROZDIEL | C41: =MAX(C39-C40,0) -> 8170.17 | D41: =MAX(D39-D40,0) -> 22760.1 | E41: =MAX(E39-E40,0) -> 0 | F41: =MIN(I39,MAX(-F39+F40,0)) -> 0 | G41: =MIN(J39,MAX(-G39+G40+MIN(F40-F39,0),0)) -> 0 | H41: =MAX(H39-H40,0) -> 0 | I41: =+I39-I42 -> 49263.26 | J41: =+K46 -> 0 | K41: =+I41-H41 -> 49263.26 | L41: =IF(L38>0,"a - "&INDEX(FP!C:C,Doklady!B2),2) -> a - moderný päťboj - bežné transfery | M41: 1 | N41: =+L41 -> a - moderný päťboj - bežné transfery | O41: 2 | P41: =+L41 -> a - moderný päťboj - bežné transfery | Q41: 3 | R41: =+L41 -> a - moderný päťboj - bežné transfery | S41: 4 | T41: =+L41 -> a - moderný päťboj - bežné transfery | U41: 5
A42: a | B42: Uznaná suma vyúčtovaných FP | C42: =+C40 -> 16075.63 | D42: =+D40 -> 1485.7 | E42: =+E40 -> 48755.49 | F42: =+MIN(F39:F40) -> 5648.92 | G42: =+MIN(G39+MAX(F39-F40,0)-MAX(E40-E39,0)-MAX(D40-D39,0)-MAX(C40-C39,0),G40) -> 0 | H42: =+MIN(H39:H40) -> 0 | I42: =+C42+D42+E42+MIN(F39:F40)+G42+H42 -> 71965.74 | J42: =+K47 -> 0 | K42: =+I42-H42 -> 71965.74 | L42: =+SUBSTITUTE(L41,"bežné","kapitálové") -> a - moderný päťboj - kapitálové transfery | M42: 1 | N42: =+L42 -> a - moderný päťboj - kapitálové transfery | O42: 2 | P42: =+L42 -> a - moderný päťboj - kapitálové transfery | Q42: 3 | R42: =+L42 -> a - moderný päťboj - kapitálové transfery | S42: 4 | T42: =+L42 -> a - moderný päťboj - kapitálové transfery | U42: 5
A43: Účel | B43: =IF(L38>2,"Šport "&INDEX(FP!K:K,Doklady!B2+2),"Šport "&K45) -> Šport . | C43: mládež 23 MIN.20% | D43: talenty MIN.20% | E43: reprezentácia MIN.25% | F43: prevádzka MAX.15% | G43: ostatné úlohy | H43: kapitálové transfery z PUŠ | I43: SPOLU | L43: =L38-1 -> 0
A44: a | B44: Poskytnutý príspevok uznanému športu | C44: =I44*0.2 -> 0 | D44: =I44*0.2 -> 0 | E44: =I44*0.25 -> 0 | F44: =+I44*0.15 -> 0 | G44: =+MAX(I44-C44-D44-E44-F44-H44,0) -> 0 | H44: =+IFERROR(VLOOKUP(K45&" - kapitálové transfery",B$53:C$90,2,0),0) -> 0 | I44: =SUMIF(FP!K:K,K45,FP!D:D) -> 0
A45: a | B45: Vyúčtovaný príspevok uznanému športu | C45: =DSUM(Doklady!A103:J10011,"GGG",Spolu!L45:M47) -> 0 | D45: =DSUM(Doklady!A103:J10011,"GGG",Spolu!N45:O47) -> 0 | E45: =DSUM(Doklady!A103:J10011,"GGG",Spolu!P45:Q47) -> 0 | F45: =DSUM(Doklady!A103:J10011,"GGG",Spolu!R45:S47) -> 0 | G45: =DSUM(Doklady!A103:J10011,"GGG",Spolu!T45:U47)-H45 -> 0 | H45: =+IFERROR(VLOOKUP(K45&" - kapitálové transfery",B$53:D$90,3,0),0) -> 0 | I45: =+C45+D45+E45+F45+G45+H45 -> 0 | K45: =IF(L38>1,INDEX(FP!K:K,Doklady!B2+1),".") -> . | L45: AAA | M45: HHH | N45: AAA | O45: HHH | P45: AAA | Q45: HHH | R45: AAA | S45: HHH | T45: AAA | U45: HHH
A46: a | B46: ROZDIEL | C46: =MAX(C44-C45,0) -> 0 | D46: =MAX(D44-D45,0) -> 0 | E46: =MAX(E44-E45,0) -> 0 | F46: =MIN(I44,MAX(-F44+F45,0)) -> 0 | G46: =MIN(J44,MAX(-G44+G45+MIN(F45-F44,0),0)) -> 0 | H46: =MAX(H44-H45,0) -> 0 | I46: =+I44-I47 -> 0 | K46: =+I46-H46 -> 0 | L46: =IF(L43>0,"a - "&INDEX(FP!C:C,Doklady!B2+1),2) -> 2 | M46: 1 | N46: =+L46 -> 2 | O46: 2 | P46: =+L46 -> 2 | Q46: 3 | R46: =+L46 -> 2 | S46: 4 | T46: =+L46 -> 2 | U46: 5
A47: a | B47: Uznaná suma vyúčtovaných FP | C47: =+C45 -> 0 | D47: =+D45 -> 0 | E47: =+E45 -> 0 | F47: =+MIN(F44:F45) -> 0 | G47: =+MIN(G44+MAX(F44-F45,0)-MAX(E45-E44,0)-MAX(D45-D44,0)-MAX(C45-C44,0),G45) -> 0 | H47: =+MIN(H44:H45) -> 0 | I47: =+C47+D47+E47+MIN(F44:F45)+G47+H47 -> 0 | K47: =+I47-H47 -> 0 | L47: =+SUBSTITUTE(L46,"bežné","kapitálové") -> 2 | M47: 1 | N47: =+L47 -> 2 | O47: 2 | P47: =+L47 -> 2 | Q47: 3 | R47: =+L47 -> 2 | S47: 4 | T47: =+L47 -> 2 | U47: 5
A52: Účel | B52: Účel poskytnutých finančných prostriedkov | C52: Poskytnuté FP | D52: Vyúčtované FP | E52: Povinné SF | F52: Vyúčtované SF | G52: Uznaná suma vyúčtov. FP | I52: Povinnosť vrátiť | K52: PPG | L52: BK | M52: PPGBK
A53: =Doklady!D1 -> a | B53: =Doklady!H1 -> moderný päťboj - bežné transfery | C53: =IF(A53<>"",INDEX(FP!D:D,Doklady!B$2+(ROW()-53)),"") -> 121229 | D53: =IF(A53<>"",Doklady!I1-Doklady!J1,"") -> 71965.74 | E53: =IF(A53<>"",MIN(D53,C53)*Doklady!C1/(1-Doklady!C1),"") -> 0 | F53: =IF(A53<>"",Doklady!J1,"") -> 0 | G53: =+IFERROR(HLOOKUP(IF(RIGHT(B53,15)="bežné transfery",LEFT(B53,LEN(B53)-18),0),$J$40:$K$42,3,0),MIN(C53,D53)) -> 71965.74 | I53: =IF(A53<>"",MAX(IF(G53<C53,C53-G53,0)+IF(F53<E53,E53-F53,0),0),0) -> 49263.26 | J53: =IF(D53>C53,"Vyúčtované prostriedky nemôžu byť väčšie ako poskytnuté. Opravte v hárku ""Doklady""","") | K53: =Doklady!F1 -> 026 02 | L53: =IF(A53<>"",INDEX(FP!H:H,Doklady!B$2+(ROW()-52)),"") -> B | M53: =K53&L53 -> 026 02B
A54: =Doklady!D2 | B54: =Doklady!H2 | C54: =IF(A54<>"",INDEX(FP!D:D,Doklady!B$2+(ROW()-53)),"") | D54: =IF(A54<>"",Doklady!I2-Doklady!J2,"") | E54: =IF(A54<>"",MIN(D54,C54)*Doklady!C2/(1-Doklady!C2),"") | F54: =IF(A54<>"",Doklady!J2,"") | G54: =+IFERROR(HLOOKUP(IF(RIGHT(B54,15)="bežné transfery",LEFT(B54,LEN(B54)-18),0),$J$40:$K$42,3,0),MIN(C54,D54)) -> 0 | I54: =IF(A54<>"",MAX(IF(G54<C54,C54-G54,0)+IF(F54<E54,E54-F54,0),0),0) -> 0 | J54: =IF(D54>C54,"Vyúčtované prostriedky nemôžu byť väčšie ako poskytnuté. Opravte v hárku ""Doklady""","") | K54: =Doklady!F2 | L54: =IF(A54<>"",INDEX(FP!H:H,Doklady!B$2+(ROW()-52)),"") | M54: =K54&L54
A55: =Doklady!D3 | B55: =Doklady!H3 | C55: =IF(A55<>"",INDEX(FP!D:D,Doklady!B$2+(ROW()-53)),"") | D55: =IF(A55<>"",Doklady!I3-Doklady!J3,"") | E55: =IF(A55<>"",MIN(D55,C55)*Doklady!C3/(1-Doklady!C3),"") | F55: =IF(A55<>"",Doklady!J3,"") | G55: =+IFERROR(HLOOKUP(IF(RIGHT(B55,15)="bežné transfery",LEFT(B55,LEN(B55)-18),0),$J$40:$K$42,3,0),MIN(C55,D55)) -> 0 | I55: =IF(A55<>"",MAX(IF(G55<C55,C55-G55,0)+IF(F55<E55,E55-F55,0),0),0) -> 0 | J55: =IF(D55>C55,"Vyúčtované prostriedky nemôžu byť väčšie ako poskytnuté. Opravte v hárku ""Doklady""","") | K55: =Doklady!F3 | L55: =IF(A55<>"",INDEX(FP!H:H,Doklady!B$2+(ROW()-52)),"") | M55: =K55&L55
A56: =Doklady!D4 | B56: =Doklady!H4 | C56: =IF(A56<>"",INDEX(FP!D:D,Doklady!B$2+(ROW()-53)),"") | D56: =IF(A56<>"",Doklady!I4-Doklady!J4,"") | E56: =IF(A56<>"",MIN(D56,C56)*Doklady!C4/(1-Doklady!C4),"") | F56: =IF(A56<>"",Doklady!J4,"") | G56: =+IFERROR(HLOOKUP(IF(RIGHT(B56,15)="bežné transfery",LEFT(B56,LEN(B56)-18),0),$J$40:$K$42,3,0),MIN(C56,D56)) -> 0 | I56: =IF(A56<>"",MAX(IF(G56<C56,C56-G56,0)+IF(F56<E56,E56-F56,0),0),0) -> 0 | J56: =IF(D56>C56,"Vyúčtované prostriedky nemôžu byť väčšie ako poskytnuté. Opravte v hárku ""Doklady""","") | K56: =Doklady!F4 | L56: =IF(A56<>"",INDEX(FP!H:H,Doklady!B$2+(ROW()-52)),"") | M56: =K56&L56
A57: =Doklady!D5 | B57: =Doklady!H5 | C57: =IF(A57<>"",INDEX(FP!D:D,Doklady!B$2+(ROW()-53)),"") | D57: =IF(A57<>"",Doklady!I5-Doklady!J5,"") | E57: =IF(A57<>"",MIN(D57,C57)*Doklady!C5/(1-Doklady!C5),"") | F57: =IF(A57<>"",Doklady!J5,"") | G57: =+IFERROR(HLOOKUP(IF(RIGHT(B57,15)="bežné transfery",LEFT(B57,LEN(B57)-18),0),$J$40:$K$42,3,0),MIN(C57,D57)) -> 0 | I57: =IF(A57<>"",MAX(IF(G57<C57,C57-G57,0)+IF(F57<E57,E57-F57,0),0),0) -> 0 | J57: =IF(D57>C57,"Vyúčtované prostriedky nemôžu byť väčšie ako poskytnuté. Opravte v hárku ""Doklady""","") | K57: =Doklady!F5 | L57: =IF(A57<>"",INDEX(FP!H:H,Doklady!B$2+(ROW()-52)),"") | M57: =K57&L57
A58: =Doklady!D6 | B58: =Doklady!H6 | C58: =IF(A58<>"",INDEX(FP!D:D,Doklady!B$2+(ROW()-53)),"") | D58: =IF(A58<>"",Doklady!I6-Doklady!J6,"") | E58: =IF(A58<>"",MIN(D58,C58)*Doklady!C6/(1-Doklady!C6),"") | F58: =IF(A58<>"",Doklady!J6,"") | G58: =+IFERROR(HLOOKUP(IF(RIGHT(B58,15)="bežné transfery",LEFT(B58,LEN(B58)-18),0),$J$40:$K$42,3,0),MIN(C58,D58)) -> 0 | I58: =IF(A58<>"",MAX(IF(G58<C58,C58-G58,0)+IF(F58<E58,E58-F58,0),0),0) -> 0 | J58: =IF(D58>C58,"Vyúčtované prostriedky nemôžu byť väčšie ako poskytnuté. Opravte v hárku ""Doklady""","") | K58: =Doklady!F6 | L58: =IF(A58<>"",INDEX(FP!H:H,Doklady!B$2+(ROW()-52)),"") | M58: =K58&L58
A59: =Doklady!D7 | B59: =Doklady!H7 | C59: =IF(A59<>"",INDEX(FP!D:D,Doklady!B$2+(ROW()-53)),"") | D59: =IF(A59<>"",Doklady!I7-Doklady!J7,"") | E59: =IF(A59<>"",MIN(D59,C59)*Doklady!C7/(1-Doklady!C7),"") | F59: =IF(A59<>"",Doklady!J7,"") | G59: =+IFERROR(HLOOKUP(IF(RIGHT(B59,15)="bežné transfery",LEFT(B59,LEN(B59)-18),0),$J$40:$K$42,3,0),MIN(C59,D59)) -> 0 | I59: =IF(A59<>"",MAX(IF(G59<C59,C59-G59,0)+IF(F59<E59,E59-F59,0),0),0) -> 0 | J59: =IF(D59>C59,"Vyúčtované prostriedky nemôžu byť väčšie ako poskytnuté. Opravte v hárku ""Doklady""","") | K59: =Doklady!F7 | L59: =IF(A59<>"",INDEX(FP!H:H,Doklady!B$2+(ROW()-52)),"") | M59: =K59&L59
A60: =Doklady!D8 | B60: =Doklady!H8 | C60: =IF(A60<>"",INDEX(FP!D:D,Doklady!B$2+(ROW()-53)),"") | D60: =IF(A60<>"",Doklady!I8-Doklady!J8,"") | E60: =IF(A60<>"",MIN(D60,C60)*Doklady!C8/(1-Doklady!C8),"") | F60: =IF(A60<>"",Doklady!J8,"") | G60: =+IFERROR(HLOOKUP(IF(RIGHT(B60,15)="bežné transfery",LEFT(B60,LEN(B60)-18),0),$J$40:$K$42,3,0),MIN(C60,D60)) -> 0 | I60: =IF(A60<>"",MAX(IF(G60<C60,C60-G60,0)+IF(F60<E60,E60-F60,0),0),0) -> 0 | J60: =IF(D60>C60,"Vyúčtované prostriedky nemôžu byť väčšie ako poskytnuté. Opravte v hárku ""Doklady""","") | K60: =Doklady!F8 | L60: =IF(A60<>"",INDEX(FP!H:H,Doklady!B$2+(ROW()-52)),"") | M60: =K60&L60
A61: =Doklady!D9 | B61: =Doklady!H9 | C61: =IF(A61<>"",INDEX(FP!D:D,Doklady!B$2+(ROW()-53)),"") | D61: =IF(A61<>"",Doklady!I9-Doklady!J9,"") | E61: =IF(A61<>"",MIN(D61,C61)*Doklady!C9/(1-Doklady!C9),"") | F61: =IF(A61<>"",Doklady!J9,"") | G61: =+IFERROR(HLOOKUP(IF(RIGHT(B61,15)="bežné transfery",LEFT(B61,LEN(B61)-18),0),$J$40:$K$42,3,0),MIN(C61,D61)) -> 0 | I61: =IF(A61<>"",MAX(IF(G61<C61,C61-G61,0)+IF(F61<E61,E61-F61,0),0),0) -> 0 | J61: =IF(D61>C61,"Vyúčtované prostriedky nemôžu byť väčšie ako poskytnuté. Opravte v hárku ""Doklady""","") | K61: =Doklady!F9 | L61: =IF(A61<>"",INDEX(FP!H:H,Doklady!B$2+(ROW()-52)),"") | M61: =K61&L61
A62: =Doklady!D10 | B62: =Doklady!H10 | C62: =IF(A62<>"",INDEX(FP!D:D,Doklady!B$2+(ROW()-53)),"") | D62: =IF(A62<>"",Doklady!I10-Doklady!J10,"") | E62: =IF(A62<>"",MIN(D62,C62)*Doklady!C10/(1-Doklady!C10),"") | F62: =IF(A62<>"",Doklady!J10,"") | G62: =+IFERROR(HLOOKUP(IF(RIGHT(B62,15)="bežné transfery",LEFT(B62,LEN(B62)-18),0),$J$40:$K$42,3,0),MIN(C62,D62)) -> 0 | I62: =IF(A62<>"",MAX(IF(G62<C62,C62-G62,0)+IF(F62<E62,E62-F62,0),0),0) -> 0 | J62: =IF(D62>C62,"Vyúčtované prostriedky nemôžu byť väčšie ako poskytnuté. Opravte v hárku ""Doklady""","") | K62: =Doklady!F10 | L62: =IF(A62<>"",INDEX(FP!H:H,Doklady!B$2+(ROW()-52)),"") | M62: =K62&L62
A63: =Doklady!D11 | B63: =Doklady!H11 | C63: =IF(A63<>"",INDEX(FP!D:D,Doklady!B$2+(ROW()-53)),"") | D63: =IF(A63<>"",Doklady!I11-Doklady!J11,"") | E63: =IF(A63<>"",MIN(D63,C63)*Doklady!C11/(1-Doklady!C11),"") | F63: =IF(A63<>"",Doklady!J11,"") | G63: =+IFERROR(HLOOKUP(IF(RIGHT(B63,15)="bežné transfery",LEFT(B63,LEN(B63)-18),0),$J$40:$K$42,3,0),MIN(C63,D63)) -> 0 | I63: =IF(A63<>"",MAX(IF(G63<C63,C63-G63,0)+IF(F63<E63,E63-F63,0),0),0) -> 0 | J63: =IF(D63>C63,"Vyúčtované prostriedky nemôžu byť väčšie ako poskytnuté. Opravte v hárku ""Doklady""","") | K63: =Doklady!F11 | L63: =IF(A63<>"",INDEX(FP!H:H,Doklady!B$2+(ROW()-52)),"") | M63: =K63&L63
A64: =Doklady!D12 | B64: =Doklady!H12 | C64: =IF(A64<>"",INDEX(FP!D:D,Doklady!B$2+(ROW()-53)),"") | D64: =IF(A64<>"",Doklady!I12-Doklady!J12,"") | E64: =IF(A64<>"",MIN(D64,C64)*Doklady!C12/(1-Doklady!C12),"") | F64: =IF(A64<>"",Doklady!J12,"") | G64: =+IFERROR(HLOOKUP(IF(RIGHT(B64,15)="bežné transfery",LEFT(B64,LEN(B64)-18),0),$J$40:$K$42,3,0),MIN(C64,D64)) -> 0 | I64: =IF(A64<>"",MAX(IF(G64<C64,C64-G64,0)+IF(F64<E64,E64-F64,0),0),0) -> 0 | J64: ; | K64: =Doklady!F12 | L64: =IF(A64<>"",INDEX(FP!H:H,Doklady!B$2+(ROW()-52)),"") | M64: =K64&L64
A65: =Doklady!D13 | B65: =Doklady!H13 | C65: =IF(A65<>"",INDEX(FP!D:D,Doklady!B$2+(ROW()-53)),"") | D65: =IF(A65<>"",Doklady!I13-Doklady!J13,"") | E65: =IF(A65<>"",MIN(D65,C65)*Doklady!C13/(1-Doklady!C13),"") | F65: =IF(A65<>"",Doklady!J13,"") | G65: =+IFERROR(HLOOKUP(IF(RIGHT(B65,15)="bežné transfery",LEFT(B65,LEN(B65)-18),0),$J$40:$K$42,3,0),MIN(C65,D65)) -> 0 | I65: =IF(A65<>"",MAX(IF(G65<C65,C65-G65,0)+IF(F65<E65,E65-F65,0),0),0) -> 0 | J65: =IF(D65>C65,"Vyúčtované prostriedky nemôžu byť väčšie ako poskytnuté. Opravte v hárku ""Doklady""","") | K65: =Doklady!F13 | L65: =IF(A65<>"",INDEX(FP!H:H,Doklady!B$2+(ROW()-52)),"") | M65: =K65&L65
A66: =Doklady!D14 | B66: =Doklady!H14 | C66: =IF(A66<>"",INDEX(FP!D:D,Doklady!B$2+(ROW()-53)),"") | D66: =IF(A66<>"",Doklady!I14-Doklady!J14,"") | E66: =IF(A66<>"",MIN(D66,C66)*Doklady!C14/(1-Doklady!C14),"") | F66: =IF(A66<>"",Doklady!J14,"") | G66: =+IFERROR(HLOOKUP(IF(RIGHT(B66,15)="bežné transfery",LEFT(B66,LEN(B66)-18),0),$J$40:$K$42,3,0),MIN(C66,D66)) -> 0 | I66: =IF(A66<>"",MAX(IF(G66<C66,C66-G66,0)+IF(F66<E66,E66-F66,0),0),0) -> 0 | J66: =IF(D66>C66,"Vyúčtované prostriedky nemôžu byť väčšie ako poskytnuté. Opravte v hárku ""Doklady""","") | K66: =Doklady!F14 | L66: =IF(A66<>"",INDEX(FP!H:H,Doklady!B$2+(ROW()-52)),"") | M66: =K66&L66
A67: =Doklady!D15 | B67: =Doklady!H15 | C67: =IF(A67<>"",INDEX(FP!D:D,Doklady!B$2+(ROW()-53)),"") | D67: =IF(A67<>"",Doklady!I15-Doklady!J15,"") | E67: =IF(A67<>"",MIN(D67,C67)*Doklady!C15/(1-Doklady!C15),"") | F67: =IF(A67<>"",Doklady!J15,"") | G67: =+IFERROR(HLOOKUP(IF(RIGHT(B67,15)="bežné transfery",LEFT(B67,LEN(B67)-18),0),$J$40:$K$42,3,0),MIN(C67,D67)) -> 0 | I67: =IF(A67<>"",MAX(IF(G67<C67,C67-G67,0)+IF(F67<E67,E67-F67,0),0),0) -> 0 | J67: =IF(D67>C67,"Vyúčtované prostriedky nemôžu byť väčšie ako poskytnuté. Opravte v hárku ""Doklady""","") | K67: =Doklady!F15 | L67: =IF(A67<>"",INDEX(FP!H:H,Doklady!B$2+(ROW()-52)),"") | M67: =K67&L67
A68: =Doklady!D16 | B68: =Doklady!H16 | C68: =IF(A68<>"",INDEX(FP!D:D,Doklady!B$2+(ROW()-53)),"") | D68: =IF(A68<>"",Doklady!I16-Doklady!J16,"") | E68: =IF(A68<>"",MIN(D68,C68)*Doklady!C16/(1-Doklady!C16),"") | F68: =IF(A68<>"",Doklady!J16,"") | G68: =+IFERROR(HLOOKUP(IF(RIGHT(B68,15)="bežné transfery",LEFT(B68,LEN(B68)-18),0),$J$40:$K$42,3,0),MIN(C68,D68)) -> 0 | I68: =IF(A68<>"",MAX(IF(G68<C68,C68-G68,0)+IF(F68<E68,E68-F68,0),0),0) -> 0 | J68: =IF(D68>C68,"Vyúčtované prostriedky nemôžu byť väčšie ako poskytnuté. Opravte v hárku ""Doklady""","") | K68: =Doklady!F16 | L68: =IF(A68<>"",INDEX(FP!H:H,Doklady!B$2+(ROW()-52)),"") | M68: =K68&L68
A69: =Doklady!D17 | B69: =Doklady!H17 | C69: =IF(A69<>"",INDEX(FP!D:D,Doklady!B$2+(ROW()-53)),"") | D69: =IF(A69<>"",Doklady!I17-Doklady!J17,"") | E69: =IF(A69<>"",MIN(D69,C69)*Doklady!C17/(1-Doklady!C17),"") | F69: =IF(A69<>"",Doklady!J17,"") | G69: =+IFERROR(HLOOKUP(IF(RIGHT(B69,15)="bežné transfery",LEFT(B69,LEN(B69)-18),0),$J$40:$K$42,3,0),MIN(C69,D69)) -> 0 | I69: =IF(A69<>"",MAX(IF(G69<C69,C69-G69,0)+IF(F69<E69,E69-F69,0),0),0) -> 0 | J69: =IF(D69>C69,"Vyúčtované prostriedky nemôžu byť väčšie ako poskytnuté. Opravte v hárku ""Doklady""","") | K69: =Doklady!F17 | L69: =IF(A69<>"",INDEX(FP!H:H,Doklady!B$2+(ROW()-52)),"") | M69: =K69&L69
A70: =Doklady!D18 | B70: =Doklady!H18 | C70: =IF(A70<>"",INDEX(FP!D:D,Doklady!B$2+(ROW()-53)),"") | D70: =IF(A70<>"",Doklady!I18-Doklady!J18,"") | E70: =IF(A70<>"",MIN(D70,C70)*Doklady!C18/(1-Doklady!C18),"") | F70: =IF(A70<>"",Doklady!J18,"") | G70: =+IFERROR(HLOOKUP(IF(RIGHT(B70,15)="bežné transfery",LEFT(B70,LEN(B70)-18),0),$J$40:$K$42,3,0),MIN(C70,D70)) -> 0 | I70: =IF(A70<>"",MAX(IF(G70<C70,C70-G70,0)+IF(F70<E70,E70-F70,0),0),0) -> 0 | J70: =IF(D70>C70,"Vyúčtované prostriedky nemôžu byť väčšie ako poskytnuté. Opravte v hárku ""Doklady""","") | K70: =Doklady!F18 | L70: =IF(A70<>"",INDEX(FP!H:H,Doklady!B$2+(ROW()-52)),"") | M70: =K70&L70
A71: =Doklady!D19 | B71: =Doklady!H19 | C71: =IF(A71<>"",INDEX(FP!D:D,Doklady!B$2+(ROW()-53)),"") | D71: =IF(A71<>"",Doklady!I19-Doklady!J19,"") | E71: =IF(A71<>"",MIN(D71,C71)*Doklady!C19/(1-Doklady!C19),"") | F71: =IF(A71<>"",Doklady!J19,"") | G71: =+IFERROR(HLOOKUP(IF(RIGHT(B71,15)="bežné transfery",LEFT(B71,LEN(B71)-18),0),$J$40:$K$42,3,0),MIN(C71,D71)) -> 0 | I71: =IF(A71<>"",MAX(IF(G71<C71,C71-G71,0)+IF(F71<E71,E71-F71,0),0),0) -> 0 | J71: =IF(D71>C71,"Vyúčtované prostriedky nemôžu byť väčšie ako poskytnuté. Opravte v hárku ""Doklady""","") | K71: =Doklady!F19 | L71: =IF(A71<>"",INDEX(FP!H:H,Doklady!B$2+(ROW()-52)),"") | M71: =K71&L71
A72: =Doklady!D20 | B72: =Doklady!H20 | C72: =IF(A72<>"",INDEX(FP!D:D,Doklady!B$2+(ROW()-53)),"") | D72: =IF(A72<>"",Doklady!I20-Doklady!J20,"") | E72: =IF(A72<>"",MIN(D72,C72)*Doklady!C20/(1-Doklady!C20),"") | F72: =IF(A72<>"",Doklady!J20,"") | G72: =+IFERROR(HLOOKUP(IF(RIGHT(B72,15)="bežné transfery",LEFT(B72,LEN(B72)-18),0),$J$40:$K$42,3,0),MIN(C72,D72)) -> 0 | I72: =IF(A72<>"",MAX(IF(G72<C72,C72-G72,0)+IF(F72<E72,E72-F72,0),0),0) -> 0 | J72: =IF(D72>C72,"Vyúčtované prostriedky nemôžu byť väčšie ako poskytnuté. Opravte v hárku ""Doklady""","") | K72: =Doklady!F20 | L72: =IF(A72<>"",INDEX(FP!H:H,Doklady!B$2+(ROW()-52)),"") | M72: =K72&L72
A73: =Doklady!D21 | B73: =Doklady!H21 | C73: =IF(A73<>"",INDEX(FP!D:D,Doklady!B$2+(ROW()-53)),"") | D73: =IF(A73<>"",Doklady!I21-Doklady!J21,"") | E73: =IF(A73<>"",MIN(D73,C73)*Doklady!C21/(1-Doklady!C21),"") | F73: =IF(A73<>"",Doklady!J21,"") | G73: =+IFERROR(HLOOKUP(IF(RIGHT(B73,15)="bežné transfery",LEFT(B73,LEN(B73)-18),0),$J$40:$K$42,3,0),MIN(C73,D73)) -> 0 | I73: =IF(A73<>"",MAX(IF(G73<C73,C73-G73,0)+IF(F73<E73,E73-F73,0),0),0) -> 0 | J73: =IF(D73>C73,"Vyúčtované prostriedky nemôžu byť väčšie ako poskytnuté. Opravte v hárku ""Doklady""","") | K73: =Doklady!F21 | L73: =IF(A73<>"",INDEX(FP!H:H,Doklady!B$2+(ROW()-52)),"") | M73: =K73&L73
A74: =Doklady!D22 | B74: =Doklady!H22 | C74: =IF(A74<>"",INDEX(FP!D:D,Doklady!B$2+(ROW()-53)),"") | D74: =IF(A74<>"",Doklady!I22-Doklady!J22,"") | E74: =IF(A74<>"",MIN(D74,C74)*Doklady!C22/(1-Doklady!C22),"") | F74: =IF(A74<>"",Doklady!J22,"") | G74: =+IFERROR(HLOOKUP(IF(RIGHT(B74,15)="bežné transfery",LEFT(B74,LEN(B74)-18),0),$J$40:$K$42,3,0),MIN(C74,D74)) -> 0 | I74: =IF(A74<>"",MAX(IF(G74<C74,C74-G74,0)+IF(F74<E74,E74-F74,0),0),0) -> 0 | J74: =IF(D74>C74,"Vyúčtované prostriedky nemôžu byť väčšie ako poskytnuté. Opravte v hárku ""Doklady""","") | K74: =Doklady!F22 | L74: =IF(A74<>"",INDEX(FP!H:H,Doklady!B$2+(ROW()-52)),"") | M74: =K74&L74
A75: =Doklady!D23 | B75: =Doklady!H23 | C75: =IF(A75<>"",INDEX(FP!D:D,Doklady!B$2+(ROW()-53)),"") | D75: =IF(A75<>"",Doklady!I23-Doklady!J23,"") | E75: =IF(A75<>"",MIN(D75,C75)*Doklady!C23/(1-Doklady!C23),"") | F75: =IF(A75<>"",Doklady!J23,"") | G75: =+IFERROR(HLOOKUP(IF(RIGHT(B75,15)="bežné transfery",LEFT(B75,LEN(B75)-18),0),$J$40:$K$42,3,0),MIN(C75,D75)) -> 0 | I75: =IF(A75<>"",MAX(IF(G75<C75,C75-G75,0)+IF(F75<E75,E75-F75,0),0),0) -> 0 | J75: =IF(D75>C75,"Vyúčtované prostriedky nemôžu byť väčšie ako poskytnuté. Opravte v hárku ""Doklady""","") | K75: =Doklady!F23 | L75: =IF(A75<>"",INDEX(FP!H:H,Doklady!B$2+(ROW()-52)),"") | M75: =K75&L75
A76: =Doklady!D24 | B76: =Doklady!H24 | C76: =IF(A76<>"",INDEX(FP!D:D,Doklady!B$2+(ROW()-53)),"") | D76: =IF(A76<>"",Doklady!I24-Doklady!J24,"") | E76: =IF(A76<>"",MIN(D76,C76)*Doklady!C24/(1-Doklady!C24),"") | F76: =IF(A76<>"",Doklady!J24,"") | G76: =+IFERROR(HLOOKUP(IF(RIGHT(B76,15)="bežné transfery",LEFT(B76,LEN(B76)-18),0),$J$40:$K$42,3,0),MIN(C76,D76)) -> 0 | I76: =IF(A76<>"",MAX(IF(G76<C76,C76-G76,0)+IF(F76<E76,E76-F76,0),0),0) -> 0 | J76: =IF(D76>C76,"Vyúčtované prostriedky nemôžu byť väčšie ako poskytnuté. Opravte v hárku ""Doklady""","") | K76: =Doklady!F24 | L76: =IF(A76<>"",INDEX(FP!H:H,Doklady!B$2+(ROW()-52)),"") | M76: =K76&L76
... A128: =Doklady!D76 | B128: =Doklady!H76 | C128: =IF(A128<>"",INDEX(FP!D:D,Doklady!B$2+(ROW()-53)),"") | D128: =IF(A128<>"",Doklady!I76-Doklady!J76,"") | E128: =IF(A128<>"",MIN(D128,C128)*Doklady!C76/(1-Doklady!C76),"") | F128: =IF(A128<>"",Doklady!J76,"") | G128: =+IFERROR(HLOOKUP(IF(RIGHT(B128,15)="bežné transfery",LEFT(B128,LEN(B128)-18),0),$J$40:$K$42,3,0),MIN(C128,D128)) -> 0 | I128: =IF(A128<>"",MAX(IF(G128<C128,C128-G128,0)+IF(F128<E128,E128-F128,0),0),0) -> 0 | J128: =IF(D128>C128,"Vyúčtované prostriedky nemôžu byť väčšie ako poskytnuté. Opravte v hárku ""Doklady""","") | K128: =Doklady!F76 | L128: =IF(A128<>"",INDEX(FP!H:H,Doklady!B$2+(ROW()-52)),"") | M128: =K128&L128
J129: =IF(D129>C129,"Vyúčtované prostriedky nemôžu byť väčšie ako poskytnuté. Opravte v hárku ""Doklady""","") | K129: =Doklady!F77 | L129: =IF(A129<>"",INDEX(FP!H:H,Doklady!B$2+(ROW()-52)),"") | M129: =K129&L129
A130: =Doklady!D66 | B130: SPOLU | C130: =SUM(C53:C129) -> 121229 | D130: =SUM(D53:D129) -> 71965.74 | E130: =SUM(E53:E129) -> 0 | F130: =SUM(F53:F129) -> 0 | G130: =SUM(G53:G129) -> 71965.74 | H130: =SUM(H53:H129) -> 0 | I130: =SUM(I53:I129) -> 49263.26 | J130: =IF(D130>C130,"Vyúčtované prostriedky nemôžu byť väčšie ako poskytnuté. Opravte v hárku ""Doklady""","")
A132: Čestne vyhlasujem, že
A133: a) všetky uvedené údaje sú pravdivé,
A134: b) dolu podpísaná osoba/osoby je oprávnená/sú oprávnené v súlade so stanovami/zriaďovacou listinou na podpis vyúčtovania finančných prostriedkov poskytnutých v roku 2026,
A135: c) toto vytlačené a podpísané vyúčtovanie je zhodné s hárkom, ktorý sme zaslali na adresu ziadosti.sport@mincrs.sk dňa ....................... o .......... hod. ........ min.
A137: Súhlasím so zhromažďovaním, spracovávaním a zverejňovaním poskytnutých údajov.
A139: Dátum:
B141: Kontaktná osoba zodpovedná za vyplnený formulár meno a priezvisko: e-mail: tel. kontakt (mobil): | D141: Meno, priezvisko a podpis štatutárneho zástupcu/zástupcov oprávneného/oprávnených na podpis žiadosti a zmluvy o poskytnutí finančných prostriedkov v súlade so stanovami, resp. zriaďovacou listinou

Sheet Doklady
A1: =IF(ROW()<=B$3,INDEX(FP!F:F,B$2+ROW()-1)&" - "&INDEX(FP!C:C,B$2+ROW()-1),"") -> a - moderný päťboj - bežné transfery | B1: =INDEX(Adr!A:A,B102+1) -> 30788714 | C1: =IF(ROW()<=B$3,INDEX(FP!E:E,B$2+ROW()-1),"") -> 0 | D1: =IF(ROW()<=B$3,INDEX(FP!F:F,B$2+ROW()-1),"") -> a | F1: =IF(ROW()<=B$3,INDEX(FP!G:G,B$2+ROW()-1),"") -> 026 02 | H1: =IF(ROW()<=B$3,INDEX(FP!C:C,B$2+ROW()-1),"") -> moderný päťboj - bežné transfery | I1: =IF(ROW()<=B$3,SUMIF(A$107:A$10053,A1,I$107:I$10053),"") -> 71965.74 | J1: =IF(ROW()<=B$3,SUMIFS(I$103:I$50053,A$103:A$50053,K1,J$103:J$50053,L1),"") -> 0 | K1: =$A1 -> a - moderný päťboj - bežné transfery | L1: 99
A2: =IF(ROW()<=B$3,INDEX(FP!F:F,B$2+ROW()-1)&" - "&INDEX(FP!C:C,B$2+ROW()-1),"") | B2: =MATCH(B1,FP!A:A,0) -> 406 | C2: =IF(ROW()<=B$3,INDEX(FP!E:E,B$2+ROW()-1),"") | D2: =IF(ROW()<=B$3,INDEX(FP!F:F,B$2+ROW()-1),"") | F2: =IF(ROW()<=B$3,INDEX(FP!G:G,B$2+ROW()-1),"") | H2: =IF(ROW()<=B$3,INDEX(FP!C:C,B$2+ROW()-1),"") | I2: =IF(ROW()<=B$3,SUMIF(A$107:A$10053,A2,I$107:I$10053),"") | J2: =IF(ROW()<=B$3,SUMIFS(I$103:I$50053,A$103:A$50053,K2,J$103:J$50053,L2),"") | K2: =$A2 | L2: 99 | M2: AAA | N2: HHH
A3: =IF(ROW()<=B$3,INDEX(FP!F:F,B$2+ROW()-1)&" - "&INDEX(FP!C:C,B$2+ROW()-1),"") | B3: =COUNTIF(FP!A:A,Doklady!B1) -> 1 | C3: =IF(ROW()<=B$3,INDEX(FP!E:E,B$2+ROW()-1),"") | D3: =IF(ROW()<=B$3,INDEX(FP!F:F,B$2+ROW()-1),"") | F3: =IF(ROW()<=B$3,INDEX(FP!G:G,B$2+ROW()-1),"") | H3: =IF(ROW()<=B$3,INDEX(FP!C:C,B$2+ROW()-1),"") | I3: =IF(ROW()<=B$3,SUMIF(A$107:A$10053,A3,I$107:I$10053),"") | J3: =IF(ROW()<=B$3,SUMIFS(I$103:I$50053,A$103:A$50053,K3,J$103:J$50053,L3),"") | K3: =$A3 | L3: 99 | M3: =$A2 | N3: 99
A4: =IF(ROW()<=B$3,INDEX(FP!F:F,B$2+ROW()-1)&" - "&INDEX(FP!C:C,B$2+ROW()-1),"") | C4: =IF(ROW()<=B$3,INDEX(FP!E:E,B$2+ROW()-1),"") | D4: =IF(ROW()<=B$3,INDEX(FP!F:F,B$2+ROW()-1),"") | F4: =IF(ROW()<=B$3,INDEX(FP!G:G,B$2+ROW()-1),"") | H4: =IF(ROW()<=B$3,INDEX(FP!C:C,B$2+ROW()-1),"") | I4: =IF(ROW()<=B$3,SUMIF(A$107:A$10053,A4,I$107:I$10053),"") | J4: =IF(ROW()<=B$3,SUMIFS(I$103:I$50053,A$103:A$50053,K4,J$103:J$50053,L4),"") | K4: =$A4 | L4: 99 | M4: AAA | N4: HHH
A5: =IF(ROW()<=B$3,INDEX(FP!F:F,B$2+ROW()-1)&" - "&INDEX(FP!C:C,B$2+ROW()-1),"") | C5: =IF(ROW()<=B$3,INDEX(FP!E:E,B$2+ROW()-1),"") | D5: =IF(ROW()<=B$3,INDEX(FP!F:F,B$2+ROW()-1),"") | F5: =IF(ROW()<=B$3,INDEX(FP!G:G,B$2+ROW()-1),"") | H5: =IF(ROW()<=B$3,INDEX(FP!C:C,B$2+ROW()-1),"") | I5: =IF(ROW()<=B$3,SUMIF(A$107:A$10053,A5,I$107:I$10053),"") | J5: =IF(ROW()<=B$3,SUMIFS(I$103:I$50053,A$103:A$50053,K5,J$103:J$50053,L5),"") | K5: =$A5 | L5: 99 | M5: =$A4 | N5: 99
A6: =IF(ROW()<=B$3,INDEX(FP!F:F,B$2+ROW()-1)&" - "&INDEX(FP!C:C,B$2+ROW()-1),"") | C6: =IF(ROW()<=B$3,INDEX(FP!E:E,B$2+ROW()-1),"") | D6: =IF(ROW()<=B$3,INDEX(FP!F:F,B$2+ROW()-1),"") | F6: =IF(ROW()<=B$3,INDEX(FP!G:G,B$2+ROW()-1),"") | H6: =IF(ROW()<=B$3,INDEX(FP!C:C,B$2+ROW()-1),"") | I6: =IF(ROW()<=B$3,SUMIF(A$107:A$10053,A6,I$107:I$10053),"") | J6: =IF(ROW()<=B$3,SUMIFS(I$103:I$50053,A$103:A$50053,K6,J$103:J$50053,L6),"") | K6: =$A6 | L6: 99 | M6: AAA | N6: HHH
A7: =IF(ROW()<=B$3,INDEX(FP!F:F,B$2+ROW()-1)&" - "&INDEX(FP!C:C,B$2+ROW()-1),"") | C7: =IF(ROW()<=B$3,INDEX(FP!E:E,B$2+ROW()-1),"") | D7: =IF(ROW()<=B$3,INDEX(FP!F:F,B$2+ROW()-1),"") | F7: =IF(ROW()<=B$3,INDEX(FP!G:G,B$2+ROW()-1),"") | H7: =IF(ROW()<=B$3,INDEX(FP!C:C,B$2+ROW()-1),"") | I7: =IF(ROW()<=B$3,SUMIF(A$107:A$10053,A7,I$107:I$10053),"") | J7: =IF(ROW()<=B$3,SUMIFS(I$103:I$50053,A$103:A$50053,K7,J$103:J$50053,L7),"") | K7: =$A7 | L7: 99 | M7: =$A6 | N7: 99
A8: =IF(ROW()<=B$3,INDEX(FP!F:F,B$2+ROW()-1)&" - "&INDEX(FP!C:C,B$2+ROW()-1),"") | C8: =IF(ROW()<=B$3,INDEX(FP!E:E,B$2+ROW()-1),"") | D8: =IF(ROW()<=B$3,INDEX(FP!F:F,B$2+ROW()-1),"") | F8: =IF(ROW()<=B$3,INDEX(FP!G:G,B$2+ROW()-1),"") | H8: =IF(ROW()<=B$3,INDEX(FP!C:C,B$2+ROW()-1),"") | I8: =IF(ROW()<=B$3,SUMIF(A$107:A$10053,A8,I$107:I$10053),"") | J8: =IF(ROW()<=B$3,SUMIFS(I$103:I$50053,A$103:A$50053,K8,J$103:J$50053,L8),"") | K8: =$A8 | L8: 99 | M8: AAA | N8: HHH
A9: =IF(ROW()<=B$3,INDEX(FP!F:F,B$2+ROW()-1)&" - "&INDEX(FP!C:C,B$2+ROW()-1),"") | C9: =IF(ROW()<=B$3,INDEX(FP!E:E,B$2+ROW()-1),"") | D9: =IF(ROW()<=B$3,INDEX(FP!F:F,B$2+ROW()-1),"") | F9: =IF(ROW()<=B$3,INDEX(FP!G:G,B$2+ROW()-1),"") | H9: =IF(ROW()<=B$3,INDEX(FP!C:C,B$2+ROW()-1),"") | I9: =IF(ROW()<=B$3,SUMIF(A$107:A$10053,A9,I$107:I$10053),"") | J9: =IF(ROW()<=B$3,SUMIFS(I$103:I$50053,A$103:A$50053,K9,J$103:J$50053,L9),"") | K9: =$A9 | L9: 99 | M9: =$A8 | N9: 99
A10: =IF(ROW()<=B$3,INDEX(FP!F:F,B$2+ROW()-1)&" - "&INDEX(FP!C:C,B$2+ROW()-1),"") | C10: =IF(ROW()<=B$3,INDEX(FP!E:E,B$2+ROW()-1),"") | D10: =IF(ROW()<=B$3,INDEX(FP!F:F,B$2+ROW()-1),"") | F10: =IF(ROW()<=B$3,INDEX(FP!G:G,B$2+ROW()-1),"") | H10: =IF(ROW()<=B$3,INDEX(FP!C:C,B$2+ROW()-1),"") | I10: =IF(ROW()<=B$3,SUMIF(A$107:A$10053,A10,I$107:I$10053),"") | J10: =IF(ROW()<=B$3,SUMIFS(I$103:I$50053,A$103:A$50053,K10,J$103:J$50053,L10),"") | K10: =$A10 | L10: 99 | M10: AAA | N10: HHH
A11: =IF(ROW()<=B$3,INDEX(FP!F:F,B$2+ROW()-1)&" - "&INDEX(FP!C:C,B$2+ROW()-1),"") | C11: =IF(ROW()<=B$3,INDEX(FP!E:E,B$2+ROW()-1),"") | D11: =IF(ROW()<=B$3,INDEX(FP!F:F,B$2+ROW()-1),"") | F11: =IF(ROW()<=B$3,INDEX(FP!G:G,B$2+ROW()-1),"") | H11: =IF(ROW()<=B$3,INDEX(FP!C:C,B$2+ROW()-1),"") | I11: =IF(ROW()<=B$3,SUMIF(A$107:A$10053,A11,I$107:I$10053),"") | J11: =IF(ROW()<=B$3,SUMIFS(I$103:I$50053,A$103:A$50053,K11,J$103:J$50053,L11),"") | K11: =$A11 | L11: 99 | M11: =$A10 | N11: 99
A12: =IF(ROW()<=B$3,INDEX(FP!F:F,B$2+ROW()-1)&" - "&INDEX(FP!C:C,B$2+ROW()-1),"") | C12: =IF(ROW()<=B$3,INDEX(FP!E:E,B$2+ROW()-1),"") | D12: =IF(ROW()<=B$3,INDEX(FP!F:F,B$2+ROW()-1),"") | F12: =IF(ROW()<=B$3,INDEX(FP!G:G,B$2+ROW()-1),"") | H12: =IF(ROW()<=B$3,INDEX(FP!C:C,B$2+ROW()-1),"") | I12: =IF(ROW()<=B$3,SUMIF(A$107:A$10053,A12,I$107:I$10053),"") | J12: =IF(ROW()<=B$3,SUMIFS(I$103:I$50053,A$103:A$50053,K12,J$103:J$50053,L12),"") | K12: =$A12 | L12: 99 | M12: AAA | N12: HHH
A13: =IF(ROW()<=B$3,INDEX(FP!F:F,B$2+ROW()-1)&" - "&INDEX(FP!C:C,B$2+ROW()-1),"") | C13: =IF(ROW()<=B$3,INDEX(FP!E:E,B$2+ROW()-1),"") | D13: =IF(ROW()<=B$3,INDEX(FP!F:F,B$2+ROW()-1),"") | F13: =IF(ROW()<=B$3,INDEX(FP!G:G,B$2+ROW()-1),"") | H13: =IF(ROW()<=B$3,INDEX(FP!C:C,B$2+ROW()-1),"") | I13: =IF(ROW()<=B$3,SUMIF(A$107:A$10053,A13,I$107:I$10053),"") | J13: =IF(ROW()<=B$3,SUMIFS(I$103:I$50053,A$103:A$50053,K13,J$103:J$50053,L13),"") | K13: =$A13 | L13: 99 | M13: =$A12 | N13: 99
A14: =IF(ROW()<=B$3,INDEX(FP!F:F,B$2+ROW()-1)&" - "&INDEX(FP!C:C,B$2+ROW()-1),"") | C14: =IF(ROW()<=B$3,INDEX(FP!E:E,B$2+ROW()-1),"") | D14: =IF(ROW()<=B$3,INDEX(FP!F:F,B$2+ROW()-1),"") | F14: =IF(ROW()<=B$3,INDEX(FP!G:G,B$2+ROW()-1),"") | H14: =IF(ROW()<=B$3,INDEX(FP!C:C,B$2+ROW()-1),"") | I14: =IF(ROW()<=B$3,SUMIF(A$107:A$10053,A14,I$107:I$10053),"") | J14: =IF(ROW()<=B$3,SUMIFS(I$103:I$50053,A$103:A$50053,K14,J$103:J$50053,L14),"") | K14: =$A14 | L14: 99 | M14: AAA | N14: HHH
A15: =IF(ROW()<=B$3,INDEX(FP!F:F,B$2+ROW()-1)&" - "&INDEX(FP!C:C,B$2+ROW()-1),"") | C15: =IF(ROW()<=B$3,INDEX(FP!E:E,B$2+ROW()-1),"") | D15: =IF(ROW()<=B$3,INDEX(FP!F:F,B$2+ROW()-1),"") | F15: =IF(ROW()<=B$3,INDEX(FP!G:G,B$2+ROW()-1),"") | H15: =IF(ROW()<=B$3,INDEX(FP!C:C,B$2+ROW()-1),"") | I15: =IF(ROW()<=B$3,SUMIF(A$107:A$10053,A15,I$107:I$10053),"") | J15: =IF(ROW()<=B$3,SUMIFS(I$103:I$50053,A$103:A$50053,K15,J$103:J$50053,L15),"") | K15: =$A15 | L15: 99 | M15: =$A14 | N15: 99
A16: =IF(ROW()<=B$3,INDEX(FP!F:F,B$2+ROW()-1)&" - "&INDEX(FP!C:C,B$2+ROW()-1),"") | C16: =IF(ROW()<=B$3,INDEX(FP!E:E,B$2+ROW()-1),"") | D16: =IF(ROW()<=B$3,INDEX(FP!F:F,B$2+ROW()-1),"") | F16: =IF(ROW()<=B$3,INDEX(FP!G:G,B$2+ROW()-1),"") | H16: =IF(ROW()<=B$3,INDEX(FP!C:C,B$2+ROW()-1),"") | I16: =IF(ROW()<=B$3,SUMIF(A$107:A$10053,A16,I$107:I$10053),"") | J16: =IF(ROW()<=B$3,SUMIFS(I$103:I$50053,A$103:A$50053,K16,J$103:J$50053,L16),"") | K16: =$A16 | L16: 99 | M16: AAA | N16: HHH
A17: =IF(ROW()<=B$3,INDEX(FP!F:F,B$2+ROW()-1)&" - "&INDEX(FP!C:C,B$2+ROW()-1),"") | C17: =IF(ROW()<=B$3,INDEX(FP!E:E,B$2+ROW()-1),"") | D17: =IF(ROW()<=B$3,INDEX(FP!F:F,B$2+ROW()-1),"") | F17: =IF(ROW()<=B$3,INDEX(FP!G:G,B$2+ROW()-1),"") | H17: =IF(ROW()<=B$3,INDEX(FP!C:C,B$2+ROW()-1),"") | I17: =IF(ROW()<=B$3,SUMIF(A$107:A$10053,A17,I$107:I$10053),"") | J17: =IF(ROW()<=B$3,SUMIFS(I$103:I$50053,A$103:A$50053,K17,J$103:J$50053,L17),"") | K17: =$A17 | L17: 99 | M17: =$A16 | N17: 99
A18: =IF(ROW()<=B$3,INDEX(FP!F:F,B$2+ROW()-1)&" - "&INDEX(FP!C:C,B$2+ROW()-1),"") | C18: =IF(ROW()<=B$3,INDEX(FP!E:E,B$2+ROW()-1),"") | D18: =IF(ROW()<=B$3,INDEX(FP!F:F,B$2+ROW()-1),"") | F18: =IF(ROW()<=B$3,INDEX(FP!G:G,B$2+ROW()-1),"") | H18: =IF(ROW()<=B$3,INDEX(FP!C:C,B$2+ROW()-1),"") | I18: =IF(ROW()<=B$3,SUMIF(A$107:A$10053,A18,I$107:I$10053),"") | J18: =IF(ROW()<=B$3,SUMIFS(I$103:I$50053,A$103:A$50053,K18,J$103:J$50053,L18),"") | K18: =$A18 | L18: 99 | M18: AAA | N18: HHH
A19: =IF(ROW()<=B$3,INDEX(FP!F:F,B$2+ROW()-1)&" - "&INDEX(FP!C:C,B$2+ROW()-1),"") | C19: =IF(ROW()<=B$3,INDEX(FP!E:E,B$2+ROW()-1),"") | D19: =IF(ROW()<=B$3,INDEX(FP!F:F,B$2+ROW()-1),"") | F19: =IF(ROW()<=B$3,INDEX(FP!G:G,B$2+ROW()-1),"") | H19: =IF(ROW()<=B$3,INDEX(FP!C:C,B$2+ROW()-1),"") | I19: =IF(ROW()<=B$3,SUMIF(A$107:A$10053,A19,I$107:I$10053),"") | J19: =IF(ROW()<=B$3,SUMIFS(I$103:I$50053,A$103:A$50053,K19,J$103:J$50053,L19),"") | K19: =$A19 | L19: 99 | M19: =$A18 | N19: 99
A20: =IF(ROW()<=B$3,INDEX(FP!F:F,B$2+ROW()-1)&" - "&INDEX(FP!C:C,B$2+ROW()-1),"") | C20: =IF(ROW()<=B$3,INDEX(FP!E:E,B$2+ROW()-1),"") | D20: =IF(ROW()<=B$3,INDEX(FP!F:F,B$2+ROW()-1),"") | F20: =IF(ROW()<=B$3,INDEX(FP!G:G,B$2+ROW()-1),"") | H20: =IF(ROW()<=B$3,INDEX(FP!C:C,B$2+ROW()-1),"") | I20: =IF(ROW()<=B$3,SUMIF(A$107:A$10053,A20,I$107:I$10053),"") | J20: =IF(ROW()<=B$3,SUMIFS(I$103:I$50053,A$103:A$50053,K20,J$103:J$50053,L20),"") | K20: =$A20 | L20: 99 | M20: AAA | N20: HHH
A21: =IF(ROW()<=B$3,INDEX(FP!F:F,B$2+ROW()-1)&" - "&INDEX(FP!C:C,B$2+ROW()-1),"") | C21: =IF(ROW()<=B$3,INDEX(FP!E:E,B$2+ROW()-1),"") | D21: =IF(ROW()<=B$3,INDEX(FP!F:F,B$2+ROW()-1),"") | F21: =IF(ROW()<=B$3,INDEX(FP!G:G,B$2+ROW()-1),"") | H21: =IF(ROW()<=B$3,INDEX(FP!C:C,B$2+ROW()-1),"") | I21: =IF(ROW()<=B$3,SUMIF(A$107:A$10053,A21,I$107:I$10053),"") | J21: =IF(ROW()<=B$3,SUMIFS(I$103:I$50053,A$103:A$50053,K21,J$103:J$50053,L21),"") | K21: =$A21 | L21: 99 | M21: =$A20 | N21: 99
A22: =IF(ROW()<=B$3,INDEX(FP!F:F,B$2+ROW()-1)&" - "&INDEX(FP!C:C,B$2+ROW()-1),"") | C22: =IF(ROW()<=B$3,INDEX(FP!E:E,B$2+ROW()-1),"") | D22: =IF(ROW()<=B$3,INDEX(FP!F:F,B$2+ROW()-1),"") | F22: =IF(ROW()<=B$3,INDEX(FP!G:G,B$2+ROW()-1),"") | H22: =IF(ROW()<=B$3,INDEX(FP!C:C,B$2+ROW()-1),"") | I22: =IF(ROW()<=B$3,SUMIF(A$107:A$10053,A22,I$107:I$10053),"") | J22: =IF(ROW()<=B$3,SUMIFS(I$103:I$50053,A$103:A$50053,K22,J$103:J$50053,L22),"") | K22: =$A22 | L22: 99 | M22: AAA | N22: HHH
A23: =IF(ROW()<=B$3,INDEX(FP!F:F,B$2+ROW()-1)&" - "&INDEX(FP!C:C,B$2+ROW()-1),"") | C23: =IF(ROW()<=B$3,INDEX(FP!E:E,B$2+ROW()-1),"") | D23: =IF(ROW()<=B$3,INDEX(FP!F:F,B$2+ROW()-1),"") | F23: =IF(ROW()<=B$3,INDEX(FP!G:G,B$2+ROW()-1),"") | H23: =IF(ROW()<=B$3,INDEX(FP!C:C,B$2+ROW()-1),"") | I23: =IF(ROW()<=B$3,SUMIF(A$107:A$10053,A23,I$107:I$10053),"") | J23: =IF(ROW()<=B$3,SUMIFS(I$103:I$50053,A$103:A$50053,K23,J$103:J$50053,L23),"") | K23: =$A23 | L23: 99 | M23: =$A22 | N23: 99
A24: =IF(ROW()<=B$3,INDEX(FP!F:F,B$2+ROW()-1)&" - "&INDEX(FP!C:C,B$2+ROW()-1),"") | C24: =IF(ROW()<=B$3,INDEX(FP!E:E,B$2+ROW()-1),"") | D24: =IF(ROW()<=B$3,INDEX(FP!F:F,B$2+ROW()-1),"") | F24: =IF(ROW()<=B$3,INDEX(FP!G:G,B$2+ROW()-1),"") | H24: =IF(ROW()<=B$3,INDEX(FP!C:C,B$2+ROW()-1),"") | I24: =IF(ROW()<=B$3,SUMIF(A$107:A$10053,A24,I$107:I$10053),"") | J24: =IF(ROW()<=B$3,SUMIFS(I$103:I$50053,A$103:A$50053,K24,J$103:J$50053,L24),"") | K24: =$A24 | L24: 99 | M24: AAA | N24: HHH
A25: =IF(ROW()<=B$3,INDEX(FP!F:F,B$2+ROW()-1)&" - "&INDEX(FP!C:C,B$2+ROW()-1),"") | C25: =IF(ROW()<=B$3,INDEX(FP!E:E,B$2+ROW()-1),"") | D25: =IF(ROW()<=B$3,INDEX(FP!F:F,B$2+ROW()-1),"") | F25: =IF(ROW()<=B$3,INDEX(FP!G:G,B$2+ROW()-1),"") | H25: =IF(ROW()<=B$3,INDEX(FP!C:C,B$2+ROW()-1),"") | I25: =IF(ROW()<=B$3,SUMIF(A$107:A$10053,A25,I$107:I$10053),"") | J25: =IF(ROW()<=B$3,SUMIFS(I$103:I$50053,A$103:A$50053,K25,J$103:J$50053,L25),"") | K25: =$A25 | L25: 99 | M25: =$A24 | N25: 99
A26: =IF(ROW()<=B$3,INDEX(FP!F:F,B$2+ROW()-1)&" - "&INDEX(FP!C:C,B$2+ROW()-1),"") | C26: =IF(ROW()<=B$3,INDEX(FP!E:E,B$2+ROW()-1),"") | D26: =IF(ROW()<=B$3,INDEX(FP!F:F,B$2+ROW()-1),"") | F26: =IF(ROW()<=B$3,INDEX(FP!G:G,B$2+ROW()-1),"") | H26: =IF(ROW()<=B$3,INDEX(FP!C:C,B$2+ROW()-1),"") | I26: =IF(ROW()<=B$3,SUMIF(A$107:A$10053,A26,I$107:I$10053),"") | J26: =IF(ROW()<=B$3,SUMIFS(I$103:I$50053,A$103:A$50053,K26,J$103:J$50053,L26),"") | K26: =$A26 | L26: 99 | M26: AAA | N26: HHH
A27: =IF(ROW()<=B$3,INDEX(FP!F:F,B$2+ROW()-1)&" - "&INDEX(FP!C:C,B$2+ROW()-1),"") | C27: =IF(ROW()<=B$3,INDEX(FP!E:E,B$2+ROW()-1),"") | D27: =IF(ROW()<=B$3,INDEX(FP!F:F,B$2+ROW()-1),"") | F27: =IF(ROW()<=B$3,INDEX(FP!G:G,B$2+ROW()-1),"") | H27: =IF(ROW()<=B$3,INDEX(FP!C:C,B$2+ROW()-1),"") | I27: =IF(ROW()<=B$3,SUMIF(A$107:A$10053,A27,I$107:I$10053),"") | J27: =IF(ROW()<=B$3,SUMIFS(I$103:I$50053,A$103:A$50053,K27,J$103:J$50053,L27),"") | K27: =$A27 | L27: 99 | M27: =$A26 | N27: 99
A28: =IF(ROW()<=B$3,INDEX(FP!F:F,B$2+ROW()-1)&" - "&INDEX(FP!C:C,B$2+ROW()-1),"") | C28: =IF(ROW()<=B$3,INDEX(FP!E:E,B$2+ROW()-1),"") | D28: =IF(ROW()<=B$3,INDEX(FP!F:F,B$2+ROW()-1),"") | F28: =IF(ROW()<=B$3,INDEX(FP!G:G,B$2+ROW()-1),"") | H28: =IF(ROW()<=B$3,INDEX(FP!C:C,B$2+ROW()-1),"") | I28: =IF(ROW()<=B$3,SUMIF(A$107:A$10053,A28,I$107:I$10053),"") | J28: =IF(ROW()<=B$3,SUMIFS(I$103:I$50053,A$103:A$50053,K28,J$103:J$50053,L28),"") | K28: =$A28 | L28: 99 | M28: AAA | N28: HHH
A29: =IF(ROW()<=B$3,INDEX(FP!F:F,B$2+ROW()-1)&" - "&INDEX(FP!C:C,B$2+ROW()-1),"") | C29: =IF(ROW()<=B$3,INDEX(FP!E:E,B$2+ROW()-1),"") | D29: =IF(ROW()<=B$3,INDEX(FP!F:F,B$2+ROW()-1),"") | F29: =IF(ROW()<=B$3,INDEX(FP!G:G,B$2+ROW()-1),"") | H29: =IF(ROW()<=B$3,INDEX(FP!C:C,B$2+ROW()-1),"") | I29: =IF(ROW()<=B$3,SUMIF(A$107:A$10053,A29,I$107:I$10053),"") | J29: =IF(ROW()<=B$3,SUMIFS(I$103:I$50053,A$103:A$50053,K29,J$103:J$50053,L29),"") | K29: =$A29 | L29: 99 | M29: =$A28 | N29: 99
A30: =IF(ROW()<=B$3,INDEX(FP!F:F,B$2+ROW()-1)&" - "&INDEX(FP!C:C,B$2+ROW()-1),"") | C30: =IF(ROW()<=B$3,INDEX(FP!E:E,B$2+ROW()-1),"") | D30: =IF(ROW()<=B$3,INDEX(FP!F:F,B$2+ROW()-1),"") | F30: =IF(ROW()<=B$3,INDEX(FP!G:G,B$2+ROW()-1),"") | H30: =IF(ROW()<=B$3,INDEX(FP!C:C,B$2+ROW()-1),"") | I30: =IF(ROW()<=B$3,SUMIF(A$107:A$10053,A30,I$107:I$10053),"") | J30: =IF(ROW()<=B$3,SUMIFS(I$103:I$50053,A$103:A$50053,K30,J$103:J$50053,L30),"") | K30: =$A30 | L30: 99 | M30: AAA | N30: HHH
A31: =IF(ROW()<=B$3,INDEX(FP!F:F,B$2+ROW()-1)&" - "&INDEX(FP!C:C,B$2+ROW()-1),"") | C31: =IF(ROW()<=B$3,INDEX(FP!E:E,B$2+ROW()-1),"") | D31: =IF(ROW()<=B$3,INDEX(FP!F:F,B$2+ROW()-1),"") | F31: =IF(ROW()<=B$3,INDEX(FP!G:G,B$2+ROW()-1),"") | H31: =IF(ROW()<=B$3,INDEX(FP!C:C,B$2+ROW()-1),"") | I31: =IF(ROW()<=B$3,SUMIF(A$107:A$10053,A31,I$107:I$10053),"") | J31: =IF(ROW()<=B$3,SUMIFS(I$103:I$50053,A$103:A$50053,K31,J$103:J$50053,L31),"") | K31: =$A31 | L31: 99 | M31: =$A30 | N31: 99
A32: =IF(ROW()<=B$3,INDEX(FP!F:F,B$2+ROW()-1)&" - "&INDEX(FP!C:C,B$2+ROW()-1),"") | C32: =IF(ROW()<=B$3,INDEX(FP!E:E,B$2+ROW()-1),"") | D32: =IF(ROW()<=B$3,INDEX(FP!F:F,B$2+ROW()-1),"") | F32: =IF(ROW()<=B$3,INDEX(FP!G:G,B$2+ROW()-1),"") | H32: =IF(ROW()<=B$3,INDEX(FP!C:C,B$2+ROW()-1),"") | I32: =IF(ROW()<=B$3,SUMIF(A$107:A$10053,A32,I$107:I$10053),"") | J32: =IF(ROW()<=B$3,SUMIFS(I$103:I$50053,A$103:A$50053,K32,J$103:J$50053,L32),"") | K32: =$A32 | L32: 99 | M32: AAA | N32: HHH
A33: =IF(ROW()<=B$3,INDEX(FP!F:F,B$2+ROW()-1)&" - "&INDEX(FP!C:C,B$2+ROW()-1),"") | C33: =IF(ROW()<=B$3,INDEX(FP!E:E,B$2+ROW()-1),"") | D33: =IF(ROW()<=B$3,INDEX(FP!F:F,B$2+ROW()-1),"") | F33: =IF(ROW()<=B$3,INDEX(FP!G:G,B$2+ROW()-1),"") | H33: =IF(ROW()<=B$3,INDEX(FP!C:C,B$2+ROW()-1),"") | I33: =IF(ROW()<=B$3,SUMIF(A$107:A$10053,A33,I$107:I$10053),"") | J33: =IF(ROW()<=B$3,SUMIFS(I$103:I$50053,A$103:A$50053,K33,J$103:J$50053,L33),"") | K33: =$A33 | L33: 99 | M33: =$A32 | N33: 99
A34: =IF(ROW()<=B$3,INDEX(FP!F:F,B$2+ROW()-1)&" - "&INDEX(FP!C:C,B$2+ROW()-1),"") | C34: =IF(ROW()<=B$3,INDEX(FP!E:E,B$2+ROW()-1),"") | D34: =IF(ROW()<=B$3,INDEX(FP!F:F,B$2+ROW()-1),"") | F34: =IF(ROW()<=B$3,INDEX(FP!G:G,B$2+ROW()-1),"") | H34: =IF(ROW()<=B$3,INDEX(FP!C:C,B$2+ROW()-1),"") | I34: =IF(ROW()<=B$3,SUMIF(A$107:A$10053,A34,I$107:I$10053),"") | J34: =IF(ROW()<=B$3,SUMIFS(I$103:I$50053,A$103:A$50053,K34,J$103:J$50053,L34),"") | K34: =$A34 | L34: 99 | M34: AAA | N34: HHH
A35: =IF(ROW()<=B$3,INDEX(FP!F:F,B$2+ROW()-1)&" - "&INDEX(FP!C:C,B$2+ROW()-1),"") | C35: =IF(ROW()<=B$3,INDEX(FP!E:E,B$2+ROW()-1),"") | D35: =IF(ROW()<=B$3,INDEX(FP!F:F,B$2+ROW()-1),"") | F35: =IF(ROW()<=B$3,INDEX(FP!G:G,B$2+ROW()-1),"") | H35: =IF(ROW()<=B$3,INDEX(FP!C:C,B$2+ROW()-1),"") | I35: =IF(ROW()<=B$3,SUMIF(A$107:A$10053,A35,I$107:I$10053),"") | J35: =IF(ROW()<=B$3,SUMIFS(I$103:I$50053,A$103:A$50053,K35,J$103:J$50053,L35),"") | K35: =$A35 | L35: 99 | M35: =$A34 | N35: 99
A36: =IF(ROW()<=B$3,INDEX(FP!F:F,B$2+ROW()-1)&" - "&INDEX(FP!C:C,B$2+ROW()-1),"") | C36: =IF(ROW()<=B$3,INDEX(FP!E:E,B$2+ROW()-1),"") | D36: =IF(ROW()<=B$3,INDEX(FP!F:F,B$2+ROW()-1),"") | F36: =IF(ROW()<=B$3,INDEX(FP!G:G,B$2+ROW()-1),"") | H36: =IF(ROW()<=B$3,INDEX(FP!C:C,B$2+ROW()-1),"") | I36: =IF(ROW()<=B$3,SUMIF(A$107:A$10053,A36,I$107:I$10053),"") | J36: =IF(ROW()<=B$3,SUMIFS(I$103:I$50053,A$103:A$50053,K36,J$103:J$50053,L36),"") | K36: =$A36 | L36: 99 | M36: AAA | N36: HHH
A37: =IF(ROW()<=B$3,INDEX(FP!F:F,B$2+ROW()-1)&" - "&INDEX(FP!C:C,B$2+ROW()-1),"") | C37: =IF(ROW()<=B$3,INDEX(FP!E:E,B$2+ROW()-1),"") | D37: =IF(ROW()<=B$3,INDEX(FP!F:F,B$2+ROW()-1),"") | F37: =IF(ROW()<=B$3,INDEX(FP!G:G,B$2+ROW()-1),"") | H37: =IF(ROW()<=B$3,INDEX(FP!C:C,B$2+ROW()-1),"") | I37: =IF(ROW()<=B$3,SUMIF(A$107:A$10053,A37,I$107:I$10053),"") | J37: =IF(ROW()<=B$3,SUMIFS(I$103:I$50053,A$103:A$50053,K37,J$103:J$50053,L37),"") | K37: =$A37 | L37: 99 | M37: =$A36 | N37: 99
A38: =IF(ROW()<=B$3,INDEX(FP!F:F,B$2+ROW()-1)&" - "&INDEX(FP!C:C,B$2+ROW()-1),"") | C38: =IF(ROW()<=B$3,INDEX(FP!E:E,B$2+ROW()-1),"") | D38: =IF(ROW()<=B$3,INDEX(FP!F:F,B$2+ROW()-1),"") | F38: =IF(ROW()<=B$3,INDEX(FP!G:G,B$2+ROW()-1),"") | H38: =IF(ROW()<=B$3,INDEX(FP!C:C,B$2+ROW()-1),"") | I38: =IF(ROW()<=B$3,SUMIF(A$107:A$10053,A38,I$107:I$10053),"") | J38: =IF(ROW()<=B$3,SUMIFS(I$103:I$50053,A$103:A$50053,K38,J$103:J$50053,L38),"") | K38: =$A38 | L38: 99 | M38: AAA | N38: HHH
A39: =IF(ROW()<=B$3,INDEX(FP!F:F,B$2+ROW()-1)&" - "&INDEX(FP!C:C,B$2+ROW()-1),"") | C39: =IF(ROW()<=B$3,INDEX(FP!E:E,B$2+ROW()-1),"") | D39: =IF(ROW()<=B$3,INDEX(FP!F:F,B$2+ROW()-1),"") | F39: =IF(ROW()<=B$3,INDEX(FP!G:G,B$2+ROW()-1),"") | H39: =IF(ROW()<=B$3,INDEX(FP!C:C,B$2+ROW()-1),"") | I39: =IF(ROW()<=B$3,SUMIF(A$107:A$10053,A39,I$107:I$10053),"") | J39: =IF(ROW()<=B$3,SUMIFS(I$103:I$50053,A$103:A$50053,K39,J$103:J$50053,L39),"") | K39: =$A39 | L39: 99 | M39: =$A38 | N39: 99
A40: =IF(ROW()<=B$3,INDEX(FP!F:F,B$2+ROW()-1)&" - "&INDEX(FP!C:C,B$2+ROW()-1),"") | C40: =IF(ROW()<=B$3,INDEX(FP!E:E,B$2+ROW()-1),"") | D40: =IF(ROW()<=B$3,INDEX(FP!F:F,B$2+ROW()-1),"") | F40: =IF(ROW()<=B$3,INDEX(FP!G:G,B$2+ROW()-1),"") | H40: =IF(ROW()<=B$3,INDEX(FP!C:C,B$2+ROW()-1),"") | I40: =IF(ROW()<=B$3,SUMIF(A$107:A$10053,A40,I$107:I$10053),"") | J40: =IF(ROW()<=B$3,SUMIFS(I$103:I$50053,A$103:A$50053,K40,J$103:J$50053,L40),"") | K40: =$A40 | L40: 99 | M40: AAA | N40: HHH
A41: =IF(ROW()<=B$3,INDEX(FP!F:F,B$2+ROW()-1)&" - "&INDEX(FP!C:C,B$2+ROW()-1),"") | C41: =IF(ROW()<=B$3,INDEX(FP!E:E,B$2+ROW()-1),"") | D41: =IF(ROW()<=B$3,INDEX(FP!F:F,B$2+ROW()-1),"") | F41: =IF(ROW()<=B$3,INDEX(FP!G:G,B$2+ROW()-1),"") | H41: =IF(ROW()<=B$3,INDEX(FP!C:C,B$2+ROW()-1),"") | I41: =IF(ROW()<=B$3,SUMIF(A$107:A$10053,A41,I$107:I$10053),"") | J41: =IF(ROW()<=B$3,SUMIFS(I$103:I$50053,A$103:A$50053,K41,J$103:J$50053,L41),"") | K41: =$A41 | L41: 99 | M41: =$A40 | N41: 99
A42: =IF(ROW()<=B$3,INDEX(FP!F:F,B$2+ROW()-1)&" - "&INDEX(FP!C:C,B$2+ROW()-1),"") | C42: =IF(ROW()<=B$3,INDEX(FP!E:E,B$2+ROW()-1),"") | D42: =IF(ROW()<=B$3,INDEX(FP!F:F,B$2+ROW()-1),"") | F42: =IF(ROW()<=B$3,INDEX(FP!G:G,B$2+ROW()-1),"") | H42: =IF(ROW()<=B$3,INDEX(FP!C:C,B$2+ROW()-1),"") | I42: =IF(ROW()<=B$3,SUMIF(A$107:A$10053,A42,I$107:I$10053),"") | J42: =IF(ROW()<=B$3,SUMIFS(I$103:I$50053,A$103:A$50053,K42,J$103:J$50053,L42),"") | K42: =$A42 | L42: 99 | M42: AAA | N42: HHH
A43: =IF(ROW()<=B$3,INDEX(FP!F:F,B$2+ROW()-1)&" - "&INDEX(FP!C:C,B$2+ROW()-1),"") | C43: =IF(ROW()<=B$3,INDEX(FP!E:E,B$2+ROW()-1),"") | D43: =IF(ROW()<=B$3,INDEX(FP!F:F,B$2+ROW()-1),"") | F43: =IF(ROW()<=B$3,INDEX(FP!G:G,B$2+ROW()-1),"") | H43: =IF(ROW()<=B$3,INDEX(FP!C:C,B$2+ROW()-1),"") | I43: =IF(ROW()<=B$3,SUMIF(A$107:A$10053,A43,I$107:I$10053),"") | J43: =IF(ROW()<=B$3,SUMIFS(I$103:I$50053,A$103:A$50053,K43,J$103:J$50053,L43),"") | K43: =$A43 | L43: 99 | M43: =$A42 | N43: 99
A44: =IF(ROW()<=B$3,INDEX(FP!F:F,B$2+ROW()-1)&" - "&INDEX(FP!C:C,B$2+ROW()-1),"") | C44: =IF(ROW()<=B$3,INDEX(FP!E:E,B$2+ROW()-1),"") | D44: =IF(ROW()<=B$3,INDEX(FP!F:F,B$2+ROW()-1),"") | F44: =IF(ROW()<=B$3,INDEX(FP!G:G,B$2+ROW()-1),"") | H44: =IF(ROW()<=B$3,INDEX(FP!C:C,B$2+ROW()-1),"") | I44: =IF(ROW()<=B$3,SUMIF(A$107:A$10053,A44,I$107:I$10053),"") | J44: =IF(ROW()<=B$3,SUMIFS(I$103:I$50053,A$103:A$50053,K44,J$103:J$50053,L44),"") | K44: =$A44 | L44: 99 | M44: AAA | N44: HHH
A45: =IF(ROW()<=B$3,INDEX(FP!F:F,B$2+ROW()-1)&" - "&INDEX(FP!C:C,B$2+ROW()-1),"") | C45: =IF(ROW()<=B$3,INDEX(FP!E:E,B$2+ROW()-1),"") | D45: =IF(ROW()<=B$3,INDEX(FP!F:F,B$2+ROW()-1),"") | F45: =IF(ROW()<=B$3,INDEX(FP!G:G,B$2+ROW()-1),"") | H45: =IF(ROW()<=B$3,INDEX(FP!C:C,B$2+ROW()-1),"") | I45: =IF(ROW()<=B$3,SUMIF(A$107:A$10053,A45,I$107:I$10053),"") | J45: =IF(ROW()<=B$3,SUMIFS(I$103:I$50053,A$103:A$50053,K45,J$103:J$50053,L45),"") | K45: =$A45 | L45: 99 | M45: =$A44 | N45: 99
A46: =IF(ROW()<=B$3,INDEX(FP!F:F,B$2+ROW()-1)&" - "&INDEX(FP!C:C,B$2+ROW()-1),"") | C46: =IF(ROW()<=B$3,INDEX(FP!E:E,B$2+ROW()-1),"") | D46: =IF(ROW()<=B$3,INDEX(FP!F:F,B$2+ROW()-1),"") | F46: =IF(ROW()<=B$3,INDEX(FP!G:G,B$2+ROW()-1),"") | H46: =IF(ROW()<=B$3,INDEX(FP!C:C,B$2+ROW()-1),"") | I46: =IF(ROW()<=B$3,SUMIF(A$107:A$10053,A46,I$107:I$10053),"") | J46: =IF(ROW()<=B$3,SUMIFS(I$103:I$50053,A$103:A$50053,K46,J$103:J$50053,L46),"") | K46: =$A46 | L46: 99 | M46: AAA | N46: HHH
A47: =IF(ROW()<=B$3,INDEX(FP!F:F,B$2+ROW()-1)&" - "&INDEX(FP!C:C,B$2+ROW()-1),"") | C47: =IF(ROW()<=B$3,INDEX(FP!E:E,B$2+ROW()-1),"") | D47: =IF(ROW()<=B$3,INDEX(FP!F:F,B$2+ROW()-1),"") | F47: =IF(ROW()<=B$3,INDEX(FP!G:G,B$2+ROW()-1),"") | H47: =IF(ROW()<=B$3,INDEX(FP!C:C,B$2+ROW()-1),"") | I47: =IF(ROW()<=B$3,SUMIF(A$107:A$10053,A47,I$107:I$10053),"") | J47: =IF(ROW()<=B$3,SUMIFS(I$103:I$50053,A$103:A$50053,K47,J$103:J$50053,L47),"") | K47: =$A47 | L47: 99 | M47: =$A46 | N47: 99
A48: =IF(ROW()<=B$3,INDEX(FP!F:F,B$2+ROW()-1)&" - "&INDEX(FP!C:C,B$2+ROW()-1),"") | C48: =IF(ROW()<=B$3,INDEX(FP!E:E,B$2+ROW()-1),"") | D48: =IF(ROW()<=B$3,INDEX(FP!F:F,B$2+ROW()-1),"") | F48: =IF(ROW()<=B$3,INDEX(FP!G:G,B$2+ROW()-1),"") | H48: =IF(ROW()<=B$3,INDEX(FP!C:C,B$2+ROW()-1),"") | I48: =IF(ROW()<=B$3,SUMIF(A$107:A$10053,A48,I$107:I$10053),"") | J48: =IF(ROW()<=B$3,SUMIFS(I$103:I$50053,A$103:A$50053,K48,J$103:J$50053,L48),"") | K48: =$A48 | L48: 99 | M48: AAA | N48: HHH
A49: =IF(ROW()<=B$3,INDEX(FP!F:F,B$2+ROW()-1)&" - "&INDEX(FP!C:C,B$2+ROW()-1),"") | C49: =IF(ROW()<=B$3,INDEX(FP!E:E,B$2+ROW()-1),"") | D49: =IF(ROW()<=B$3,INDEX(FP!F:F,B$2+ROW()-1),"") | F49: =IF(ROW()<=B$3,INDEX(FP!G:G,B$2+ROW()-1),"") | H49: =IF(ROW()<=B$3,INDEX(FP!C:C,B$2+ROW()-1),"") | I49: =IF(ROW()<=B$3,SUMIF(A$107:A$10053,A49,I$107:I$10053),"") | J49: =IF(ROW()<=B$3,SUMIFS(I$103:I$50053,A$103:A$50053,K49,J$103:J$50053,L49),"") | K49: =$A49 | L49: 99 | M49: =$A48 | N49: 99
A50: =IF(ROW()<=B$3,INDEX(FP!F:F,B$2+ROW()-1)&" - "&INDEX(FP!C:C,B$2+ROW()-1),"") | C50: =IF(ROW()<=B$3,INDEX(FP!E:E,B$2+ROW()-1),"") | D50: =IF(ROW()<=B$3,INDEX(FP!F:F,B$2+ROW()-1),"") | F50: =IF(ROW()<=B$3,INDEX(FP!G:G,B$2+ROW()-1),"") | H50: =IF(ROW()<=B$3,INDEX(FP!C:C,B$2+ROW()-1),"") | I50: =IF(ROW()<=B$3,SUMIF(A$107:A$10053,A50,I$107:I$10053),"") | J50: =IF(ROW()<=B$3,SUMIFS(I$103:I$50053,A$103:A$50053,K50,J$103:J$50053,L50),"") | K50: =$A50 | L50: 99 | M50: AAA | N50: HHH
A51: =IF(ROW()<=B$3,INDEX(FP!F:F,B$2+ROW()-1)&" - "&INDEX(FP!C:C,B$2+ROW()-1),"") | C51: =IF(ROW()<=B$3,INDEX(FP!E:E,B$2+ROW()-1),"") | D51: =IF(ROW()<=B$3,INDEX(FP!F:F,B$2+ROW()-1),"") | F51: =IF(ROW()<=B$3,INDEX(FP!G:G,B$2+ROW()-1),"") | H51: =IF(ROW()<=B$3,INDEX(FP!C:C,B$2+ROW()-1),"") | I51: =IF(ROW()<=B$3,SUMIF(A$107:A$10053,A51,I$107:I$10053),"") | J51: =IF(ROW()<=B$3,SUMIFS(I$103:I$50053,A$103:A$50053,K51,J$103:J$50053,L51),"") | K51: =$A51 | L51: 99 | M51: =$A50 | N51: 99
A52: =IF(ROW()<=B$3,INDEX(FP!F:F,B$2+ROW()-1)&" - "&INDEX(FP!C:C,B$2+ROW()-1),"") | C52: =IF(ROW()<=B$3,INDEX(FP!E:E,B$2+ROW()-1),"") | D52: =IF(ROW()<=B$3,INDEX(FP!F:F,B$2+ROW()-1),"") | F52: =IF(ROW()<=B$3,INDEX(FP!G:G,B$2+ROW()-1),"") | H52: =IF(ROW()<=B$3,INDEX(FP!C:C,B$2+ROW()-1),"") | I52: =IF(ROW()<=B$3,SUMIF(A$107:A$10053,A52,I$107:I$10053),"") | J52: =IF(ROW()<=B$3,SUMIFS(I$103:I$50053,A$103:A$50053,K52,J$103:J$50053,L52),"") | K52: =$A52 | L52: 99 | M52: AAA | N52: HHH
A53: =IF(ROW()<=B$3,INDEX(FP!F:F,B$2+ROW()-1)&" - "&INDEX(FP!C:C,B$2+ROW()-1),"") | C53: =IF(ROW()<=B$3,INDEX(FP!E:E,B$2+ROW()-1),"") | D53: =IF(ROW()<=B$3,INDEX(FP!F:F,B$2+ROW()-1),"") | F53: =IF(ROW()<=B$3,INDEX(FP!G:G,B$2+ROW()-1),"") | H53: =IF(ROW()<=B$3,INDEX(FP!C:C,B$2+ROW()-1),"") | I53: =IF(ROW()<=B$3,SUMIF(A$107:A$10053,A53,I$107:I$10053),"") | J53: =IF(ROW()<=B$3,SUMIFS(I$103:I$50053,A$103:A$50053,K53,J$103:J$50053,L53),"") | K53: =$A53 | L53: 99 | M53: =$A52 | N53: 99
A54: =IF(ROW()<=B$3,INDEX(FP!F:F,B$2+ROW()-1)&" - "&INDEX(FP!C:C,B$2+ROW()-1),"") | C54: =IF(ROW()<=B$3,INDEX(FP!E:E,B$2+ROW()-1),"") | D54: =IF(ROW()<=B$3,INDEX(FP!F:F,B$2+ROW()-1),"") | F54: =IF(ROW()<=B$3,INDEX(FP!G:G,B$2+ROW()-1),"") | H54: =IF(ROW()<=B$3,INDEX(FP!C:C,B$2+ROW()-1),"") | I54: =IF(ROW()<=B$3,SUMIF(A$107:A$10053,A54,I$107:I$10053),"") | J54: =IF(ROW()<=B$3,SUMIFS(I$103:I$50053,A$103:A$50053,K54,J$103:J$50053,L54),"") | K54: =$A54 | L54: 99 | M54: AAA | N54: HHH
A55: =IF(ROW()<=B$3,INDEX(FP!F:F,B$2+ROW()-1)&" - "&INDEX(FP!C:C,B$2+ROW()-1),"") | C55: =IF(ROW()<=B$3,INDEX(FP!E:E,B$2+ROW()-1),"") | D55: =IF(ROW()<=B$3,INDEX(FP!F:F,B$2+ROW()-1),"") | F55: =IF(ROW()<=B$3,INDEX(FP!G:G,B$2+ROW()-1),"") | H55: =IF(ROW()<=B$3,INDEX(FP!C:C,B$2+ROW()-1),"") | I55: =IF(ROW()<=B$3,SUMIF(A$107:A$10053,A55,I$107:I$10053),"") | J55: =IF(ROW()<=B$3,SUMIFS(I$103:I$50053,A$103:A$50053,K55,J$103:J$50053,L55),"") | K55: =$A55 | L55: 99 | M55: =$A54 | N55: 99
A56: =IF(ROW()<=B$3,INDEX(FP!F:F,B$2+ROW()-1)&" - "&INDEX(FP!C:C,B$2+ROW()-1),"") | C56: =IF(ROW()<=B$3,INDEX(FP!E:E,B$2+ROW()-1),"") | D56: =IF(ROW()<=B$3,INDEX(FP!F:F,B$2+ROW()-1),"") | F56: =IF(ROW()<=B$3,INDEX(FP!G:G,B$2+ROW()-1),"") | H56: =IF(ROW()<=B$3,INDEX(FP!C:C,B$2+ROW()-1),"") | I56: =IF(ROW()<=B$3,SUMIF(A$107:A$10053,A56,I$107:I$10053),"") | J56: =IF(ROW()<=B$3,SUMIFS(I$103:I$50053,A$103:A$50053,K56,J$103:J$50053,L56),"") | K56: =$A56 | L56: 99 | M56: AAA | N56: HHH
A57: =IF(ROW()<=B$3,INDEX(FP!F:F,B$2+ROW()-1)&" - "&INDEX(FP!C:C,B$2+ROW()-1),"") | C57: =IF(ROW()<=B$3,INDEX(FP!E:E,B$2+ROW()-1),"") | D57: =IF(ROW()<=B$3,INDEX(FP!F:F,B$2+ROW()-1),"") | F57: =IF(ROW()<=B$3,INDEX(FP!G:G,B$2+ROW()-1),"") | H57: =IF(ROW()<=B$3,INDEX(FP!C:C,B$2+ROW()-1),"") | I57: =IF(ROW()<=B$3,SUMIF(A$107:A$10053,A57,I$107:I$10053),"") | J57: =IF(ROW()<=B$3,SUMIFS(I$103:I$50053,A$103:A$50053,K57,J$103:J$50053,L57),"") | K57: =$A57 | L57: 99 | M57: =$A56 | N57: 99
A58: =IF(ROW()<=B$3,INDEX(FP!F:F,B$2+ROW()-1)&" - "&INDEX(FP!C:C,B$2+ROW()-1),"") | C58: =IF(ROW()<=B$3,INDEX(FP!E:E,B$2+ROW()-1),"") | D58: =IF(ROW()<=B$3,INDEX(FP!F:F,B$2+ROW()-1),"") | F58: =IF(ROW()<=B$3,INDEX(FP!G:G,B$2+ROW()-1),"") | H58: =IF(ROW()<=B$3,INDEX(FP!C:C,B$2+ROW()-1),"") | I58: =IF(ROW()<=B$3,SUMIF(A$107:A$10053,A58,I$107:I$10053),"") | J58: =IF(ROW()<=B$3,SUMIFS(I$103:I$50053,A$103:A$50053,K58,J$103:J$50053,L58),"") | K58: =$A58 | L58: 99 | M58: AAA | N58: HHH
A59: =IF(ROW()<=B$3,INDEX(FP!F:F,B$2+ROW()-1)&" - "&INDEX(FP!C:C,B$2+ROW()-1),"") | C59: =IF(ROW()<=B$3,INDEX(FP!E:E,B$2+ROW()-1),"") | D59: =IF(ROW()<=B$3,INDEX(FP!F:F,B$2+ROW()-1),"") | F59: =IF(ROW()<=B$3,INDEX(FP!G:G,B$2+ROW()-1),"") | H59: =IF(ROW()<=B$3,INDEX(FP!C:C,B$2+ROW()-1),"") | I59: =IF(ROW()<=B$3,SUMIF(A$107:A$10053,A59,I$107:I$10053),"") | J59: =IF(ROW()<=B$3,SUMIFS(I$103:I$50053,A$103:A$50053,K59,J$103:J$50053,L59),"") | K59: =$A59 | L59: 99 | M59: =$A58 | N59: 99
A60: =IF(ROW()<=B$3,INDEX(FP!F:F,B$2+ROW()-1)&" - "&INDEX(FP!C:C,B$2+ROW()-1),"") | C60: =IF(ROW()<=B$3,INDEX(FP!E:E,B$2+ROW()-1),"") | D60: =IF(ROW()<=B$3,INDEX(FP!F:F,B$2+ROW()-1),"") | F60: =IF(ROW()<=B$3,INDEX(FP!G:G,B$2+ROW()-1),"") | H60: =IF(ROW()<=B$3,INDEX(FP!C:C,B$2+ROW()-1),"") | I60: =IF(ROW()<=B$3,SUMIF(A$107:A$10053,A60,I$107:I$10053),"") | J60: =IF(ROW()<=B$3,SUMIFS(I$103:I$50053,A$103:A$50053,K60,J$103:J$50053,L60),"") | K60: =$A60 | L60: 99 | M60: AAA | N60: HHH
A61: =IF(ROW()<=B$3,INDEX(FP!F:F,B$2+ROW()-1)&" - "&INDEX(FP!C:C,B$2+ROW()-1),"") | C61: =IF(ROW()<=B$3,INDEX(FP!E:E,B$2+ROW()-1),"") | D61: =IF(ROW()<=B$3,INDEX(FP!F:F,B$2+ROW()-1),"") | F61: =IF(ROW()<=B$3,INDEX(FP!G:G,B$2+ROW()-1),"") | H61: =IF(ROW()<=B$3,INDEX(FP!C:C,B$2+ROW()-1),"") | I61: =IF(ROW()<=B$3,SUMIF(A$107:A$10053,A61,I$107:I$10053),"") | J61: =IF(ROW()<=B$3,SUMIFS(I$103:I$50053,A$103:A$50053,K61,J$103:J$50053,L61),"") | K61: =$A61 | L61: 99 | M61: =$A60 | N61: 99
A62: =IF(ROW()<=B$3,INDEX(FP!F:F,B$2+ROW()-1)&" - "&INDEX(FP!C:C,B$2+ROW()-1),"") | C62: =IF(ROW()<=B$3,INDEX(FP!E:E,B$2+ROW()-1),"") | D62: =IF(ROW()<=B$3,INDEX(FP!F:F,B$2+ROW()-1),"") | F62: =IF(ROW()<=B$3,INDEX(FP!G:G,B$2+ROW()-1),"") | H62: =IF(ROW()<=B$3,INDEX(FP!C:C,B$2+ROW()-1),"") | I62: =IF(ROW()<=B$3,SUMIF(A$107:A$10053,A62,I$107:I$10053),"") | J62: =IF(ROW()<=B$3,SUMIFS(I$103:I$50053,A$103:A$50053,K62,J$103:J$50053,L62),"") | K62: =$A62 | L62: 99 | M62: AAA | N62: HHH
A63: =IF(ROW()<=B$3,INDEX(FP!F:F,B$2+ROW()-1)&" - "&INDEX(FP!C:C,B$2+ROW()-1),"") | C63: =IF(ROW()<=B$3,INDEX(FP!E:E,B$2+ROW()-1),"") | D63: =IF(ROW()<=B$3,INDEX(FP!F:F,B$2+ROW()-1),"") | F63: =IF(ROW()<=B$3,INDEX(FP!G:G,B$2+ROW()-1),"") | H63: =IF(ROW()<=B$3,INDEX(FP!C:C,B$2+ROW()-1),"") | I63: =IF(ROW()<=B$3,SUMIF(A$107:A$10053,A63,I$107:I$10053),"") | J63: =IF(ROW()<=B$3,SUMIFS(I$103:I$50053,A$103:A$50053,K63,J$103:J$50053,L63),"") | K63: =$A63 | L63: 99 | M63: =$A62 | N63: 99
A64: =IF(ROW()<=B$3,INDEX(FP!F:F,B$2+ROW()-1)&" - "&INDEX(FP!C:C,B$2+ROW()-1),"") | C64: =IF(ROW()<=B$3,INDEX(FP!E:E,B$2+ROW()-1),"") | D64: =IF(ROW()<=B$3,INDEX(FP!F:F,B$2+ROW()-1),"") | F64: =IF(ROW()<=B$3,INDEX(FP!G:G,B$2+ROW()-1),"") | H64: =IF(ROW()<=B$3,INDEX(FP!C:C,B$2+ROW()-1),"") | I64: =IF(ROW()<=B$3,SUMIF(A$107:A$10053,A64,I$107:I$10053),"") | J64: =IF(ROW()<=B$3,SUMIFS(I$103:I$50053,A$103:A$50053,K64,J$103:J$50053,L64),"") | K64: =$A64 | L64: 99 | M64: AAA | N64: HHH
A65: =IF(ROW()<=B$3,INDEX(FP!F:F,B$2+ROW()-1)&" - "&INDEX(FP!C:C,B$2+ROW()-1),"") | C65: =IF(ROW()<=B$3,INDEX(FP!E:E,B$2+ROW()-1),"") | D65: =IF(ROW()<=B$3,INDEX(FP!F:F,B$2+ROW()-1),"") | F65: =IF(ROW()<=B$3,INDEX(FP!G:G,B$2+ROW()-1),"") | H65: =IF(ROW()<=B$3,INDEX(FP!C:C,B$2+ROW()-1),"") | I65: =IF(ROW()<=B$3,SUMIF(A$107:A$10053,A65,I$107:I$10053),"") | J65: =IF(ROW()<=B$3,SUMIFS(I$103:I$50053,A$103:A$50053,K65,J$103:J$50053,L65),"") | K65: =$A65 | L65: 99 | M65: =$A64 | N65: 99
A66: =IF(ROW()<=B$3,INDEX(FP!F:F,B$2+ROW()-1)&" - "&INDEX(FP!C:C,B$2+ROW()-1),"") | C66: =IF(ROW()<=B$3,INDEX(FP!E:E,B$2+ROW()-1),"") | D66: =IF(ROW()<=B$3,INDEX(FP!F:F,B$2+ROW()-1),"") | F66: =IF(ROW()<=B$3,INDEX(FP!G:G,B$2+ROW()-1),"") | H66: =IF(ROW()<=B$3,INDEX(FP!C:C,B$2+ROW()-1),"") | I66: =IF(ROW()<=B$3,SUMIF(A$107:A$10053,A66,I$107:I$10053),"") | J66: =IF(ROW()<=B$3,SUMIFS(I$103:I$50053,A$103:A$50053,K66,J$103:J$50053,L66),"") | K66: =$A66 | L66: 99 | M66: AAA | N66: HHH
A67: =IF(ROW()<=B$3,INDEX(FP!F:F,B$2+ROW()-1)&" - "&INDEX(FP!C:C,B$2+ROW()-1),"") | C67: =IF(ROW()<=B$3,INDEX(FP!E:E,B$2+ROW()-1),"") | D67: =IF(ROW()<=B$3,INDEX(FP!F:F,B$2+ROW()-1),"") | F67: =IF(ROW()<=B$3,INDEX(FP!G:G,B$2+ROW()-1),"") | H67: =IF(ROW()<=B$3,INDEX(FP!C:C,B$2+ROW()-1),"") | I67: =IF(ROW()<=B$3,SUMIF(A$107:A$10053,A67,I$107:I$10053),"") | J67: =IF(ROW()<=B$3,SUMIFS(I$103:I$50053,A$103:A$50053,K67,J$103:J$50053,L67),"") | K67: =$A67 | L67: 99 | M67: =$A66 | N67: 99
A68: =IF(ROW()<=B$3,INDEX(FP!F:F,B$2+ROW()-1)&" - "&INDEX(FP!C:C,B$2+ROW()-1),"") | C68: =IF(ROW()<=B$3,INDEX(FP!E:E,B$2+ROW()-1),"") | D68: =IF(ROW()<=B$3,INDEX(FP!F:F,B$2+ROW()-1),"") | F68: =IF(ROW()<=B$3,INDEX(FP!G:G,B$2+ROW()-1),"") | H68: =IF(ROW()<=B$3,INDEX(FP!C:C,B$2+ROW()-1),"") | I68: =IF(ROW()<=B$3,SUMIF(A$107:A$10053,A68,I$107:I$10053),"") | J68: =IF(ROW()<=B$3,SUMIFS(I$103:I$50053,A$103:A$50053,K68,J$103:J$50053,L68),"") | K68: =$A68 | L68: 99 | M68: AAA | N68: HHH
A69: =IF(ROW()<=B$3,INDEX(FP!F:F,B$2+ROW()-1)&" - "&INDEX(FP!C:C,B$2+ROW()-1),"") | C69: =IF(ROW()<=B$3,INDEX(FP!E:E,B$2+ROW()-1),"") | D69: =IF(ROW()<=B$3,INDEX(FP!F:F,B$2+ROW()-1),"") | F69: =IF(ROW()<=B$3,INDEX(FP!G:G,B$2+ROW()-1),"") | H69: =IF(ROW()<=B$3,INDEX(FP!C:C,B$2+ROW()-1),"") | I69: =IF(ROW()<=B$3,SUMIF(A$107:A$10053,A69,I$107:I$10053),"") | J69: =IF(ROW()<=B$3,SUMIFS(I$103:I$50053,A$103:A$50053,K69,J$103:J$50053,L69),"") | K69: =$A69 | L69: 99 | M69: =$A68 | N69: 99
A70: =IF(ROW()<=B$3,INDEX(FP!F:F,B$2+ROW()-1)&" - "&INDEX(FP!C:C,B$2+ROW()-1),"") | C70: =IF(ROW()<=B$3,INDEX(FP!E:E,B$2+ROW()-1),"") | D70: =IF(ROW()<=B$3,INDEX(FP!F:F,B$2+ROW()-1),"") | F70: =IF(ROW()<=B$3,INDEX(FP!G:G,B$2+ROW()-1),"") | H70: =IF(ROW()<=B$3,INDEX(FP!C:C,B$2+ROW()-1),"") | I70: =IF(ROW()<=B$3,SUMIF(A$107:A$10053,A70,I$107:I$10053),"") | J70: =IF(ROW()<=B$3,SUMIFS(I$103:I$50053,A$103:A$50053,K70,J$103:J$50053,L70),"") | K70: =$A70 | L70: 99 | M70: AAA | N70: HHH
A71: =IF(ROW()<=B$3,INDEX(FP!F:F,B$2+ROW()-1)&" - "&INDEX(FP!C:C,B$2+ROW()-1),"") | C71: =IF(ROW()<=B$3,INDEX(FP!E:E,B$2+ROW()-1),"") | D71: =IF(ROW()<=B$3,INDEX(FP!F:F,B$2+ROW()-1),"") | F71: =IF(ROW()<=B$3,INDEX(FP!G:G,B$2+ROW()-1),"") | H71: =IF(ROW()<=B$3,INDEX(FP!C:C,B$2+ROW()-1),"") | I71: =IF(ROW()<=B$3,SUMIF(A$107:A$10053,A71,I$107:I$10053),"") | J71: =IF(ROW()<=B$3,SUMIFS(I$103:I$50053,A$103:A$50053,K71,J$103:J$50053,L71),"") | K71: =$A71 | L71: 99 | M71: =$A70 | N71: 99
A72: =IF(ROW()<=B$3,INDEX(FP!F:F,B$2+ROW()-1)&" - "&INDEX(FP!C:C,B$2+ROW()-1),"") | C72: =IF(ROW()<=B$3,INDEX(FP!E:E,B$2+ROW()-1),"") | D72: =IF(ROW()<=B$3,INDEX(FP!F:F,B$2+ROW()-1),"") | F72: =IF(ROW()<=B$3,INDEX(FP!G:G,B$2+ROW()-1),"") | H72: =IF(ROW()<=B$3,INDEX(FP!C:C,B$2+ROW()-1),"") | I72: =IF(ROW()<=B$3,SUMIF(A$107:A$10053,A72,I$107:I$10053),"") | J72: =IF(ROW()<=B$3,SUMIFS(I$103:I$50053,A$103:A$50053,K72,J$103:J$50053,L72),"") | K72: =$A72 | L72: 99 | M72: AAA | N72: HHH
A73: =IF(ROW()<=B$3,INDEX(FP!F:F,B$2+ROW()-1)&" - "&INDEX(FP!C:C,B$2+ROW()-1),"") | C73: =IF(ROW()<=B$3,INDEX(FP!E:E,B$2+ROW()-1),"") | D73: =IF(ROW()<=B$3,INDEX(FP!F:F,B$2+ROW()-1),"") | F73: =IF(ROW()<=B$3,INDEX(FP!G:G,B$2+ROW()-1),"") | H73: =IF(ROW()<=B$3,INDEX(FP!C:C,B$2+ROW()-1),"") | I73: =IF(ROW()<=B$3,SUMIF(A$107:A$10053,A73,I$107:I$10053),"") | J73: =IF(ROW()<=B$3,SUMIFS(I$103:I$50053,A$103:A$50053,K73,J$103:J$50053,L73),"") | K73: =$A73 | L73: 99 | M73: =$A72 | N73: 99
A74: =IF(ROW()<=B$3,INDEX(FP!F:F,B$2+ROW()-1)&" - "&INDEX(FP!C:C,B$2+ROW()-1),"") | C74: =IF(ROW()<=B$3,INDEX(FP!E:E,B$2+ROW()-1),"") | D74: =IF(ROW()<=B$3,INDEX(FP!F:F,B$2+ROW()-1),"") | F74: =IF(ROW()<=B$3,INDEX(FP!G:G,B$2+ROW()-1),"") | H74: =IF(ROW()<=B$3,INDEX(FP!C:C,B$2+ROW()-1),"") | I74: =IF(ROW()<=B$3,SUMIF(A$107:A$10053,A74,I$107:I$10053),"") | J74: =IF(ROW()<=B$3,SUMIFS(I$103:I$50053,A$103:A$50053,K74,J$103:J$50053,L74),"") | K74: =$A74 | L74: 99 | M74: AAA | N74: HHH
A75: =IF(ROW()<=B$3,INDEX(FP!F:F,B$2+ROW()-1)&" - "&INDEX(FP!C:C,B$2+ROW()-1),"") | C75: =IF(ROW()<=B$3,INDEX(FP!E:E,B$2+ROW()-1),"") | D75: =IF(ROW()<=B$3,INDEX(FP!F:F,B$2+ROW()-1),"") | F75: =IF(ROW()<=B$3,INDEX(FP!G:G,B$2+ROW()-1),"") | H75: =IF(ROW()<=B$3,INDEX(FP!C:C,B$2+ROW()-1),"") | I75: =IF(ROW()<=B$3,SUMIF(A$107:A$10053,A75,I$107:I$10053),"") | J75: =IF(ROW()<=B$3,SUMIFS(I$103:I$50053,A$103:A$50053,K75,J$103:J$50053,L75),"") | K75: =$A75 | L75: 99 | M75: =$A74 | N75: 99
A76: =IF(ROW()<=B$3,INDEX(FP!F:F,B$2+ROW()-1)&" - "&INDEX(FP!C:C,B$2+ROW()-1),"") | C76: =IF(ROW()<=B$3,INDEX(FP!E:E,B$2+ROW()-1),"") | D76: =IF(ROW()<=B$3,INDEX(FP!F:F,B$2+ROW()-1),"") | F76: =IF(ROW()<=B$3,INDEX(FP!G:G,B$2+ROW()-1),"") | H76: =IF(ROW()<=B$3,INDEX(FP!C:C,B$2+ROW()-1),"") | I76: =IF(ROW()<=B$3,SUMIF(A$107:A$10053,A76,I$107:I$10053),"") | J76: =IF(ROW()<=B$3,SUMIFS(I$103:I$50053,A$103:A$50053,K76,J$103:J$50053,L76),"") | K76: =$A76 | L76: 99 | M76: AAA | N76: HHH
A77: =IF(ROW()<=B$3,INDEX(FP!F:F,B$2+ROW()-1)&" - "&INDEX(FP!C:C,B$2+ROW()-1),"") | C77: =IF(ROW()<=B$3,INDEX(FP!E:E,B$2+ROW()-1),"") | D77: =IF(ROW()<=B$3,INDEX(FP!F:F,B$2+ROW()-1),"") | F77: =IF(ROW()<=B$3,INDEX(FP!G:G,B$2+ROW()-1),"") | H77: =IF(ROW()<=B$3,INDEX(FP!C:C,B$2+ROW()-1),"") | I77: =IF(ROW()<=B$3,SUMIF(A$107:A$10053,A77,I$107:I$10053),"") | J77: =IF(ROW()<=B$3,SUMIFS(I$103:I$50053,A$103:A$50053,K77,J$103:J$50053,L77),"") | K77: =$A77 | L77: 99 | M77: =$A76 | N77: 99
A78: =IF(ROW()<=B$3,INDEX(FP!F:F,B$2+ROW()-1)&" - "&INDEX(FP!C:C,B$2+ROW()-1),"") | C78: =IF(ROW()<=B$3,INDEX(FP!E:E,B$2+ROW()-1),"") | D78: =IF(ROW()<=B$3,INDEX(FP!F:F,B$2+ROW()-1),"") | F78: =IF(ROW()<=B$3,INDEX(FP!G:G,B$2+ROW()-1),"") | H78: =IF(ROW()<=B$3,INDEX(FP!C:C,B$2+ROW()-1),"") | I78: =IF(ROW()<=B$3,SUMIF(A$107:A$10053,A78,I$107:I$10053),"") | J78: =IF(ROW()<=B$3,SUMIFS(I$103:I$50053,A$103:A$50053,K78,J$103:J$50053,L78),"") | K78: =$A78 | L78: 99 | M78: AAA | N78: HHH
A79: =IF(ROW()<=B$3,INDEX(FP!F:F,B$2+ROW()-1)&" - "&INDEX(FP!C:C,B$2+ROW()-1),"") | C79: =IF(ROW()<=B$3,INDEX(FP!E:E,B$2+ROW()-1),"") | D79: =IF(ROW()<=B$3,INDEX(FP!F:F,B$2+ROW()-1),"") | F79: =IF(ROW()<=B$3,INDEX(FP!G:G,B$2+ROW()-1),"") | H79: =IF(ROW()<=B$3,INDEX(FP!C:C,B$2+ROW()-1),"") | I79: =IF(ROW()<=B$3,SUMIF(A$107:A$10053,A79,I$107:I$10053),"") | J79: =IF(ROW()<=B$3,SUMIFS(I$103:I$50053,A$103:A$50053,K79,J$103:J$50053,L79),"") | K79: =$A79 | L79: 99 | M79: =$A78 | N79: 99
A80: =IF(ROW()<=B$3,INDEX(FP!F:F,B$2+ROW()-1)&" - "&INDEX(FP!C:C,B$2+ROW()-1),"") | C80: =IF(ROW()<=B$3,INDEX(FP!E:E,B$2+ROW()-1),"") | D80: =IF(ROW()<=B$3,INDEX(FP!F:F,B$2+ROW()-1),"") | F80: =IF(ROW()<=B$3,INDEX(FP!G:G,B$2+ROW()-1),"") | H80: =IF(ROW()<=B$3,INDEX(FP!C:C,B$2+ROW()-1),"") | I80: =IF(ROW()<=B$3,SUMIF(A$107:A$10053,A80,I$107:I$10053),"") | J80: =IF(ROW()<=B$3,SUMIFS(I$103:I$50053,A$103:A$50053,K80,J$103:J$50053,L80),"") | K80: =$A80 | L80: 99 | M80: AAA | N80: HHH
A81: =IF(ROW()<=B$3,INDEX(FP!F:F,B$2+ROW()-1)&" - "&INDEX(FP!C:C,B$2+ROW()-1),"") | C81: =IF(ROW()<=B$3,INDEX(FP!E:E,B$2+ROW()-1),"") | D81: =IF(ROW()<=B$3,INDEX(FP!F:F,B$2+ROW()-1),"") | F81: =IF(ROW()<=B$3,INDEX(FP!G:G,B$2+ROW()-1),"") | H81: =IF(ROW()<=B$3,INDEX(FP!C:C,B$2+ROW()-1),"") | I81: =IF(ROW()<=B$3,SUMIF(A$107:A$10053,A81,I$107:I$10053),"") | J81: =IF(ROW()<=B$3,SUMIFS(I$103:I$50053,A$103:A$50053,K81,J$103:J$50053,L81),"") | K81: =$A81 | L81: 99 | M81: =$A80 | N81: 99
A82: =IF(ROW()<=B$3,INDEX(FP!F:F,B$2+ROW()-1)&" - "&INDEX(FP!C:C,B$2+ROW()-1),"") | C82: =IF(ROW()<=B$3,INDEX(FP!E:E,B$2+ROW()-1),"") | D82: =IF(ROW()<=B$3,INDEX(FP!F:F,B$2+ROW()-1),"") | F82: =IF(ROW()<=B$3,INDEX(FP!G:G,B$2+ROW()-1),"") | H82: =IF(ROW()<=B$3,INDEX(FP!C:C,B$2+ROW()-1),"") | I82: =IF(ROW()<=B$3,SUMIF(A$107:A$10053,A82,I$107:I$10053),"") | J82: =IF(ROW()<=B$3,SUMIFS(I$103:I$50053,A$103:A$50053,K82,J$103:J$50053,L82),"") | K82: =$A82 | L82: 99 | M82: AAA | N82: HHH
A83: =IF(ROW()<=B$3,INDEX(FP!F:F,B$2+ROW()-1)&" - "&INDEX(FP!C:C,B$2+ROW()-1),"") | C83: =IF(ROW()<=B$3,INDEX(FP!E:E,B$2+ROW()-1),"") | D83: =IF(ROW()<=B$3,INDEX(FP!F:F,B$2+ROW()-1),"") | F83: =IF(ROW()<=B$3,INDEX(FP!G:G,B$2+ROW()-1),"") | H83: =IF(ROW()<=B$3,INDEX(FP!C:C,B$2+ROW()-1),"") | I83: =IF(ROW()<=B$3,SUMIF(A$107:A$10053,A83,I$107:I$10053),"") | J83: =IF(ROW()<=B$3,SUMIFS(I$103:I$50053,A$103:A$50053,K83,J$103:J$50053,L83),"") | K83: =$A83 | L83: 99 | M83: =$A82 | N83: 99
A84: =IF(ROW()<=B$3,INDEX(FP!F:F,B$2+ROW()-1)&" - "&INDEX(FP!C:C,B$2+ROW()-1),"") | C84: =IF(ROW()<=B$3,INDEX(FP!E:E,B$2+ROW()-1),"") | D84: =IF(ROW()<=B$3,INDEX(FP!F:F,B$2+ROW()-1),"") | F84: =IF(ROW()<=B$3,INDEX(FP!G:G,B$2+ROW()-1),"") | H84: =IF(ROW()<=B$3,INDEX(FP!C:C,B$2+ROW()-1),"") | I84: =IF(ROW()<=B$3,SUMIF(A$107:A$10053,A84,I$107:I$10053),"") | J84: =IF(ROW()<=B$3,SUMIFS(I$103:I$50053,A$103:A$50053,K84,J$103:J$50053,L84),"") | K84: =$A84 | L84: 99 | M84: AAA | N84: HHH
A85: =IF(ROW()<=B$3,INDEX(FP!F:F,B$2+ROW()-1)&" - "&INDEX(FP!C:C,B$2+ROW()-1),"") | C85: =IF(ROW()<=B$3,INDEX(FP!E:E,B$2+ROW()-1),"") | D85: =IF(ROW()<=B$3,INDEX(FP!F:F,B$2+ROW()-1),"") | F85: =IF(ROW()<=B$3,INDEX(FP!G:G,B$2+ROW()-1),"") | H85: =IF(ROW()<=B$3,INDEX(FP!C:C,B$2+ROW()-1),"") | I85: =IF(ROW()<=B$3,SUMIF(A$107:A$10053,A85,I$107:I$10053),"") | J85: =IF(ROW()<=B$3,SUMIFS(I$103:I$50053,A$103:A$50053,K85,J$103:J$50053,L85),"") | K85: =$A85 | L85: 99 | M85: =$A84 | N85: 99
A86: =IF(ROW()<=B$3,INDEX(FP!F:F,B$2+ROW()-1)&" - "&INDEX(FP!C:C,B$2+ROW()-1),"") | C86: =IF(ROW()<=B$3,INDEX(FP!E:E,B$2+ROW()-1),"") | D86: =IF(ROW()<=B$3,INDEX(FP!F:F,B$2+ROW()-1),"") | F86: =IF(ROW()<=B$3,INDEX(FP!G:G,B$2+ROW()-1),"") | H86: =IF(ROW()<=B$3,INDEX(FP!C:C,B$2+ROW()-1),"") | I86: =IF(ROW()<=B$3,SUMIF(A$107:A$10053,A86,I$107:I$10053),"") | J86: =IF(ROW()<=B$3,SUMIFS(I$103:I$50053,A$103:A$50053,K86,J$103:J$50053,L86),"") | K86: =$A86 | L86: 99 | M86: AAA | N86: HHH
A87: =IF(ROW()<=B$3,INDEX(FP!F:F,B$2+ROW()-1)&" - "&INDEX(FP!C:C,B$2+ROW()-1),"") | C87: =IF(ROW()<=B$3,INDEX(FP!E:E,B$2+ROW()-1),"") | D87: =IF(ROW()<=B$3,INDEX(FP!F:F,B$2+ROW()-1),"") | F87: =IF(ROW()<=B$3,INDEX(FP!G:G,B$2+ROW()-1),"") | H87: =IF(ROW()<=B$3,INDEX(FP!C:C,B$2+ROW()-1),"") | I87: =IF(ROW()<=B$3,SUMIF(A$107:A$10053,A87,I$107:I$10053),"") | J87: =IF(ROW()<=B$3,SUMIFS(I$103:I$50053,A$103:A$50053,K87,J$103:J$50053,L87),"") | K87: =$A87 | L87: 99 | M87: =$A86 | N87: 99
A88: =IF(ROW()<=B$3,INDEX(FP!F:F,B$2+ROW()-1)&" - "&INDEX(FP!C:C,B$2+ROW()-1),"") | C88: =IF(ROW()<=B$3,INDEX(FP!E:E,B$2+ROW()-1),"") | D88: =IF(ROW()<=B$3,INDEX(FP!F:F,B$2+ROW()-1),"") | F88: =IF(ROW()<=B$3,INDEX(FP!G:G,B$2+ROW()-1),"") | H88: =IF(ROW()<=B$3,INDEX(FP!C:C,B$2+ROW()-1),"") | I88: =IF(ROW()<=B$3,SUMIF(A$107:A$10053,A88,I$107:I$10053),"") | J88: =IF(ROW()<=B$3,SUMIFS(I$103:I$50053,A$103:A$50053,K88,J$103:J$50053,L88),"") | K88: =$A88 | L88: 99 | M88: AAA | N88: HHH
A89: =IF(ROW()<=B$3,INDEX(FP!F:F,B$2+ROW()-1)&" - "&INDEX(FP!C:C,B$2+ROW()-1),"") | C89: =IF(ROW()<=B$3,INDEX(FP!E:E,B$2+ROW()-1),"") | D89: =IF(ROW()<=B$3,INDEX(FP!F:F,B$2+ROW()-1),"") | F89: =IF(ROW()<=B$3,INDEX(FP!G:G,B$2+ROW()-1),"") | H89: =IF(ROW()<=B$3,INDEX(FP!C:C,B$2+ROW()-1),"") | I89: =IF(ROW()<=B$3,SUMIF(A$107:A$10053,A89,I$107:I$10053),"") | J89: =IF(ROW()<=B$3,SUMIFS(I$103:I$50053,A$103:A$50053,K89,J$103:J$50053,L89),"") | K89: =$A89 | L89: 99 | M89: =$A88 | N89: 99
A90: =IF(ROW()<=B$3,INDEX(FP!F:F,B$2+ROW()-1)&" - "&INDEX(FP!C:C,B$2+ROW()-1),"") | C90: =IF(ROW()<=B$3,INDEX(FP!E:E,B$2+ROW()-1),"") | D90: =IF(ROW()<=B$3,INDEX(FP!F:F,B$2+ROW()-1),"") | F90: =IF(ROW()<=B$3,INDEX(FP!G:G,B$2+ROW()-1),"") | H90: =IF(ROW()<=B$3,INDEX(FP!C:C,B$2+ROW()-1),"") | I90: =IF(ROW()<=B$3,SUMIF(A$107:A$10053,A90,I$107:I$10053),"") | J90: =IF(ROW()<=B$3,SUMIFS(I$103:I$50053,A$103:A$50053,K90,J$103:J$50053,L90),"") | K90: =$A90 | L90: 99 | M90: AAA | N90: HHH
A91: =IF(ROW()<=B$3,INDEX(FP!F:F,B$2+ROW()-1)&" - "&INDEX(FP!C:C,B$2+ROW()-1),"") | C91: =IF(ROW()<=B$3,INDEX(FP!E:E,B$2+ROW()-1),"") | D91: =IF(ROW()<=B$3,INDEX(FP!F:F,B$2+ROW()-1),"") | F91: =IF(ROW()<=B$3,INDEX(FP!G:G,B$2+ROW()-1),"") | H91: =IF(ROW()<=B$3,INDEX(FP!C:C,B$2+ROW()-1),"") | I91: =IF(ROW()<=B$3,SUMIF(A$107:A$10053,A91,I$107:I$10053),"") | J91: =IF(ROW()<=B$3,SUMIFS(I$103:I$50053,A$103:A$50053,K91,J$103:J$50053,L91),"") | K91: =$A91 | L91: 99 | M91: =$A90 | N91: 99
A92: =IF(ROW()<=B$3,INDEX(FP!F:F,B$2+ROW()-1)&" - "&INDEX(FP!C:C,B$2+ROW()-1),"") | C92: =IF(ROW()<=B$3,INDEX(FP!E:E,B$2+ROW()-1),"") | D92: =IF(ROW()<=B$3,INDEX(FP!F:F,B$2+ROW()-1),"") | F92: =IF(ROW()<=B$3,INDEX(FP!G:G,B$2+ROW()-1),"") | H92: =IF(ROW()<=B$3,INDEX(FP!C:C,B$2+ROW()-1),"") | I92: =IF(ROW()<=B$3,SUMIF(A$107:A$10053,A92,I$107:I$10053),"") | J92: =IF(ROW()<=B$3,SUMIFS(I$103:I$50053,A$103:A$50053,K92,J$103:J$50053,L92),"") | K92: =$A92 | L92: 99 | M92: AAA | N92: HHH
A93: =IF(ROW()<=B$3,INDEX(FP!F:F,B$2+ROW()-1)&" - "&INDEX(FP!C:C,B$2+ROW()-1),"") | C93: =IF(ROW()<=B$3,INDEX(FP!E:E,B$2+ROW()-1),"") | D93: =IF(ROW()<=B$3,INDEX(FP!F:F,B$2+ROW()-1),"") | F93: =IF(ROW()<=B$3,INDEX(FP!G:G,B$2+ROW()-1),"") | H93: =IF(ROW()<=B$3,INDEX(FP!C:C,B$2+ROW()-1),"") | I93: =IF(ROW()<=B$3,SUMIF(A$107:A$10053,A93,I$107:I$10053),"") | J93: =IF(ROW()<=B$3,SUMIFS(I$103:I$50053,A$103:A$50053,K93,J$103:J$50053,L93),"") | K93: =$A93 | L93: 99 | M93: =$A92 | N93: 99
A94: =IF(ROW()<=B$3,INDEX(FP!F:F,B$2+ROW()-1)&" - "&INDEX(FP!C:C,B$2+ROW()-1),"") | C94: =IF(ROW()<=B$3,INDEX(FP!E:E,B$2+ROW()-1),"") | D94: =IF(ROW()<=B$3,INDEX(FP!F:F,B$2+ROW()-1),"") | F94: =IF(ROW()<=B$3,INDEX(FP!G:G,B$2+ROW()-1),"") | H94: =IF(ROW()<=B$3,INDEX(FP!C:C,B$2+ROW()-1),"") | I94: =IF(ROW()<=B$3,SUMIF(A$107:A$10053,A94,I$107:I$10053),"") | J94: =IF(ROW()<=B$3,SUMIFS(I$103:I$50053,A$103:A$50053,K94,J$103:J$50053,L94),"") | K94: =$A94 | L94: 99 | M94: AAA | N94: HHH
F95: =IF(ROW()<=B$3,INDEX(FP!G:G,B$2+ROW()-1),"") | M95: =$A94 | N95: 99
F96: Organizácia podujatia názov podujatia (napr. Kongres ISF, Svetový pohár ICU): miesto konania (napr. Komjatice): termín (od-do) (napr. 1.5.-15.5.2013): počet aktívnych účastníkov (napr. 223): počet odpracovaných hodín spolu: (napr. 690): hrubé mzdy vyplatené osobám v súvislosti s podujatím vrátane odvodov zamestnávateľa spolu (dohody, zmluvy, faktúry, a pod.) v eur:
F97: Hrubé mzdy vyplatené osobám (zamestnancom) vrátane odvodov zamestnávateľa počet fyzických osôb (napr. 3): obdobie (napr. január - marec):
F98: Služobné motorové vozidlo EČV (napr. BB 123 AK): Obdobie (napr. 3.7.-28.7.2013): Najazdené kilometre (napr. 1 211 km):
F99: Pracovná cesta (napr. výjazd na výkonný výbor, na majstrovstvá) Názov (napr. majstrovstvá sveta, sústredenie, kongres, zasadnutie komisie): Termín (napr. 1.5.-3.6.2013): Miesto - mesto a štát (napr. Palermo, Taliansko): Spôsob dopravy (napr. letecky): Počet všetkých osôb na pracovnej ceste (napr. 17) z toho: - športovci (+ navádzači): 12 - tréneri + rozhodcovia + vedúci výpravy + administratívni pracovníci + lekár + fyzioterapeut + masér + ): 2 - ostatné osoby (napr. sponzori, hostia): 3
A100: Priebežné čerpanie a vyúčtovanie finančných prostriedkov poskytnutých zo štátneho rozpočtu v oblasti športu v roku 2026 | I100: V1
...

Sheet Adr
A1: IČO | B1: Subjekt | C1: Právna forma | D1: Ulica a číslo domu | E1: Mesto | F1: PSČ | G1: Webové sídlo | H1: E-mail | I1: Štatutárny zástupca | J1: Štatutár - funkcia | K1: Kontakná osoba | L1: Kontakt telefón | M1: IBAN 1 | N1: IBAN PUŠ | O1: IBAN TOP | P1: IBAN DOT
A2: 17066816 | B2: Aeroklub Dubnica nad Váhom | C2: občianske združenie | D2: Letisko Slávnica | E2: Slávnica | F2: 018 54 | G2: https://akdubnica.sk/ | H2: akdubnica@gmail.com | I2: Jaroslav Michálek | J2: predseda | K2: Jaroslav Michálek | L2: 421905505202 | M2: SK08 0900 0000 0000 6366 9107
A3: 37894021 | B3: ASOCIÁCIA MAŽORETKOVÉHO ŠPORTU SLOVENSKO | C3: občianske združenie | D3: Rozkvet 2073/155 | E3: Považská Bystrica | F3: 017 01 | G3: www.amas.sk | H3: elllapb@gmail.com | I3: Elena Martinková | J3: prezident | K3: Elena Martinková | L3: 421903471398 | M3: SK55 7500 0000 0040 3499 6617
A4: 00681482 | B4: Asociácia športu pre všetkých Slovenskej republiky | C4: občianske združenie | D4: Olympijské námestie 14290/1 | E4: Bratislava | F4: 832 80 | G4: https://aspv.sk/ | H4: aspv@aspv.sk | I4: Ján Holko | J4: predseda | K4: Ján Holko | L4: 421911244266 | M4: SK32 0200 0000 0050 7394 7054
A5: 42097631 | B5: Atletický klub Slávia Technická univerzita Košice | C5: občianske združenie | D5: Watsonova 4/a | E5: Košice | F5: 040 01 | G5: https://akstuke.sk/ | H5: henrietaviktoria@centrum.sk | I5: Henrieta Rusnáková | J5: predseda | K5: Henrieta Rusnáková | L5: 421908982308 | M5: SK24 0200 0000 0024 3329 8059
A6: 55184707 | B6: Baláž Racing | C6: občianske združenie | D6: Medveďovej 21 | E6: Bratislava | F6: 851 04 | G6: www.balaz-racing.sk | H6: hd.balaz@gmail.com | I6: Michal Baláž | J6: predseda | K6: Michal Baláž | L6: 421948780850 | M6: SK02 8330 0000 0029 0251 8350
A7: 57153647 | B7: basket G Michalovce | C7: občianske združenie | D7: Bieloruská 5848/2 | E7: Michalovce | F7: 071 01 | G7: www.basketgirls.sk | H7: basketgirlsmi@gmail.com | I7: Roman Skvašík | J7: prezident klubu | K7: Roman Skvašík | L7: 421908407004
A8: 17641616 | B8: Basketbalový klub Klokani Ivanka pri Dunaji | C8: občianske združenie | D8: Štefánikova 772/82 | E8: Ivanka pri Dunaji | F8: 900 28 | G8: www.bk-klokani.sk | H8: ivan.malovec@gmail.com | I8: Ivan Malovec | J8: predseda | K8: Ivan Malovec | L8: 421915969868 | M8: SK48 7500 0000 0040 3001 1622
A9: 42089158 | B9: Black Tiger Taekwondo - Klub Snina | C9: občianske združenie | D9: 1. Mája 2057/9 | E9: Snina | F9: 069 01 | G9: www.black-tiger-snina-8bd8ea.webnode.sk | H9: tomaspotocky87@gmail.com | I9: Tomáš Potocký | J9: predseda | K9: Tomáš Potocký | L9: 421918211200 | M9: SK68 7500 0000 0040 2432 8420
A10: 42311462 | B10: B-STAR | C10: občianske združenie | D10: J.Bottu 465/10 | E10: Zvolen | F10: 960 01 | H10: barbara.papankova@gmail.com | I10: Barbara Papánková | K10: Barbara Papánková | L10: 421904438123 | M10: SK72 1100 0000 0029 2490 9272
A11: 42254388 | B11: Deaflympijský výbor Slovenska | C11: občianske združenie | D11: Kýčerského 7 | E11: Bratislava 1 | F11: 811 05 | G11: www.deaflympic.sk | H11: office@deaflympic.sk | I11: Peter Birka | J11: prezident | K11: Milena Fabšičová | L11: 421911370554 | M11: SK30 1100 0000 0029 2988 5740
A12: 56933312 | B12: Festival športu a cestovného ruchu o. z. | C12: občianske združenie | D12: Matúškova 1630/1 | E12: Dolný Kubín | F12: 026 01 | H12: jozef@kbmusic@sk | I12: Jozef Kozák | J12: predseda | K12: Jozef Kozák | L12: 421908030020
A13: 36793922 | B13: Fit&Co. s.r.o. | C13: spoločnosť s ručením obmedzeným | D13: Pribinova 8 | E13: Bratislava | F13: 81109 | H13: martin@365fitco.sk | I13: Martin Ranuša | J13: konateľ | K13: Martin Ranuša | L13: 421915777587 | R13: =A13 -> 36793922
A14: 54362318 | B14: Florbalový klub Snina | C14: občianske združenie | D14: Pribinova 1458/21 | E14: Snina | F14: 069 01 | H14: sninskyflorbal@gmail.com | I14: Martin Biľo | J14: predseda | K14: Martin Biľo | L14: 421907462677 | M14: SK68 0900 0000 0051 9207 0152
A15: 42403626 | B15: Gaál Wrestling Team, o.z. | C15: občianske združenie | D15: Gen. Smetanov háj 288/18 | E15: Dunajská Streda | F15: 929 01 | H15: gaal.wrestling.team@gmail.com | I15: Peter Lukács | J15: predseda | K15: Peter Lukács | L15: 421918199006 | R15: =A15 -> 42403626
A16: 53939042 | B16: Gladiators TnUAD Trenčín n.o | C16: Nezisková organizácia poskytujúca všeobecne prospešné služby | D16: Trenčianske Jastrabie 56 | E16: Trenčianske Jastrabie | F16: 913 22 | G16: www.gladiatorstrencin.sk | H16: lfryvaldsky@gmail.com | I16: Lukáš Frývaldský | J16: riaditeľ | K16: Lukáš Frývaldský | L16: 421904760660 | M16: SK75 1100 0000 0029 4527 4659 | R16: =A16 -> 53939042
A17: 52489159 | B17: HC UNIZA | C17: občianske združenie | D17: M. Šinského 936/11 | E17: Žilina | F17: 010 07 | G17: www.hc.uniza.sk | H17: hcuniza@gmail.com | I17: Alexander Gašparovič | J17: predseda | K17: Alexander Gašparovič | L17: 421905103966 | M17: SK63 8330 0000 0025 0203 4322 | R17: =A17 -> 52489159
A18: 50005430 | B18: HK Košice - hádzanársky klub | C18: občianske združenie | D18: Tr. SNP 104 | E18: Košice | F18: 040 11 | G18: www.hkkosice.sk | H18: o.melich@gmail.com | I18: Ondrej Melich | J18: prezident | K18: Ondrej Melich | L18: 421905922204 | M18: SK16 0900 0000 0051 7115 0225 | R18: =A18 -> 50005430
A19: 00603481 | B19: Hlavné mesto Slovenskej republiky Bratislava | C19: samostatný územný samosprávny celok | D19: Primaciálne námestie č. 1 | E19: Bratislava | F19: 814 99 | G19: www.bratislava.sk | H19: sport@bratislava.sk | I19: Ctibor Košťál | J19: riaditeľ Magistrátu hlavného mesta SR Bratislavy
A20: 42419981 | B20: Hokejový klub Spiš Indians | C20: občianske združenie | D20: Ulica Športovcov 985/8 | E20: Levoča | F20: 054 01 | G20: www.spisindians.com | H20: rakel@levonet.sk | I20: Radoslav Kellner | J20: predseda | K20: Radoslav Kellner | L20: 421905906040 | M20: SK24 0900 0000 0050 8246 0459 | R20: =A20 -> 42419981
A21: 17151261 | B21: Hokejový klub Spišská Nová Ves | C21: občianske združenie | D21: T. Vansovej 1286/1 | E21: Spišská Nová Ves | F21: 052 01 | G21: www.hksnv.sk | H21: rapacrichard@hotmail.com | I21: Richard Rapáč | J21: riaditeľ | K21: Richard Rapáč | M21: SK40 1100 0000 0026 2984 0698 | R21: =A21 -> 17151261
A22: 50879391 | B22: Hokejový klub UMB | C22: občianske združenie | D22: Hronské predmestie 1452/4 | E22: Banská Bystrica | F22: 974 01 | G22: www.umbhockey.sk | H22: lukas@umbhockey.sk | I22: Lukáš Opáth | J22: prezident | M22: SK12 0900 0000 0051 3456 4613
A23: 50642804 | B23: iCompete Natural Slovakia | C23: občianske združenie | D23: Jesenského 71 | E23: Zvolen | F23: 960 01 | G23: www.icn.sk | H23: icn@icn.sk | I23: René Tomášek | J23: prezident | K23: René Tomášek | L23: 421905819613 | M23: SK84 7500 0000 0040 3183 7581 | R23: =A23 -> 50642804
A24: 42313431 | B24: Jazdecký klub Masarykov Dvor | C24: občianske združenie | D24: Vígľaš 361 | E24: Vígľaš | F24: 962 02 | G24: www.jkmasaryk.sk | H24: administrativa@mdvor.sk | I24: Martin Malatinec | J24: predseda | K24: Simona Škamlová | L24: 421918991198
A25: 42234425 | B25: JUDO CLUB Bardejov o. z. | C25: občianske združenie | D25: J.Grešáka 2745/15 | E25: Bardejov | F25: 085 01 | G25: www.judovychod.sk | H25: stanislav.mlynaric@centrum.sk | I25: Stanislav Mlynarič | J25: podpredseda | K25: Stanislav Mlynarič
A26: 37956035 | B26: Judo Klub Dukla Banská Bystrica | C26: občianske združenie | R26: =A26 -> 37956035
A27: 35533099 | B27: Karate Klub IGLOW, o. z. | C27: občianske združenie | D27: Javorová 9 | E27: Spišská Nová Ves | F27: 052 01 | G27: https://www.kkiglow.sk/ | H27: jaro.javorsky14@gmail.com | I27: Jaroslav Javorský | J27: predseda | K27: Jaroslav Javorský | L27: 421903601117 | M27: SK81 7500 0000 0040 3512 9136 | R27: =A27 -> 35533099
A28: 45011893 | B28: Klub gymnastických športov Slávia Trnava | C28: občianske združenie | D28: Rybníkova 6 | E28: Trnava | F28: 917 01 | G28: https://gymnastikatrnava.sk/ | H28: kgsslaviatrnava@gmail.com | I28: Ján Novák | J28: predseda | K28: Ján Novák | L28: 421911024681 | M28: SK18 1100 0000 0029 4608 3598 | R28: =A28 -> 45011893
A29: 31940803 | B29: Klub plaveckých športov Nereus Žilina, o. z. | C29: občianske združenie | D29: Vysokoškolákov 1765/8 | E29: Žilina | F29: 010 08 | G29: www.nereus.sk | H29: Jurkovic.t@gmail.com | I29: Tomáš Jurkovič | J29: predseda | K29: Tomáš Jurkovič
A30: 37812025 | B30: Klub rádiového orientačného behu Medik Martin | C30: občianske združenie | D30: Malá Hora 4066/4 | E30: Martin | F30: 036 01 | H30: simecek@jfned.uniba.sk | I30: Jozef Šimeček | K30: Jozef Šimeček | L30: 421905204759 | M30: SK51 0900 0000 0003 5189 3357 | R30: =A30 -> 37812025
A31: 36082538 | B31: Klub sálového futbalu Športový klub Prednádražie Trnava | C31: občianske združenie | D31: Ulica Čajkovského 6331/39 | E31: Trnava | F31: 917 08 | G31: prengocup.com | H31: michalik.m@gmail.com | I31: Martin Michalík | J31: predseda | K31: Martin Michalík | R31: =A31 -> 36082538
A32: 17067065 | B32: Letecká amatérska asociácia Slovenskej republiky | C32: občianske združenie | D32: Jánošíkova 264/19 | E32: Žilina | F32: 010 01 | G32: www.laa.sk | H32: sekretariat@laa.sk | I32: Miroslav Jančiar | J32: predseda | K32: Miroslav Jančiar | L32: 421903441416 | R32: =A32 -> 17067065
A33: 51027097 | B33: Letecko-raketomodelárska asociácia Slovenska o.z. | C33: občianske združenie | D33: J.Š. Šikuru 11616/74A | E33: Martin | F33: 036 08 | G33: https://www.lermas.sk/ | H33: sekretariat@lermas.sk | I33: Ľubomír Krupár | J33: predseda | K33: Ľubomír Krupár | L33: 421910946689 | M33: SK54 0900 0000 0052 4075 8681 | R33: =A33 -> 51027097
A34: 35804246 | B34: MACO RACING, s r.o. | C34: spoločnosť s ručením obmedzeným | D34: Obežná 12 | E34: Bratislava | F34: 821 02 | G34: www.macoracing.com | H34: info@macoracing.com | I34: Denisa Grešková | J34: konateľ | K34: Denisa Grešková | L34: 421903723738
A35: 42269423 | B35: MAMMAL - Slovenský zväz MMA | C35: občianske združenie | D35: Židovská 298/19 | E35: Bratislava 1 | F35: 811 01 | G35: www.mammal.sk | H35: info@mammal.sk; marek.herda@mammal.sk | I35: Marek Herda | J35: prezident | K35: Jana Gurová | L35: 421903555547 | M35: SK90 0200 0000 0049 7897 1855 | R35: =A35 -> 42269423
A36: 00630616 | B36: Maratón klub Rajec | C36: občianske združenie | D36: Mudrochova 909/4 | E36: Rajec | F36: 015 01 | G36: www.rajeckymaraton.sk | H36: pavol.uhlarik@gmail.com | I36: Pavol Uhlárik | J36: predseda | K36: Pavol Uhlárik | R36: =A36 -> 00630616
A37: 53332504 | B37: Mestský športový klub IUVENTA Michalovce o.z. | C37: občianske združenie | D37: Karola Kuzmányho 6225/24 | E37: Michalovce | F37: 071 01 | G37: www.iuventa-zhk.sk | H37: iuventa-zhk@iuventa-zhk.sk | I37: Patrik Sabov | J37: prezident klubu | K37: Jana Čalovková | L37: 421903411449 | R37: =A37 -> 53332504
A38: 42413095 | B38: Mládežnícky športový klub Senec | C38: občianske združenie | D38: Košická 8 | E38: Senec | F38: 903 01 | G38: www.msksenec.sk | H38: ladislav.talamon@gmail.com | I38: Ľudovít Szabo | J38: predseda | K38: Ladislav Talamon | L38: 421918784551 | R38: =A38 -> 42413095
A39: 57018421 | B39: Mladí v kraji | C39: občianske združenie | D39: Horná 260/81 | E39: Lieskovec | F39: 962 21 | H39: simon.tavoda@gmail.com | I39: Timotej Daubner | J39: predseda | K39: Šimon Ťavoda | L39: 421902838313 | R39: =A39 -> 57018421
A40: 53018109 | B40: Nadácia S4S | C40: nadácia | D40: Pluhová 2 | E40: Bratislava | F40: 831 03 | G40: www.starsforstars.eu | H40: masarcin@starsforstars.eu | I40: Miroslav Masarčin | J40: správca nadácie | K40: Miroslav Masarčin | L40: 421903752699 | M40: SK69 1100 0000 0029 4209 2294 | R40: =A40 -> 53018109
A41: 50607332 | B41: OCRA Slovakia | C41: občianske združenie | D41: Kadnárova 2512/17 | E41: Bratislava 3 | F41: 831 52 | G41: www.ocraslovakia.sk | H41: martin.raffay@gmail.com | I41: Martin Raffay | J41: prezident | K41: Richard Zavadil | L41: 421918817207 | M41: SK69 1100 0000 0029 4520 3666 | R41: =A41 -> 50607332
A42: 56153066 | B42: OFK DYNAMO MALŽENICE, s. r. o. | C42: spoločnosť s ručením obmedzeným | D42: Malženice 290 | E42: Malženice | F42: 919 29 | G42: https://www.dynamomalzenice.sk/ | H42: dynamomalzenice@gmail.com | I42: Karol Šurina | J42: konateľ | K42: Peter Macho | L42: 421908775343 | R42: =A42 -> 56153066
A43: 55758843 | B43: OZ Erika Beňová ČD | C43: občianske združenie | D43: Nám. Š.M. Daxnera 1723 | E43: Rimavská Sobota | F43: 979 01 | G43: www.cisteduse.sk | H43: cisteduse1@gmail.com | I43: Erika Beňová | J43: predseda | K43: Erika Beňová | L43: 421948842110 | M43: SK65 7500 2000 0200 0766 1397 | R43: =A43 -> 55758843
A44: 51068125 | B44: Philosophers Nitra | C44: občianske združenie | D44: Bazovského 417/16 | E44: Nitra | F44: 949 11 | G44: www.philosophers.sk | H44: philosophershockey@gmail.com | I44: Martin Uhnák | J44: predseda | K44: Martin Uhnák | L44: 421908842839 | M44: SK89 0900 0000 0052 3497 9373 | R44: =A44 -> 51068125
A45: 48136387 | B45: Pilot JET s.r.o. | C45: spoločnosť s ručením obmedzeným | D45: Ružinovská 3 | E45: Bratislava | F45: 821 02 | G45: www.letisko-jasna.sk | H45: cpt@atlas.sk | I45: Miroslav Toma | J45: prokurista | K45: Miroslav Toma | L45: 421908794333 | M45: SK34 0200 0000 0072 1869 6655 | R45: =A45 -> 48136387
A46: 50629158 | B46: Pohyb ako dar | C46: občianske združenie | D46: Bazovského 3138/1 | E46: Bratislava | F46: 841 01 | G46: https://www.odtatierkdunaju.sk/index.php/sk/ | H46: bebold21@gmail.com | I46: Štefan Šogor | J46: predseda | K46: Štefan Šogor | R46: =A46 -> 50629158
A47: 35546913 | B47: SKI CLUB VRÁTNA | C47: občianske združenie | D47: Južná trieda 2254/46 | E47: Košice | F47: 040 01 | G47: www.vratna.org | H47: suhajdas@icos.sk | I47: Silvia Smereková, Iveta Urbanová | J47: člen správnej rady, člen správnej rady | K47: Andrej Gábriš
A48: 42254302 | B48: Slávia Gymnastické centrum Bratislava | C48: občianske združenie | D48: Wolkrova 47 | E48: Bratislava | F48: 851 01 | G48: www.gymnastickecentrum.sk | H48: info@gymslaviauk.sk | I48: Tibor Letko | J48: predseda | K48: Tibor Letko | L48: 421903413040 | M48: SK89 0900 0000 0052 3518 8602
A49: 30787009 | B49: Slovenská asociácia amerického futbalu, o.z. | C49: občianske združenie | D49: Nevädzová 17211/6B | E49: Bratislava | F49: 821 01 | G49: www.saaf.sk | H49: info@saaf.sk | I49: Michal Slašťan | J49: prezident | K49: Michal Slašťan | L49: 421908868248 | M49: SK90 8330 0000 0021 0189 0697 | R49: =A49 -> 30787009
A50: 00631655 | B50: Slovenská asociácia boccie | C50: občianske združenie | D50: Ulica Vajanského 874/46 | E50: Lučenec | F50: 984 01 | G50: www.bocce.sk | H50: slovenska.asociacia.bocce@gmail.com | I50: Ján Macko, Lukáš Bolla, Richard Čonka | J50: prezident, predseda, predseda | K50: Ján Macko | L50: 421919188236 | M50: SK92 8330 0000 0026 0113 7730 | R50: =A50 -> 00631655
A51: 42019541 | B51: Slovenská asociácia čínskeho wushu | C51: občianske združenie | D51: Ladislava Dérera 35 | E51: Bratislava | F51: 831 01 | G51: www.wushuslovakia.sk | H51: email@wushuslovakia.sk | I51: Ľubomír France | J51: prezident | K51: Ľubomír France | L51: 421905948422 | M51: SK12 8330 0000 0024 0152 5392 | R51: =A51 -> 42019541
A52: 30810108 | B52: Slovenská Asociácia Dynamickej Streľby | C52: občianske združenie | D52: Skautská 2 | E52: Košice | F52: 040 01 | G52: www.sads.sk | H52: prezident@sads.sk | I52: Bystrík Zachar | J52: prezident | K52: Bystrík Zachar | L52: 421915184709 | M52: SK75 3100 0000 0040 0020 5012 | R52: =A52 -> 30810108
A53: 30842069 | B53: Slovenská asociácia fitnes, kulturistiky a silového trojboja | C53: občianske združenie | D53: Olympijské námestie 14290/1 | E53: Bratislava | F53: 832 80 | G53: www.safkst.sk | H53: sekretariat@safkst.sk | I53: Boris Mlsna | J53: prezident | K53: Lucia Čermáková | L53: 421908965156 | M53: SK77 0900 0000 0051 7589 2912 | R53: =A53 -> 30842069
A54: 31749852 | B54: Slovenská asociácia Frisbee | C54: občianske združenie | D54: Malženice 511 | E54: Malženice | F54: 919 29 | G54: www.szf.sk | H54: safslovakia@gmail.com | I54: Richard Kollár | J54: predseda | K54: Martin Keseg | L54: 421905998953 | M54: SK62 0200 0000 0000 7763 5012 | R54: =A54 -> 31749852
A55: 30844711 | B55: Slovenská asociácia go | C55: občianske združenie | D55: Olympijské námestie 14290/1 | E55: Bratislava | F55: 832 80 | G55: www.sago.sk | H55: slovakgo@gmail.com | I55: Martin Lukáč | J55: prezident | K55: Martin Lukáč; Miroslav Poliak | L55: 421903187087; 421903200136 | M55: SK31 8330 0000 0025 0173 0318 | R55: =A55 -> 30844711
A56: 31940668 | B56: Slovenská asociácia korfbalu | C56: občianske združenie | D56: Makovického 6/2 | E56: Prievidza | F56: 971 01 | G56: www.korfbal.sk | H56: martinsonoga@gmail.com | I56: Martin Sonoga | J56: prezident | K56: Martin Sonoga | L56: 421911361044 | M56: SK91 3100 0000 0040 0116 2405 | R56: =A56 -> 31940668
A57: 31824021 | B57: Slovenská asociácia motoristického športu | C57: občianske združenie | D57: Fatranská 3 | E57: Nitra | F57: 949 01 | G57: www.sams-asn.sk | H57: samssk@nextra.sk | I57: Dušan Koblišek | J57: prezident | K57: Vojtech Ruisl | L57: 421903403105 | M57: SK29 3100 0000 0042 2012 1718 | R57: =A57 -> 31824021
A58: 45009660 | B58: Slovenská asociácia naturálnej kulturistiky | C58: občianske združenie | D58: Štefániková 3509/20 | E58: Michalovce | F58: 071 01 | G58: www.sank.sk | H58: rigosank@gmail.com | I58: Viliam Rigo | J58: prezident | K58: Viliam Rigo | L58: 421917812810 | M58: SK83 0900 0000 0051 5460 0722 | R58: =A58 -> 45009660
A59: 30811686 | B59: Slovenská asociácia pretláčania rukou | C59: občianske združenie | D59: Vavrečka 311 | E59: Námestovo | F59: 029 01 | G59: www.armsport.sk | H59: sekretariat@armsport.sk | I59: Ján Germánus | J59: prezident | K59: Dagmar Petrová | L59: 421905162424 | M59: SK46 0900 0000 0000 1147 3305 | R59: =A59 -> 30811686
A60: 30814910 | B60: Slovenská asociácia taekwondo WT | C60: občianske združenie | D60: Hlavná 37/68 | E60: Košice | F60: 040 01 | G60: new.satkd.sk | H60: satkd.office@gmail.com | I60: Mário Švec | J60: prezident | K60: Pavel Ižarik; Alexandra Filipová | L60: 421902901640; 421911011900 | M60: SK19 8330 0000 0021 0142 0070 | R60: =A60 -> 30814910
A61: 17316731 | B61: Slovenská asociácia univerzitného športu | C61: občianske združenie | D61: Trnavská cesta 37 | E61: Bratislava 3 | F61: 831 04 | G61: www.saus.sk | H61: saus@saus.sk | I61: Július Dubovský | J61: prezident | K61: Michaela Masárová | L61: 421907696186 | M61: SK51 1100 0000 0026 2902 3663
A62: 31929931 | B62: SLOVENSKÁ ASOCIÁCIA ZLATOKOPOV | C62: občianske združenie | D62: Ulica R. Jašíka 3004/1D | E62: Prievidza | F62: 971 01 | G62: https://ryzovaniezlata.sk/ | H62: asociaciazlatokopov@gmail.com | I62: František Küffer | J62: prezident | K62: František Küffer | L62: 421918478290 | M62: SK81 0900 0000 0052 3329 5500 | R62: =A62 -> 31929931
A63: 30841798 | B63: Slovenská asociácia zrakovo postihnutých športovcov | C63: občianske združenie | D63: Kúpeľná 1843/81 | E63: Bojnice | F63: 972 01 | G63: www.sazps.sk | H63: sazps@sazps.sk | I63: Jakub Krako | J63: predseda | K63: Jakub Krako | L63: 421907448837 | M63: SK95 8330 0000 0021 0076 9190 | R63: =A63 -> 30841798
A64: 30844568 | B64: Slovenská baseballová federácia | C64: občianske združenie | D64: Olympijské námestie 14290/1 | E64: Bratislava | F64: 831 04 | G64: www.slovakiabaseball.com | H64: office@slovakiabaseball.com | I64: Martin Čerňák | J64: prezident | K64: František Bunta | L64: 421905294239 | M64: SK09 0200 0000 0017 8566 0854 | R64: =A64 -> 30844568
A65: 17315166 | B65: Slovenská basketbalová asociácia | C65: občianske združenie | D65: Kalinčiakova 33 | E65: Bratislava | F65: 831 04 | G65: www.slovakbasket.sk | H65: sekretariat@slovakbasket.sk | I65: Michal Ondruš | J65: prezident | K65: Štefan Kubík | L65: 421905504810 | M65: SK94 1100 0000 0029 2586 5005 | R65: =A65 -> 17315166
A66: 31744621 | B66: Slovenská boxerská federácia | C66: občianske združenie | D66: Dr. Vladimíra Clementisa 3222/10 | E66: Bratislava | F66: 821 02 | G66: www.sbf.sk | H66: sbf@sbf.sk | I66: Tomáš Kovács | J66: prezident | K66: Ivana Haršányová | L66: 421949246786 | M66: SK63 0200 0000 0017 8550 5555 | O66: SK69 0200 0000 0039 3346 9955 | R66: =A66 -> 31744621
A67: 34056939 | B67: SLOVENSKÁ CYKLOTRIALOVÁ ÚNIA | C67: občianske združenie | D67: Štefánikova 4445 | E67: Poprad | F67: 058 01 | G67: https://slovakbiketrial.sk/ | H67: stefan@pcola.sk | I67: Štefan Pčola | J67: prezident | K67: Mgr. Štefan Pčola | L67: 421,905,607,646 | M67: SK82 7500 0000 0040 2786 8668 | R67: =A67 -> 34056939
A68: 37824465 | B68: Slovenská Escrima Wing Tsun Organizácia (SEWTO) | C68: občianske združenie | D68: Rožňavská 856/10 | E68: Rimavská Sobota | F68: 979 01 | G68: www.sewto.sk | H68: kuvik@devik.sk | I68: Marian Kuvik | J68: predseda | K68: Marian Kuvik | L68: 421907344996 | M68: SK71 7500 0000 0040 3002 0617 | R68: =A68 -> 37824465
A69: 34003975 | B69: Slovenská federácia karate a bojových umení | C69: občianske združenie | D69: Miletičova 3/A | E69: Bratislava | F69: 821 08 | G69: www.karate-slovakia.sk | H69: info@karate-slovakia.sk | I69: Daniel Baran | J69: prezident | K69: Peter Kotásek | L69: 421915472241 | M69: SK51 0200 0000 0011 8096 9955 | R69: =A69 -> 34003975
A70: 36064742 | B70: Slovenská federácia pétanque | C70: občianske združenie | D70: Karpatské námestie 10A | E70: Bratislava | F70: 831 06 | G70: www.sfp.sk | H70: peter.sury@gmail.com | I70: Peter Šúry | J70: prezident | K70: Peter Šúry | L70: 421903421644 | M70: SK28 8330 0000 0023 0103 3104
A71: 42361885 | B71: Slovenská footgolfová asociácia | C71: občianske združenie | D71: Medveďovej 13 | E71: Bratislava | F71: 851 04 | G71: www.sfga.sk | H71: info@sfga.sk | I71: Viliam Nemčko | J71: prezident | K71: Tomáš Bartko | L71: 421903204367 | M71: SK72 1111 0000 0014 6314 7011 | R71: =A71 -> 42361885
A72: 50284363 | B72: Slovenská golfová asociácia | C72: občianske združenie | D72: Kukučínova 26 | E72: Bratislava | F72: 831 02 | G72: www.skga.sk | H72: skga@skga.sk | I72: Michal Krnáč, Miroslav Rusnák | J72: prezident, viceprezident | K72: Zuzana Soldánová | L72: 421911865045 | M72: SK42 0900 0000 0052 1113 2866 | R72: =A72 -> 50284363
A73: 00688321 | B73: Slovenská gymnastická federácia | C73: občianske združenie | D73: Olympijské námestie 14290/1 | E73: Bratislava | F73: 831 04 | G73: www.sgf.sk | H73: office@sgf.sk | I73: Ľuboš Vilček, Silvia Ruščinová | J73: prezident, generálna sekretárka | K73: Silvia Ruščinová | L73: 421915177492 | M73: SK53 0900 0000 0051 0865 8667 | R73: =A73 -> 00688321
A74: 00603091 | B74: Slovenská hokejbalová únia | C74: občianske združenie | D74: Olympijské námestie 14290/1 | E74: Bratislava | F74: 831 04 | G74: www.hokejbal.sk | H74: hokejbal@hokejbal.sk | I74: Miroslav Dragun | J74: prezident | K74: Miroslav Dragun | L74: 421908145184 | M74: SK77 0200 0000 0017 8572 3456 | R74: =A74 -> 00603091
A75: 54041368 | B75: SLOVENSKÁ CHEERLEADING ÚNIA | C75: občianske združenie | D75: Novozámocká 3212/22 | E75: Zvolen | F75: 960 01 | G75: www.scu.sk | H75: president.scu@scu.sk; info@scu.sk | I75: Zuzana Niščáková | J75: prezidentka | K75: Zuzana Niščáková | L75: 421905380634 | M75: SK09 8330 0000 0026 0266 7944 | R75: =A75 -> 54041368
A76: 31787801 | B76: SLOVENSKÁ JAZDECKÁ FEDERÁCIA | C76: občianske združenie | D76: Olympijské námestie 14290/1 | E76: Bratislava | F76: 831 04 | G76: www.sjf.sk | H76: baciak.masarykova@sjf.sk | I76: Vladimír Chovan | J76: predseda | K76: Zuzana Bačiak Masaryková | L76: 421907100191 | M76: SK06 0900 0000 0001 7426 1462 | R76: =A76 -> 31787801
A77: 50434101 | B77: Slovenská kanoistika | C77: občianske združenie | D77: Olympijské námestie 14290/1 | E77: Bratislava | F77: 831 04 | G77: www.canoe.sk | H77: canoe@canoe.sk | I77: Richard Galovič, Erik Vlček | J77: prezident, predseda | K77: Boris Bergendi | L77: 421905659739 | M77: SK77 0900 0000 0051 1559 0728 | R77: =A77 -> 50434101
A78: 30853427 | B78: Slovenská Lakrosová Federácia | C78: občianske združenie | D78: Jarabinková 6/B | E78: Bratislava | F78: 821 09 | G78: www.lacrosse.sk | H78: eminentasro@gmail.com | I78: Igor Moravčík | J78: prezident | K78: Igor Moravčík | L78: 421905620961 | M78: SK65 0200 0000 0041 7252 5557
A79: 36075809 | B79: Slovenská lukostrelecká asociácia 3D | C79: občianske združenie | D79: Trnovec nad Váhom 1040 | E79: Trnovec nad Váhom | F79: 825 71 | G79: www.archery3d.sk | H79: info@archery3d.sk | I79: Jana Harabinová | J79: predseda | K79: Jana Harabinová | L79: 421908737634 | M79: SK63 8330 0000 0020 0175 2748
A80: 30813883 | B80: Slovenská motocyklová federácia | C80: občianske združenie | D80: Športovcov 340 | E80: Považská Bystrica | F80: 017 01 | G80: www.smf.sk | H80: smf@smf.sk | I80: Peter Lazar | J80: prezident | K80: Tatiana Kašlíková | L80: 421905601243 | M80: SK96 0900 0000 0003 6178 9457
A81: 34057587 | B81: Slovenská Muaythai Asociácia | C81: občianske združenie | D81: Lermontovova 3 | E81: Bratislava | F81: 811 05 | G81: www.smta.sk | H81: office@smta.sk | I81: Róbert Kajánek | J81: prezident | K81: Róbert Kajánek | L81: 421903584555 | M81: SK64 1100 0000 0029 4704 5980
A82: 30806887 | B82: Slovenská nohejbalová asociácia | C82: občianske združenie | D82: Olympijské námestie 14290/2 | E82: Bratislava 3 | F82: 832 80 | G82: www.nohejbal-futnet.sk | H82: nohejbal.sna@gmail.com | I82: Miroslav Kováč | J82: prezident | K82: Miroslav Kováč | L82: 421917800004 | M82: SK75 0200 0000 0017 8646 8258
A83: 36068764 | B83: Slovenská plavecká federácia | C83: občianske združenie | D83: Za kasárňou 315/1 | E83: Bratislava | F83: 831 03 | G83: www.swimmsvk.sk | H83: prezident@swimmsvk.sk | I83: Ivan Šulek | J83: prezident | K83: Ivan Šulek | L83: 421905297832 | M83: SK13 0200 0000 0030 7422 5951
A84: 30851459 | B84: Slovenská rugbyová únia | C84: občianske združenie | D84: Hrobákova 1 | E84: Bratislava | F84: 851 02 | G84: www.rugbyunion.sk | H84: office@rugbyunion.sk | I84: Eduard Krützner | J84: prezident | K84: Miloslav Surgoš | L84: 421905936379 | M84: SK14 0200 0000 0028 4751 3556
A85: 37998919 | B85: Slovenská skialpinistická asociácia | C85: občianske združenie | D85: Jalovec 98 | E85: Bobrovec | F85: 032 21 | G85: www.slovakskimo.sk | H85: info@slovakskimo.sk | I85: Michaela Babčanová | J85: podpredseda | K85: Michaela Babčanová | L85: 421915156717 | M85: SK69 1100 0000 0026 2009 8466
A86: 17316723 | B86: Slovenská softballová asociácia | C86: občianske združenie | D86: Olympijské námestie 14290/1 | E86: Bratislava | F86: 831 04 | G86: www.slovakiasoftball.com | H86: office@softballslovakia.com | I86: Mojmír Jankovič | J86: prezident | K86: František Bunta | L86: 421905294239 | M86: SK37 0200 0000 0017 8559 5554
A87: 30807018 | B87: Slovenská squashová asociácia | C87: občianske združenie | D87: Olympijské námestie 14290/1 | E87: Bratislava | F87: 831 04 | G87: www.squashtour.sk | H87: gs@squash.sk | I87: Dávid Kubiček | J87: generálny sekretár | K87: Dávid Kubiček | L87: 421908447934 | M87: SK75 0200 0000 0017 8581 8455
A88: 31745466 | B88: Slovenská triatlonová únia | C88: občianske združenie | D88: Olympijské námestie 14290/1 | E88: Bratislava | F88: 831 04 | G88: www.triathlon.sk | H88: triathlon@triathlon.sk | I88: Simon Brunovský | J88: prezident | K88: Peter Dobiaš | L88: 421918234840 | M88: SK41 0200 0000 0017 8359 4857
A89: 00688819 | B89: Slovenská volejbalová federácia | C89: občianske združenie | D89: Kalinčiakova 33 | E89: Bratislava | F89: 831 04 | G89: www.svf.sk | H89: svf@svf.sk | I89: Marek Rojko | J89: prezident | K89: Jozef Mihalco | L89: 421911427222 | M89: SK03 0200 0000 0017 7219 1251
A90: 36063835 | B90: Slovenský atletický zväz | C90: občianske združenie | D90: Olympijské námestie 14290/1 | E90: Bratislava | F90: 831 04 | G90: www.atletika.sk | H90: office@atletika.sk | I90: Peter Korčok, Vladimír Gubrický | J90: prezident, generálny sekretár | K90: Vladimír Gubrický | L90: 421905278836 | M90: SK17 0200 0000 0017 8547 1754 | O90: SK16 0200 0000 0039 3390 6051
A91: 30845688 | B91: Slovenský bežecký spolok | C91: občianske združenie | D91: Olympijské námestie 14290/1 | E91: Bratislava | F91: 832 80 | G91: www.behy.online | H91: behy@behy.online | I91: Jozef Baráth | J91: predseda | K91: Jozef Baráth | L91: 421907397739 | M91: SK12 8330 0000 0021 0330 0929
A92: 31753825 | B92: Slovenský biliardový zväz | C92: občianske združenie | D92: Olympijské námestie 14290/1 | E92: Bratislava | F92: 831 04 | G92: www.sbiz.sk | H92: lukas.kovac@sbiz.sk | I92: Lukáš Kováč | J92: predseda | K92: Lukáš Kováč | L92: 421910161266 | M92: SK40 0200 0000 0017 8851 0253
A93: 36128147 | B93: Slovenský bowlingový zväz | C93: občianske združenie | D93: Dunajská 12 | E93: Košice | F93: 040 11 | G93: www.slovakbowling.sk | H93: merkovskyv@gmail.com | I93: Vladimír Merkovský | J93: prezident | K93: Vladimír Merkovský | L93: 421903712927 | M93: SK70 1100 0000 0026 2878 1403
A94: 31770908 | B94: Slovenský bridžový zväz | C94: občianske združenie | D94: Pluhová 1662 | E94: Rovinka | F94: 900 41 | G94: www.bridgeclub.sk | H94: sbz@bridgeclub.sk | I94: Milan Krajčo | J94: prezident | K94: Milan Krajčo | L94: 421915713543 | M94: SK70 8330 0000 0024 0352 5070
A95: 37841866 | B95: Slovenský curlingový zväz | C95: občianske združenie | D95: Nevädzova 806/5 | E95: Bratislava | F95: 821 01 | G95: www.curling.sk | H95: office@curling.sk | I95: Pavol Pitoňák | J95: predseda | K95: Pavel Kocian | L95: 421918824449 | M95: SK82 0200 0000 0017 0714 0853
A96: 00687308 | B96: Slovenský futbalový zväz | C96: občianske združenie | D96: Tomášikova 30C | E96: Bratislava | F96: 821 01 | G96: www.futbalsfz.sk | H96: msvvas@futbalsfz.sk | I96: Ján Kováčik | J96: prezident | K96: Marcel Korinek | L96: 421907984638 | M96: SK80 0900 0000 0051 1021 1442
A97: 00586455 | B97: Slovenský horolezecký spolok JAMES | C97: občianske združenie | D97: Olympijské námestie 14290/1 | E97: Bratislava | F97: 831 04 | G97: www.james.sk | H97: office@james.sk | I97: Anton Pacek | J97: predseda | K97: Anton Pacek | L97: 421911597705 | M97: SK53 0200 0000 0017 7177 3057 | O97: SK81 0200 0000 0039 3831 5859
A98: 31771688 | B98: Slovenský kolkársky zväz | C98: občianske združenie | D98: Štúrova 1158/22 | E98: Piešťany | F98: 921 01 | G98: www.kolky.sk | H98: sekretariat@kolky.sk | I98: Štefan Kočan | J98: prezident | K98: Eva Ondrejkovičová | L98: 421905762340 | M98: SK56 0200 0000 0017 8579 0958
A99: 31805540 | B99: Slovenský krasokorčuliarsky zväz | C99: občianske združenie | D99: Záhradnícka 752/95 | E99: Bratislava | F99: 821 08 | G99: www.kraso.sk | H99: slovakskating@kraso.sk | I99: Peter Majerník | J99: predseda | K99: Jozef Beständig | L99: 421905504040 | M99: SK14 0200 0000 0017 8521 4758
A100: 30793009 | B100: Slovenský lukostrelecký zväz | C100: občianske združenie | D100: Olympijské námestie 14290/1 | E100: Bratislava | F100: 831 04 | G100: www.archerysvk.sk | H100: office@archerysvk.sk | I100: Vladimír Bužek | J100: predseda | K100: Vladimír Bužek | L100: 421903202270 | M100: SK53 0900 0000 0051 1920 0627
...

Sheet FP
A1: IČO | B1: Prijímateľ | C1: Predmet (názov, miesto, termín, parametre) | D1: Schválená (eur) | E1: SF (%) | F1: Účel | G1: PPG | H1: B/K | I1: ico+ucel | J1: ico+ppg | K1: Šport | L1: ICO+PPG+BK | M1: Zoraď | N1: ico+ucel+B/K
A2: 17066816 | B2: =VLOOKUP(A2,Adr!A:B,2,FALSE) -> Aeroklub Dubnica nad Váhom | C2: 50. ročník Let Strážovskou Hornatinou | D2: 5000 | E2: 0 | F2: f | G2: 026 03 | H2: B | I2: =A2&F2 -> 17066816f | J2: =A2&G2 -> 17066816026 03 | L2: =A2&G2&H2 -> 17066816026 03B | M2: =B2&F2&H2&C2 -> Aeroklub Dubnica nad VáhomfB50. ročník Let Strážovskou Hornatinou | N2: =+I2&H2 -> 17066816fB
A3: 37894021 | B3: =VLOOKUP(A3,Adr!A:B,2,FALSE) -> ASOCIÁCIA MAŽORETKOVÉHO ŠPORTU SLOVENSKO | C3: rozvoj športov, ktoré nie sú uznanými podľa zákona č. 440/2015 Z. z. | D3: 36700 | E3: 0 | F3: g | G3: 026 03 | H3: B | I3: =A3&F3 -> 37894021g | J3: =A3&G3 -> 37894021026 03 | L3: =A3&G3&H3 -> 37894021026 03B | M3: =B3&F3&H3&C3 -> ASOCIÁCIA MAŽORETKOVÉHO ŠPORTU SLOVENSKOgBrozvoj športov, ktoré nie sú uznanými podľa zákona č. 440/2015 Z. z. | N3: =+I3&H3 -> 37894021gB
A4: 00681482 | B4: =VLOOKUP(A4,Adr!A:B,2,FALSE) -> Asociácia športu pre všetkých Slovenskej republiky | C4: Slovensko v pohybe 2026 | D4: 50000 | E4: 0 | F4: f | G4: 026 03 | H4: B | I4: =A4&F4 -> 00681482f | J4: =A4&G4 -> 00681482026 03 | L4: =A4&G4&H4 -> 00681482026 03B | M4: =B4&F4&H4&C4 -> Asociácia športu pre všetkých Slovenskej republikyfBSlovensko v pohybe 2026 | N4: =+I4&H4 -> 00681482fB
A5: 42097631 | B5: =VLOOKUP(A5,Adr!A:B,2,FALSE) -> Atletický klub Slávia Technická univerzita Košice | C5: Skokom, behom, hodom do sveta - rozvoj pohybových zručností a návykov deti a mládeže v atletike | D5: 8000 | E5: 0 | F5: f | G5: 026 03 | H5: B | I5: =A5&F5 -> 42097631f | J5: =A5&G5 -> 42097631026 03 | L5: =A5&G5&H5 -> 42097631026 03B | M5: =B5&F5&H5&C5 -> Atletický klub Slávia Technická univerzita KošicefBSkokom, behom, hodom do sveta - rozvoj pohybových zručností a návykov deti a mládeže v atletike | N5: =+I5&H5 -> 42097631fB
A6: 55184707 | B6: =VLOOKUP(A6,Adr!A:B,2,FALSE) -> Baláž Racing | C6: Podpora mladého pretekára Matiasa Baláža v sezóne 2026 | D6: 8000 | E6: 0 | F6: f | G6: 026 03 | H6: B | I6: =A6&F6 -> 55184707f | J6: =A6&G6 -> 55184707026 03 | L6: =A6&G6&H6 -> 55184707026 03B | M6: =B6&F6&H6&C6 -> Baláž RacingfBPodpora mladého pretekára Matiasa Baláža v sezóne 2026 | N6: =+I6&H6 -> 55184707fB
A7: 57153647 | B7: =VLOOKUP(A7,Adr!A:B,2,FALSE) -> basket G Michalovce | C7: Zabezpečenie materiálno-organizačných podmienok pre kvalitnú prípravu hráčok v sezóne 2026/2027 | D7: 6900 | E7: 0 | F7: f | G7: 026 03 | H7: B | I7: =A7&F7 -> 57153647f | J7: =A7&G7 -> 57153647026 03 | L7: =A7&G7&H7 -> 57153647026 03B | M7: =B7&F7&H7&C7 -> basket G MichalovcefBZabezpečenie materiálno-organizačných podmienok pre kvalitnú prípravu hráčok v sezóne 2026/2027 | N7: =+I7&H7 -> 57153647fB
A8: 17641616 | B8: =VLOOKUP(A8,Adr!A:B,2,FALSE) -> Basketbalový klub Klokani Ivanka pri Dunaji | C8: Systematický rozvoj dievčenského mládežníckeho basketbalu v sezóne 2026 | D8: 10000 | E8: 0 | F8: f | G8: 026 03 | H8: B | I8: =A8&F8 -> 17641616f | J8: =A8&G8 -> 17641616026 03 | L8: =A8&G8&H8 -> 17641616026 03B | M8: =B8&F8&H8&C8 -> Basketbalový klub Klokani Ivanka pri DunajifBSystematický rozvoj dievčenského mládežníckeho basketbalu v sezóne 2026 | N8: =+I8&H8 -> 17641616fB
A9: 42089158 | B9: =VLOOKUP(A9,Adr!A:B,2,FALSE) -> Black Tiger Taekwondo - Klub Snina | C9: Projekt Vytvorme deťom a mládeži v našom meste vhodné podmienky pre ich športový rast | D9: 8000 | E9: 0 | F9: f | G9: 026 03 | H9: B | I9: =A9&F9 -> 42089158f | J9: =A9&G9 -> 42089158026 03 | L9: =A9&G9&H9 -> 42089158026 03B | M9: =B9&F9&H9&C9 -> Black Tiger Taekwondo - Klub SninafBProjekt Vytvorme deťom a mládeži v našom meste vhodné podmienky pre ich športový rast | N9: =+I9&H9 -> 42089158fB
A10: 42311462 | B10: =VLOOKUP(A10,Adr!A:B,2,FALSE) -> B-STAR | C10: B-STAR CUP 2026 | D10: 2000 | E10: 0 | F10: f | G10: 026 03 | H10: B | I10: =A10&F10 -> 42311462f | J10: =A10&G10 -> 42311462026 03 | L10: =A10&G10&H10 -> 42311462026 03B | M10: =B10&F10&H10&C10 -> B-STARfBB-STAR CUP 2026 | N10: =+I10&H10 -> 42311462fB
A11: 42254388 | B11: =VLOOKUP(A11,Adr!A:B,2,FALSE) -> Deaflympijský výbor Slovenska | C11: zabezpečenie činnosti a úloh v roku 2025 | D11: 390711 | E11: 0 | F11: c | G11: 026 03 | H11: B | I11: =A11&F11 -> 42254388c | J11: =A11&G11 -> 42254388026 03 | L11: =A11&G11&H11 -> 42254388026 03B | M11: =B11&F11&H11&C11 -> Deaflympijský výbor SlovenskacBzabezpečenie činnosti a úloh v roku 2025 | N11: =+I11&H11 -> 42254388cB
A12: 42254388 | B12: =VLOOKUP(A12,Adr!A:B,2,FALSE) -> Deaflympijský výbor Slovenska | C12: Antušeková Adela | D12: 9000 | E12: 0 | F12: d | G12: 026 03 | H12: B | I12: =A12&F12 -> 42254388d | J12: =A12&G12 -> 42254388026 03 | L12: =A12&G12&H12 -> 42254388026 03B | M12: =B12&F12&H12&C12 -> Deaflympijský výbor SlovenskadBAntušeková Adela | N12: =+I12&H12 -> 42254388dB
A13: 42254388 | B13: =VLOOKUP(A13,Adr!A:B,2,FALSE) -> Deaflympijský výbor Slovenska | C13: Antušeková Martina | D13: 22000 | E13: 0 | F13: d | G13: 026 03 | H13: B | I13: =A13&F13 -> 42254388d | J13: =A13&G13 -> 42254388026 03 | L13: =A13&G13&H13 -> 42254388026 03B | M13: =B13&F13&H13&C13 -> Deaflympijský výbor SlovenskadBAntušeková Martina | N13: =+I13&H13 -> 42254388dB
... A73: 42254302 | B73: =VLOOKUP(A73,Adr!A:B,2,FALSE) -> Slávia Gymnastické centrum Bratislava | C73: Zabezpečenie kontinuálnej športovej prípravy reprezentantov Slovenskej republiky v športovej gymnastike | D73: 9200 | E73: 0 | F73: f | G73: 026 03 | H73: B | I73: =A73&F73 -> 42254302f | J73: =A73&G73 -> 42254302026 03 | L73: =A73&G73&H73 -> 42254302026 03B | M73: =B73&F73&H73&C73 -> Slávia Gymnastické centrum BratislavafBZabezpečenie kontinuálnej športovej prípravy reprezentantov Slovenskej republiky v športovej gymnastike | N73: =+I73&H73 -> 42254302fB
A74: 30787009 | B74: =VLOOKUP(A74,Adr!A:B,2,FALSE) -> Slovenská asociácia amerického futbalu, o.z. | C74: americký futbal - bežné transfery | D74: 38332 | E74: 0 | F74: a | G74: 026 02 | H74: B | I74: =A74&F74 -> 30787009a | J74: =A74&G74 -> 30787009026 02 | K74: americký futbal | L74: =A74&G74&H74 -> 30787009026 02B | M74: =B74&F74&H74&C74 -> Slovenská asociácia amerického futbalu, o.z.aBamerický futbal - bežné transfery | N74: =+I74&H74 -> 30787009aB
A75: 00631655 | B75: =VLOOKUP(A75,Adr!A:B,2,FALSE) -> Slovenská asociácia boccie | C75: boccia - bežné transfery | D75: 34332 | E75: 0 | F75: a | G75: 026 02 | H75: B | I75: =A75&F75 -> 00631655a | J75: =A75&G75 -> 00631655026 02 | K75: boccia | L75: =A75&G75&H75 -> 00631655026 02B | M75: =B75&F75&H75&C75 -> Slovenská asociácia boccieaBboccia - bežné transfery | N75: =+I75&H75 -> 00631655aB
A76: 00631655 | B76: =VLOOKUP(A76,Adr!A:B,2,FALSE) -> Slovenská asociácia boccie | C76: boccia - kapitálové transfery | D76: 4000 | E76: 0 | F76: a | G76: 026 02 | H76: K | I76: =A76&F76 -> 00631655a | J76: =A76&G76 -> 00631655026 02 | K76: boccia | L76: =A76&G76&H76 -> 00631655026 02K | M76: =B76&F76&H76&C76 -> Slovenská asociácia boccieaKboccia - kapitálové transfery | N76: =+I76&H76 -> 00631655aK
A77: 00631655 | B77: =VLOOKUP(A77,Adr!A:B,2,FALSE) -> Slovenská asociácia boccie | C77: boule lyonnaise - bežné transfery | D77: 34332 | E77: 0 | F77: a | G77: 026 02 | H77: B | I77: =A77&F77 -> 00631655a | J77: =A77&G77 -> 00631655026 02 | K77: boule lyonnaise | L77: =A77&G77&H77 -> 00631655026 02B | M77: =B77&F77&H77&C77 -> Slovenská asociácia boccieaBboule lyonnaise - bežné transfery | N77: =+I77&H77 -> 00631655aB
A78: 00631655 | B78: =VLOOKUP(A78,Adr!A:B,2,FALSE) -> Slovenská asociácia boccie | C78: boule lyonnaise - kapitálové transfery | D78: 4000 | E78: 0 | F78: a | G78: 026 02 | H78: K | I78: =A78&F78 -> 00631655a | J78: =A78&G78 -> 00631655026 02 | K78: boule lyonnaise | L78: =A78&G78&H78 -> 00631655026 02K | M78: =B78&F78&H78&C78 -> Slovenská asociácia boccieaKboule lyonnaise - kapitálové transfery | N78: =+I78&H78 -> 00631655aK
A79: 42019541 | B79: =VLOOKUP(A79,Adr!A:B,2,FALSE) -> Slovenská asociácia čínskeho wushu | C79: wushu - bežné transfery | D79: 68538 | E79: 0 | F79: a | G79: 026 02 | H79: B | I79: =A79&F79 -> 42019541a | J79: =A79&G79 -> 42019541026 02 | K79: wushu | L79: =A79&G79&H79 -> 42019541026 02B | M79: =B79&F79&H79&C79 -> Slovenská asociácia čínskeho wushuaBwushu - bežné transfery | N79: =+I79&H79 -> 42019541aB
A80: 30810108 | B80: =VLOOKUP(A80,Adr!A:B,2,FALSE) -> Slovenská Asociácia Dynamickej Streľby | C80: dynamická streľba - bežné transfery | D80: 51766 | E80: 0 | F80: a | G80: 026 02 | H80: B | I80: =A80&F80 -> 30810108a | J80: =A80&G80 -> 30810108026 02 | K80: dynamická streľba | L80: =A80&G80&H80 -> 30810108026 02B | M80: =B80&F80&H80&C80 -> Slovenská Asociácia Dynamickej StreľbyaBdynamická streľba - bežné transfery | N80: =+I80&H80 -> 30810108aB
A81: 30810108 | B81: =VLOOKUP(A81,Adr!A:B,2,FALSE) -> Slovenská Asociácia Dynamickej Streľby | C81: 29th MOSQUITO MATCH 2026 – SLOVAK NATIONAL CHAMPIONSHIP | D81: 15000 | E81: 0 | F81: m | G81: 026 03 | H81: B | I81: =A81&F81 -> 30810108m | J81: =A81&G81 -> 30810108026 03 | L81: =A81&G81&H81 -> 30810108026 03B | M81: =B81&F81&H81&C81 -> Slovenská Asociácia Dynamickej StreľbymB29th MOSQUITO MATCH 2026 – SLOVAK NATIONAL CHAMPIONSHIP | N81: =+I81&H81 -> 30810108mB
A82: 30842069 | B82: =VLOOKUP(A82,Adr!A:B,2,FALSE) -> Slovenská asociácia fitnes, kulturistiky a silového trojboja | C82: fitnes a kulturistika - bežné transfery | D82: 898677 | E82: 0 | F82: a | G82: 026 02 | H82: B | I82: =A82&F82 -> 30842069a | J82: =A82&G82 -> 30842069026 02 | K82: fitnes a kulturistika | L82: =A82&G82&H82 -> 30842069026 02B | M82: =B82&F82&H82&C82 -> Slovenská asociácia fitnes, kulturistiky a silového trojbojaaBfitnes a kulturistika - bežné transfery | N82: =+I82&H82 -> 30842069aB
A83: 30842069 | B83: =VLOOKUP(A83,Adr!A:B,2,FALSE) -> Slovenská asociácia fitnes, kulturistiky a silového trojboja | C83: silové športy - bežné transfery | D83: 43062 | E83: 0 | F83: a | G83: 026 02 | H83: B | I83: =A83&F83 -> 30842069a | J83: =A83&G83 -> 30842069026 02 | K83: silové športy | L83: =A83&G83&H83 -> 30842069026 02B | M83: =B83&F83&H83&C83 -> Slovenská asociácia fitnes, kulturistiky a silového trojbojaaBsilové športy - bežné transfery | N83: =+I83&H83 -> 30842069aB
A84: 31749852 | B84: =VLOOKUP(A84,Adr!A:B,2,FALSE) -> Slovenská asociácia Frisbee | C84: športy s lietajúcim diskom - bežné transfery | D84: 152119 | E84: 0 | F84: a | G84: 026 02 | H84: B | I84: =A84&F84 -> 31749852a | J84: =A84&G84 -> 31749852026 02 | K84: športy s lietajúcim diskom | L84: =A84&G84&H84 -> 31749852026 02B | M84: =B84&F84&H84&C84 -> Slovenská asociácia FrisbeeaBšporty s lietajúcim diskom - bežné transfery | N84: =+I84&H84 -> 31749852aB
A85: 30844711 | B85: =VLOOKUP(A85,Adr!A:B,2,FALSE) -> Slovenská asociácia go | C85: go - bežné transfery | D85: 38332 | E85: 0 | F85: a | G85: 026 02 | H85: B | I85: =A85&F85 -> 30844711a | J85: =A85&G85 -> 30844711026 02 | K85: go | L85: =A85&G85&H85 -> 30844711026 02B | M85: =B85&F85&H85&C85 -> Slovenská asociácia goaBgo - bežné transfery | N85: =+I85&H85 -> 30844711aB
A86: 31940668 | B86: =VLOOKUP(A86,Adr!A:B,2,FALSE) -> Slovenská asociácia korfbalu | C86: korfbal - bežné transfery | D86: 70150 | E86: 0 | F86: a | G86: 026 02 | H86: B | I86: =A86&F86 -> 31940668a | J86: =A86&G86 -> 31940668026 02 | K86: korfbal | L86: =A86&G86&H86 -> 31940668026 02B | M86: =B86&F86&H86&C86 -> Slovenská asociácia korfbaluaBkorfbal - bežné transfery | N86: =+I86&H86 -> 31940668aB
A87: 31824021 | B87: =VLOOKUP(A87,Adr!A:B,2,FALSE) -> Slovenská asociácia motoristického športu | C87: automobilový šport - bežné transfery | D87: 697810 | E87: 0 | F87: a | G87: 026 02 | H87: B | I87: =A87&F87 -> 31824021a | J87: =A87&G87 -> 31824021026 02 | K87: automobilový šport | L87: =A87&G87&H87 -> 31824021026 02B | M87: =B87&F87&H87&C87 -> Slovenská asociácia motoristického športuaBautomobilový šport - bežné transfery | N87: =+I87&H87 -> 31824021aB
A88: 45009660 | B88: =VLOOKUP(A88,Adr!A:B,2,FALSE) -> Slovenská asociácia naturálnej kulturistiky | C88: rozvoj športov, ktoré nie sú uznanými podľa zákona č. 440/2015 Z. z. | D88: 32100 | E88: 0 | F88: g | G88: 026 03 | H88: B | I88: =A88&F88 -> 45009660g | J88: =A88&G88 -> 45009660026 03 | L88: =A88&G88&H88 -> 45009660026 03B | M88: =B88&F88&H88&C88 -> Slovenská asociácia naturálnej kulturistikygBrozvoj športov, ktoré nie sú uznanými podľa zákona č. 440/2015 Z. z. | N88: =+I88&H88 -> 45009660gB
A89: 30811686 | B89: =VLOOKUP(A89,Adr!A:B,2,FALSE) -> Slovenská asociácia pretláčania rukou | C89: pretláčanie rukou - bežné transfery | D89: 73389 | E89: 0 | F89: a | G89: 026 02 | H89: B | I89: =A89&F89 -> 30811686a | J89: =A89&G89 -> 30811686026 02 | K89: pretláčanie rukou | L89: =A89&G89&H89 -> 30811686026 02B | M89: =B89&F89&H89&C89 -> Slovenská asociácia pretláčania rukouaBpretláčanie rukou - bežné transfery | N89: =+I89&H89 -> 30811686aB
A90: 30814910 | B90: =VLOOKUP(A90,Adr!A:B,2,FALSE) -> Slovenská asociácia taekwondo WT | C90: taekwondo - bežné transfery | D90: 82677 | E90: 0 | F90: a | G90: 026 02 | H90: B | I90: =A90&F90 -> 30814910a | J90: =A90&G90 -> 30814910026 02 | K90: taekwondo | L90: =A90&G90&H90 -> 30814910026 02B | M90: =B90&F90&H90&C90 -> Slovenská asociácia taekwondo WTaBtaekwondo - bežné transfery | N90: =+I90&H90 -> 30814910aB
A91: 30814910 | B91: =VLOOKUP(A91,Adr!A:B,2,FALSE) -> Slovenská asociácia taekwondo WT | C91: zabezpečenie a rozvoj športu taekwondo zdravotne postihnutých športovcov | D91: 11342 | E91: 0 | F91: c | G91: 026 03 | H91: B | I91: =A91&F91 -> 30814910c | J91: =A91&G91 -> 30814910026 03 | L91: =A91&G91&H91 -> 30814910026 03B | M91: =B91&F91&H91&C91 -> Slovenská asociácia taekwondo WTcBzabezpečenie a rozvoj športu taekwondo zdravotne postihnutých športovcov | N91: =+I91&H91 -> 30814910cB
A92: 30814910 | B92: =VLOOKUP(A92,Adr!A:B,2,FALSE) -> Slovenská asociácia taekwondo WT | C92: Bérešová Adriana | D92: 35000 | E92: 0 | F92: d | G92: 026 03 | H92: B | I92: =A92&F92 -> 30814910d | J92: =A92&G92 -> 30814910026 03 | L92: =A92&G92&H92 -> 30814910026 03B | M92: =B92&F92&H92&C92 -> Slovenská asociácia taekwondo WTdBBérešová Adriana | N92: =+I92&H92 -> 30814910dB
A93: 30814910 | B93: =VLOOKUP(A93,Adr!A:B,2,FALSE) -> Slovenská asociácia taekwondo WT | C93: Hanušovský Richard | D93: 13000 | E93: 0 | F93: d | G93: 026 03 | H93: B | I93: =A93&F93 -> 30814910d | J93: =A93&G93 -> 30814910026 03 | L93: =A93&G93&H93 -> 30814910026 03B | M93: =B93&F93&H93&C93 -> Slovenská asociácia taekwondo WTdBHanušovský Richard | N93: =+I93&H93 -> 30814910dB
A94: 17316731 | B94: =VLOOKUP(A94,Adr!A:B,2,FALSE) -> Slovenská asociácia univerzitného športu | C94: Aktivity a úlohy v oblasti univerzitného športu v roku 2026 | D94: 678200 | E94: 0 | F94: f | G94: 026 03 | H94: B | I94: =A94&F94 -> 17316731f | J94: =A94&G94 -> 17316731026 03 | L94: =A94&G94&H94 -> 17316731026 03B | M94: =B94&F94&H94&C94 -> Slovenská asociácia univerzitného športufBAktivity a úlohy v oblasti univerzitného športu v roku 2026 | N94: =+I94&H94 -> 17316731fB
A95: 30841798 | B95: =VLOOKUP(A95,Adr!A:B,2,FALSE) -> Slovenská asociácia zrakovo postihnutých športovcov | C95: zabezpečenie činnosti a úloh v roku 2025 | D95: 189054 | E95: 0 | F95: c | G95: 026 03 | H95: B | I95: =A95&F95 -> 30841798c | J95: =A95&G95 -> 30841798026 03 | L95: =A95&G95&H95 -> 30841798026 03B | M95: =B95&F95&H95&C95 -> Slovenská asociácia zrakovo postihnutých športovcovcBzabezpečenie činnosti a úloh v roku 2025 | N95: =+I95&H95 -> 30841798cB
A96: 30844568 | B96: =VLOOKUP(A96,Adr!A:B,2,FALSE) -> Slovenská baseballová federácia | C96: baseball - bežné transfery | D96: 233818 | E96: 0 | F96: a | G96: 026 02 | H96: B | I96: =A96&F96 -> 30844568a | J96: =A96&G96 -> 30844568026 02 | K96: baseball | L96: =A96&G96&H96 -> 30844568026 02B | M96: =B96&F96&H96&C96 -> Slovenská baseballová federáciaaBbaseball - bežné transfery | N96: =+I96&H96 -> 30844568aB
A97: 30844568 | B97: =VLOOKUP(A97,Adr!A:B,2,FALSE) -> Slovenská baseballová federácia | C97: baseball - kapitálové transfery | D97: 7000 | E97: 0 | F97: a | G97: 026 02 | H97: K | I97: =A97&F97 -> 30844568a | J97: =A97&G97 -> 30844568026 02 | K97: baseball | L97: =A97&G97&H97 -> 30844568026 02K | M97: =B97&F97&H97&C97 -> Slovenská baseballová federáciaaKbaseball - kapitálové transfery | N97: =+I97&H97 -> 30844568aK
A98: 17315166 | B98: =VLOOKUP(A98,Adr!A:B,2,FALSE) -> Slovenská basketbalová asociácia | C98: basketbal - bežné transfery | D98: 1894865 | E98: 0 | F98: a | G98: 026 02 | H98: B | I98: =A98&F98 -> 17315166a | J98: =A98&G98 -> 17315166026 02 | K98: basketbal | L98: =A98&G98&H98 -> 17315166026 02B | M98: =B98&F98&H98&C98 -> Slovenská basketbalová asociáciaaBbasketbal - bežné transfery | N98: =+I98&H98 -> 17315166aB
A99: 17315166 | B99: =VLOOKUP(A99,Adr!A:B,2,FALSE) -> Slovenská basketbalová asociácia | C99: Podpora trénerov detí a mládeže | D99: 175000 | E99: 0 | F99: f | G99: 026 03 | H99: B | I99: =A99&F99 -> 17315166f | J99: =A99&G99 -> 17315166026 03 | L99: =A99&G99&H99 -> 17315166026 03B | M99: =B99&F99&H99&C99 -> Slovenská basketbalová asociáciafBPodpora trénerov detí a mládeže | N99: =+I99&H99 -> 17315166fB
A100: 31744621 | B100: =VLOOKUP(A100,Adr!A:B,2,FALSE) -> Slovenská boxerská federácia | C100: box - bežné transfery | D100: 590110 | E100: 0 | F100: a | G100: 026 02 | H100: B | I100: =A100&F100 -> 31744621a | J100: =A100&G100 -> 31744621026 02 | K100: box | L100: =A100&G100&H100 -> 31744621026 02B | M100: =B100&F100&H100&C100 -> Slovenská boxerská federáciaaBbox - bežné transfery | N100: =+I100&H100 -> 31744621aB
A101: 31744621 | B101: =VLOOKUP(A101,Adr!A:B,2,FALSE) -> Slovenská boxerská federácia | C101: Bóna Juraj | D101: 13000 | E101: 0 | F101: d | G101: 026 03 | H101: B | I101: =A101&F101 -> 31744621d | J101: =A101&G101 -> 31744621026 03 | L101: =A101&G101&H101 -> 31744621026 03B | M101: =B101&F101&H101&C101 -> Slovenská boxerská federáciadBBóna Juraj | N101: =+I101&H101 -> 31744621dB
A102: 31744621 | B102: =VLOOKUP(A102,Adr!A:B,2,FALSE) -> Slovenská boxerská federácia | C102: Herceg Miroslav | D102: 16000 | E102: 0 | F102: d | G102: 026 03 | H102: B | I102: =A102&F102 -> 31744621d | J102: =A102&G102 -> 31744621026 03 | L102: =A102&G102&H102 -> 31744621026 03B | M102: =B102&F102&H102&C102 -> Slovenská boxerská federáciadBHerceg Miroslav | N102: =+I102&H102 -> 31744621dB
A103: 31744621 | B103: =VLOOKUP(A103,Adr!A:B,2,FALSE) -> Slovenská boxerská federácia | C103: Jedináková Miroslava | D103: 62000 | E103: 0 | F103: d | G103: 026 03 | H103: B | I103: =A103&F103 -> 31744621d | J103: =A103&G103 -> 31744621026 03 | L103: =A103&G103&H103 -> 31744621026 03B | M103: =B103&F103&H103&C103 -> Slovenská boxerská federáciadBJedináková Miroslava | N103: =+I103&H103 -> 31744621dB
A104: 31744621 | B104: =VLOOKUP(A104,Adr!A:B,2,FALSE) -> Slovenská boxerská federácia | C104: Kollárová Karolína | D104: 8000 | E104: 0 | F104: d | G104: 026 03 | H104: B | I104: =A104&F104 -> 31744621d | J104: =A104&G104 -> 31744621026 03 | L104: =A104&G104&H104 -> 31744621026 03B | M104: =B104&F104&H104&C104 -> Slovenská boxerská federáciadBKollárová Karolína | N104: =+I104&H104 -> 31744621dB
A105: 31744621 | B105: =VLOOKUP(A105,Adr!A:B,2,FALSE) -> Slovenská boxerská federácia | C105: Kubalová Tamara | D105: 42000 | E105: 0 | F105: d | G105: 026 03 | H105: B | I105: =A105&F105 -> 31744621d | J105: =A105&G105 -> 31744621026 03 | L105: =A105&G105&H105 -> 31744621026 03B | M105: =B105&F105&H105&C105 -> Slovenská boxerská federáciadBKubalová Tamara | N105: =+I105&H105 -> 31744621dB
A106: 31744621 | B106: =VLOOKUP(A106,Adr!A:B,2,FALSE) -> Slovenská boxerská federácia | C106: Lovašová Bibiana | D106: 13000 | E106: 0 | F106: d | G106: 026 03 | H106: B | I106: =A106&F106 -> 31744621d | J106: =A106&G106 -> 31744621026 03 | L106: =A106&G106&H106 -> 31744621026 03B | M106: =B106&F106&H106&C106 -> Slovenská boxerská federáciadBLovašová Bibiana | N106: =+I106&H106 -> 31744621dB
A107: 31744621 | B107: =VLOOKUP(A107,Adr!A:B,2,FALSE) -> Slovenská boxerská federácia | C107: Triebeľová Jessica | D107: 37000 | E107: 0 | F107: d | G107: 026 03 | H107: B | I107: =A107&F107 -> 31744621d | J107: =A107&G107 -> 31744621026 03 | L107: =A107&G107&H107 -> 31744621026 03B | M107: =B107&F107&H107&C107 -> Slovenská boxerská federáciadBTriebeľová Jessica | N107: =+I107&H107 -> 31744621dB
A108: 31744621 | B108: =VLOOKUP(A108,Adr!A:B,2,FALSE) -> Slovenská boxerská federácia | C108: Záhradníček Dávid | D108: 13000 | E108: 0 | F108: d | G108: 026 03 | H108: B | I108: =A108&F108 -> 31744621d | J108: =A108&G108 -> 31744621026 03 | L108: =A108&G108&H108 -> 31744621026 03B | M108: =B108&F108&H108&C108 -> Slovenská boxerská federáciadBZáhradníček Dávid | N108: =+I108&H108 -> 31744621dB
A109: 31744621 | B109: =VLOOKUP(A109,Adr!A:B,2,FALSE) -> Slovenská boxerská federácia | C109: Národný program rozvoja boxu a prípravy reprezentácie Slovenskej republiky 2026 | D109: 14000 | E109: 0 | F109: f | G109: 026 03 | H109: B | I109: =A109&F109 -> 31744621f | J109: =A109&G109 -> 31744621026 03 | L109: =A109&G109&H109 -> 31744621026 03B | M109: =B109&F109&H109&C109 -> Slovenská boxerská federáciafBNárodný program rozvoja boxu a prípravy reprezentácie Slovenskej republiky 2026 | N109: =+I109&H109 -> 31744621fB
A110: 34056939 | B110: =VLOOKUP(A110,Adr!A:B,2,FALSE) -> SLOVENSKÁ CYKLOTRIALOVÁ ÚNIA | C110: rozvoj športov, ktoré nie sú uznanými podľa zákona č. 440/2015 Z. z. | D110: 19400 | E110: 0 | F110: g | G110: 026 03 | H110: B | I110: =A110&F110 -> 34056939g | J110: =A110&G110 -> 34056939026 03 | L110: =A110&G110&H110 -> 34056939026 03B | M110: =B110&F110&H110&C110 -> SLOVENSKÁ CYKLOTRIALOVÁ ÚNIAgBrozvoj športov, ktoré nie sú uznanými podľa zákona č. 440/2015 Z. z. | N110: =+I110&H110 -> 34056939gB
A111: 37824465 | B111: =VLOOKUP(A111,Adr!A:B,2,FALSE) -> Slovenská Escrima Wing Tsun Organizácia (SEWTO) | C111: rozvoj športov, ktoré nie sú uznanými podľa zákona č. 440/2015 Z. z. | D111: 28100 | E111: 0 | F111: g | G111: 026 03 | H111: B | I111: =A111&F111 -> 37824465g | J111: =A111&G111 -> 37824465026 03 | L111: =A111&G111&H111 -> 37824465026 03B | M111: =B111&F111&H111&C111 -> Slovenská Escrima Wing Tsun Organizácia (SEWTO)gBrozvoj športov, ktoré nie sú uznanými podľa zákona č. 440/2015 Z. z. | N111: =+I111&H111 -> 37824465gB
A112: 34003975 | B112: =VLOOKUP(A112,Adr!A:B,2,FALSE) -> Slovenská federácia karate a bojových umení | C112: rozvoj športov, ktoré nie sú uznanými podľa zákona č. 440/2015 Z. z. | D112: 109700 | E112: 0 | F112: g | G112: 026 03 | H112: B | I112: =A112&F112 -> 34003975g | J112: =A112&G112 -> 34003975026 03 | L112: =A112&G112&H112 -> 34003975026 03B | M112: =B112&F112&H112&C112 -> Slovenská federácia karate a bojových umenígBrozvoj športov, ktoré nie sú uznanými podľa zákona č. 440/2015 Z. z. | N112: =+I112&H112 -> 34003975gB
A113: 34003975 | B113: =VLOOKUP(A113,Adr!A:B,2,FALSE) -> Slovenská federácia karate a bojových umení | C113: XXIX. Slovakia open - WUKF European Cup 2026 | D113: 15000 | E113: 0 | F113: m | G113: 026 03 | H113: B | I113: =A113&F113 -> 34003975m | J113: =A113&G113 -> 34003975026 03 | L113: =A113&G113&H113 -> 34003975026 03B | M113: =B113&F113&H113&C113 -> Slovenská federácia karate a bojových umenímBXXIX. Slovakia open - WUKF European Cup 2026 | N113: =+I113&H113 -> 34003975mB
A114: 36064742 | B114: =VLOOKUP(A114,Adr!A:B,2,FALSE) -> Slovenská federácia pétanque | C114: pétanque - bežné transfery | D114: 38332 | E114: 0 | F114: a | G114: 026 02 | H114: B | I114: =A114&F114 -> 36064742a | J114: =A114&G114 -> 36064742026 02 | K114: pétanque | L114: =A114&G114&H114 -> 36064742026 02B | M114: =B114&F114&H114&C114 -> Slovenská federácia pétanqueaBpétanque - bežné transfery | N114: =+I114&H114 -> 36064742aB
A115: 42361885 | B115: =VLOOKUP(A115,Adr!A:B,2,FALSE) -> Slovenská footgolfová asociácia | C115: rozvoj športov, ktoré nie sú uznanými podľa zákona č. 440/2015 Z. z. | D115: 73100 | E115: 0 | F115: g | G115: 026 03 | H115: B | I115: =A115&F115 -> 42361885g | J115: =A115&G115 -> 42361885026 03 | L115: =A115&G115&H115 -> 42361885026 03B | M115: =B115&F115&H115&C115 -> Slovenská footgolfová asociáciagBrozvoj športov, ktoré nie sú uznanými podľa zákona č. 440/2015 Z. z. | N115: =+I115&H115 -> 42361885gB
A116: 50284363 | B116: =VLOOKUP(A116,Adr!A:B,2,FALSE) -> Slovenská golfová asociácia | C116: golf - bežné transfery | D116: 491439 | E116: 0 | F116: a | G116: 026 02 | H116: B | I116: =A116&F116 -> 50284363a | J116: =A116&G116 -> 50284363026 02 | K116: golf | L116: =A116&G116&H116 -> 50284363026 02B | M116: =B116&F116&H116&C116 -> Slovenská golfová asociáciaaBgolf - bežné transfery | N116: =+I116&H116 -> 50284363aB
A117: 50284363 | B117: =VLOOKUP(A117,Adr!A:B,2,FALSE) -> Slovenská golfová asociácia | C117: zabezpečenie a rozvoj športu golf zdravotne postihnutých športovcov | D117: 5672 | E117: 0 | F117: c | G117: 026 03 | H117: B | I117: =A117&F117 -> 50284363c | J117: =A117&G117 -> 50284363026 03 | L117: =A117&G117&H117 -> 50284363026 03B | M117: =B117&F117&H117&C117 -> Slovenská golfová asociáciacBzabezpečenie a rozvoj športu golf zdravotne postihnutých športovcov | N117: =+I117&H117 -> 50284363cB
A118: 50284363 | B118: =VLOOKUP(A118,Adr!A:B,2,FALSE) -> Slovenská golfová asociácia | C118: Teťák Tadeáš | D118: 16000 | E118: 0 | F118: d | G118: 026 03 | H118: B | I118: =A118&F118 -> 50284363d | J118: =A118&G118 -> 50284363026 03 | L118: =A118&G118&H118 -> 50284363026 03B | M118: =B118&F118&H118&C118 -> Slovenská golfová asociáciadBTeťák Tadeáš | N118: =+I118&H118 -> 50284363dB
A119: 50284363 | B119: =VLOOKUP(A119,Adr!A:B,2,FALSE) -> Slovenská golfová asociácia | C119: Vavrová Michaela | D119: 16000 | E119: 0 | F119: d | G119: 026 03 | H119: B | I119: =A119&F119 -> 50284363d | J119: =A119&G119 -> 50284363026 03 | L119: =A119&G119&H119 -> 50284363026 03B | M119: =B119&F119&H119&C119 -> Slovenská golfová asociáciadBVavrová Michaela | N119: =+I119&H119 -> 50284363dB
A120: 00688321 | B120: =VLOOKUP(A120,Adr!A:B,2,FALSE) -> Slovenská gymnastická federácia | C120: gymnastika - bežné transfery | D120: 1253252 | E120: 0 | F120: a | G120: 026 02 | H120: B | I120: =A120&F120 -> 00688321a | J120: =A120&G120 -> 00688321026 02 | K120: gymnastika | L120: =A120&G120&H120 -> 00688321026 02B | M120: =B120&F120&H120&C120 -> Slovenská gymnastická federáciaaBgymnastika - bežné transfery | N120: =+I120&H120 -> 00688321aB
A121: 00688321 | B121: =VLOOKUP(A121,Adr!A:B,2,FALSE) -> Slovenská gymnastická federácia | C121: gymnastika - kapitálové transfery | D121: 74200 | E121: 0 | F121: a | G121: 026 02 | H121: K | I121: =A121&F121 -> 00688321a | J121: =A121&G121 -> 00688321026 02 | K121: gymnastika | L121: =A121&G121&H121 -> 00688321026 02K | M121: =B121&F121&H121&C121 -> Slovenská gymnastická federáciaaKgymnastika - kapitálové transfery | N121: =+I121&H121 -> 00688321aK
A122: 00688321 | B122: =VLOOKUP(A122,Adr!A:B,2,FALSE) -> Slovenská gymnastická federácia | C122: družstvo - juniorky | D122: 8000 | E122: 0 | F122: d | G122: 026 03 | H122: B | I122: =A122&F122 -> 00688321d | J122: =A122&G122 -> 00688321026 03 | L122: =A122&G122&H122 -> 00688321026 03B | M122: =B122&F122&H122&C122 -> Slovenská gymnastická federáciadBdružstvo - juniorky | N122: =+I122&H122 -> 00688321dB
A123: 00688321 | B123: =VLOOKUP(A123,Adr!A:B,2,FALSE) -> Slovenská gymnastická federácia | C123: Ostrihoňová Nela | D123: 8000 | E123: 0 | F123: d | G123: 026 03 | H123: B | I123: =A123&F123 -> 00688321d | J123: =A123&G123 -> 00688321026 03 | L123: =A123&G123&H123 -> 00688321026 03B | M123: =B123&F123&H123&C123 -> Slovenská gymnastická federáciadBOstrihoňová Nela | N123: =+I123&H123 -> 00688321dB
A124: 00688321 | B124: =VLOOKUP(A124,Adr!A:B,2,FALSE) -> Slovenská gymnastická federácia | C124: Piliarová Lucia | D124: 18000 | E124: 0 | F124: d | G124: 026 03 | H124: B | I124: =A124&F124 -> 00688321d | J124: =A124&G124 -> 00688321026 03 | L124: =A124&G124&H124 -> 00688321026 03B | M124: =B124&F124&H124&C124 -> Slovenská gymnastická federáciadBPiliarová Lucia | N124: =+I124&H124 -> 00688321dB
A125: 00688321 | B125: =VLOOKUP(A125,Adr!A:B,2,FALSE) -> Slovenská gymnastická federácia | C125: Christmas Nitra Slovak Rhythmic Gymnastic Open | D125: 15000 | E125: 0 | F125: m | G125: 026 03 | H125: B | I125: =A125&F125 -> 00688321m | J125: =A125&G125 -> 00688321026 03 | L125: =A125&G125&H125 -> 00688321026 03B | M125: =B125&F125&H125&C125 -> Slovenská gymnastická federáciamBChristmas Nitra Slovak Rhythmic Gymnastic Open | N125: =+I125&H125 -> 00688321mB
A126: 00603091 | B126: =VLOOKUP(A126,Adr!A:B,2,FALSE) -> Slovenská hokejbalová únia | C126: Zabezpečenie štátnej športovej reprezentácie Slovenskej republiky na Majstrovstvách sveta v hokejbale | D126: 10000 | E126: 0 | F126: f | G126: 026 03 | H126: B | I126: =A126&F126 -> 00603091f | J126: =A126&G126 -> 00603091026 03 | L126: =A126&G126&H126 -> 00603091026 03B | M126: =B126&F126&H126&C126 -> Slovenská hokejbalová úniafBZabezpečenie štátnej športovej reprezentácie Slovenskej republiky na Majstrovstvách sveta v hokejbale | N126: =+I126&H126 -> 00603091fB
A127: 00603091 | B127: =VLOOKUP(A127,Adr!A:B,2,FALSE) -> Slovenská hokejbalová únia | C127: rozvoj športov, ktoré nie sú uznanými podľa zákona č. 440/2015 Z. z. | D127: 223100 | E127: 0 | F127: g | G127: 026 03 | H127: B | I127: =A127&F127 -> 00603091g | J127: =A127&G127 -> 00603091026 03 | L127: =A127&G127&H127 -> 00603091026 03B | M127: =B127&F127&H127&C127 -> Slovenská hokejbalová úniagBrozvoj športov, ktoré nie sú uznanými podľa zákona č. 440/2015 Z. z. | N127: =+I127&H127 -> 00603091gB
A128: 54041368 | B128: =VLOOKUP(A128,Adr!A:B,2,FALSE) -> SLOVENSKÁ CHEERLEADING ÚNIA | C128: cheerleading - bežné transfery | D128: 42527 | E128: 0 | F128: a | G128: 026 02 | H128: B | I128: =A128&F128 -> 54041368a | J128: =A128&G128 -> 54041368026 02 | K128: cheerleading | L128: =A128&G128&H128 -> 54041368026 02B | M128: =B128&F128&H128&C128 -> SLOVENSKÁ CHEERLEADING ÚNIAaBcheerleading - bežné transfery | N128: =+I128&H128 -> 54041368aB
A129: 31787801 | B129: =VLOOKUP(A129,Adr!A:B,2,FALSE) -> SLOVENSKÁ JAZDECKÁ FEDERÁCIA | C129: jazdectvo - bežné transfery | D129: 216805 | E129: 0 | F129: a | G129: 026 02 | H129: B | I129: =A129&F129 -> 31787801a | J129: =A129&G129 -> 31787801026 02 | K129: jazdectvo | L129: =A129&G129&H129 -> 31787801026 02B | M129: =B129&F129&H129&C129 -> SLOVENSKÁ JAZDECKÁ FEDERÁCIAaBjazdectvo - bežné transfery | N129: =+I129&H129 -> 31787801aB
A130: 50434101 | B130: =VLOOKUP(A130,Adr!A:B,2,FALSE) -> Slovenská kanoistika | C130: kanoistika - bežné transfery | D130: 2118246 | E130: 0 | F130: a | G130: 026 02 | H130: B | I130: =A130&F130 -> 50434101a | J130: =A130&G130 -> 50434101026 02 | K130: kanoistika | L130: =A130&G130&H130 -> 50434101026 02B | M130: =B130&F130&H130&C130 -> Slovenská kanoistikaaBkanoistika - bežné transfery | N130: =+I130&H130 -> 50434101aB
A131: 50434101 | B131: =VLOOKUP(A131,Adr!A:B,2,FALSE) -> Slovenská kanoistika | C131: Abrahámová Karolína | D131: 18000 | E131: 0 | F131: d | G131: 026 03 | H131: B | I131: =A131&F131 -> 50434101d | J131: =A131&G131 -> 50434101026 03 | L131: =A131&G131&H131 -> 50434101026 03B | M131: =B131&F131&H131&C131 -> Slovenská kanoistikadBAbrahámová Karolína | N131: =+I131&H131 -> 50434101dB
A132: 50434101 | B132: =VLOOKUP(A132,Adr!A:B,2,FALSE) -> Slovenská kanoistika | C132: Bábik Martin | D132: 8060 | E132: 0 | F132: d | G132: 026 03 | H132: B | I132: =A132&F132 -> 50434101d | J132: =A132&G132 -> 50434101026 03 | L132: =A132&G132&H132 -> 50434101026 03B | M132: =B132&F132&H132&C132 -> Slovenská kanoistikadBBábik Martin | N132: =+I132&H132 -> 50434101dB
A133: 50434101 | B133: =VLOOKUP(A133,Adr!A:B,2,FALSE) -> Slovenská kanoistika | C133: Baláž Samuel | D133: 42000 | E133: 0 | F133: d | G133: 026 03 | H133: B | I133: =A133&F133 -> 50434101d | J133: =A133&G133 -> 50434101026 03 | L133: =A133&G133&H133 -> 50434101026 03B | M133: =B133&F133&H133&C133 -> Slovenská kanoistikadBBaláž Samuel | N133: =+I133&H133 -> 50434101dB
A134: 50434101 | B134: =VLOOKUP(A134,Adr!A:B,2,FALSE) -> Slovenská kanoistika | C134: Bartolčič Jakub | D134: 9100 | E134: 0 | F134: d | G134: 026 03 | H134: B | I134: =A134&F134 -> 50434101d | J134: =A134&G134 -> 50434101026 03 | L134: =A134&G134&H134 -> 50434101026 03B | M134: =B134&F134&H134&C134 -> Slovenská kanoistikadBBartolčič Jakub | N134: =+I134&H134 -> 50434101dB
A135: 50434101 | B135: =VLOOKUP(A135,Adr!A:B,2,FALSE) -> Slovenská kanoistika | C135: Beňuš Matej | D135: 72000 | E135: 0 | F135: d | G135: 026 03 | H135: B | I135: =A135&F135 -> 50434101d | J135: =A135&G135 -> 50434101026 03 | L135: =A135&G135&H135 -> 50434101026 03B | M135: =B135&F135&H135&C135 -> Slovenská kanoistikadBBeňuš Matej | N135: =+I135&H135 -> 50434101dB
A136: 50434101 | B136: =VLOOKUP(A136,Adr!A:B,2,FALSE) -> Slovenská kanoistika | C136: Bergendi Sofia | D136: 29300 | E136: 0 | F136: d | G136: 026 03 | H136: B | I136: =A136&F136 -> 50434101d | J136: =A136&G136 -> 50434101026 03 | L136: =A136&G136&H136 -> 50434101026 03B | M136: =B136&F136&H136&C136 -> Slovenská kanoistikadBBergendi Sofia | N136: =+I136&H136 -> 50434101dB
A137: 50434101 | B137: =VLOOKUP(A137,Adr!A:B,2,FALSE) -> Slovenská kanoistika | C137: Botek Adam | D137: 13100 | E137: 0 | F137: d | G137: 026 03 | H137: B | I137: =A137&F137 -> 50434101d | J137: =A137&G137 -> 50434101026 03 | L137: =A137&G137&H137 -> 50434101026 03B | M137: =B137&F137&H137&C137 -> Slovenská kanoistikadBBotek Adam | N137: =+I137&H137 -> 50434101dB
A138: 50434101 | B138: =VLOOKUP(A138,Adr!A:B,2,FALSE) -> Slovenská kanoistika | C138: Bugár Reka | D138: 31200 | E138: 0 | F138: d | G138: 026 03 | H138: B | I138: =A138&F138 -> 50434101d | J138: =A138&G138 -> 50434101026 03 | L138: =A138&G138&H138 -> 50434101026 03B | M138: =B138&F138&H138&C138 -> Slovenská kanoistikadBBugár Reka | N138: =+I138&H138 -> 50434101dB
A139: 50434101 | B139: =VLOOKUP(A139,Adr!A:B,2,FALSE) -> Slovenská kanoistika | C139: Čulenová Dagmar | D139: 8060 | E139: 0 | F139: d | G139: 026 03 | H139: B | I139: =A139&F139 -> 50434101d | J139: =A139&G139 -> 50434101026 03 | L139: =A139&G139&H139 -> 50434101026 03B | M139: =B139&F139&H139&C139 -> Slovenská kanoistikadBČulenová Dagmar | N139: =+I139&H139 -> 50434101dB
A140: 50434101 | B140: =VLOOKUP(A140,Adr!A:B,2,FALSE) -> Slovenská kanoistika | C140: Duda Filip | D140: 18000 | E140: 0 | F140: d | G140: 026 03 | H140: B | I140: =A140&F140 -> 50434101d | J140: =A140&G140 -> 50434101026 03 | L140: =A140&G140&H140 -> 50434101026 03B | M140: =B140&F140&H140&C140 -> Slovenská kanoistikadBDuda Filip | N140: =+I140&H140 -> 50434101dB
A141: 50434101 | B141: =VLOOKUP(A141,Adr!A:B,2,FALSE) -> Slovenská kanoistika | C141: Ďurčo Oskar | D141: 8060 | E141: 0 | F141: d | G141: 026 03 | H141: B | I141: =A141&F141 -> 50434101d | J141: =A141&G141 -> 50434101026 03 | L141: =A141&G141&H141 -> 50434101026 03B | M141: =B141&F141&H141&C141 -> Slovenská kanoistikadBĎurčo Oskar | N141: =+I141&H141 -> 50434101dB
A142: 50434101 | B142: =VLOOKUP(A142,Adr!A:B,2,FALSE) -> Slovenská kanoistika | C142: Egyházy Dominik | D142: 18000 | E142: 0 | F142: d | G142: 026 03 | H142: B | I142: =A142&F142 -> 50434101d | J142: =A142&G142 -> 50434101026 03 | L142: =A142&G142&H142 -> 50434101026 03B | M142: =B142&F142&H142&C142 -> Slovenská kanoistikadBEgyházy Dominik | N142: =+I142&H142 -> 50434101dB
... A166: 50434101 | B166: =VLOOKUP(A166,Adr!A:B,2,FALSE) -> Slovenská kanoistika | C166: Medzinárodná regata Bratislava 2026 | D166: 15000 | E166: 0 | F166: m | G166: 026 03 | H166: B | I166: =A166&F166 -> 50434101m | J166: =A166&G166 -> 50434101026 03 | L166: =A166&G166&H166 -> 50434101026 03B | M166: =B166&F166&H166&C166 -> Slovenská kanoistikamBMedzinárodná regata Bratislava 2026 | N166: =+I166&H166 -> 50434101mB
A167: 30853427 | B167: =VLOOKUP(A167,Adr!A:B,2,FALSE) -> Slovenská Lakrosová Federácia | C167: lakros - bežné transfery | D167: 38332 | E167: 0 | F167: a | G167: 026 02 | H167: B | I167: =A167&F167 -> 30853427a | J167: =A167&G167 -> 30853427026 02 | K167: lakros | L167: =A167&G167&H167 -> 30853427026 02B | M167: =B167&F167&H167&C167 -> Slovenská Lakrosová FederáciaaBlakros - bežné transfery | N167: =+I167&H167 -> 30853427aB
A168: 36075809 | B168: =VLOOKUP(A168,Adr!A:B,2,FALSE) -> Slovenská lukostrelecká asociácia 3D | C168: rozvoj športov, ktoré nie sú uznanými podľa zákona č. 440/2015 Z. z. | D168: 46400 | E168: 0 | F168: g | G168: 026 03 | H168: B | I168: =A168&F168 -> 36075809g | J168: =A168&G168 -> 36075809026 03 | L168: =A168&G168&H168 -> 36075809026 03B | M168: =B168&F168&H168&C168 -> Slovenská lukostrelecká asociácia 3DgBrozvoj športov, ktoré nie sú uznanými podľa zákona č. 440/2015 Z. z. | N168: =+I168&H168 -> 36075809gB
A169: 30813883 | B169: =VLOOKUP(A169,Adr!A:B,2,FALSE) -> Slovenská motocyklová federácia | C169: motocyklový šport - bežné transfery | D169: 225905 | E169: 0 | F169: a | G169: 026 02 | H169: B | I169: =A169&F169 -> 30813883a | J169: =A169&G169 -> 30813883026 02 | K169: motocyklový šport | L169: =A169&G169&H169 -> 30813883026 02B | M169: =B169&F169&H169&C169 -> Slovenská motocyklová federáciaaBmotocyklový šport - bežné transfery | N169: =+I169&H169 -> 30813883aB
A170: 30813883 | B170: =VLOOKUP(A170,Adr!A:B,2,FALSE) -> Slovenská motocyklová federácia | C170: Afanasiev Stanislav | D170: 8000 | E170: 0 | F170: d | G170: 026 03 | H170: B | I170: =A170&F170 -> 30813883d | J170: =A170&G170 -> 30813883026 03 | L170: =A170&G170&H170 -> 30813883026 03B | M170: =B170&F170&H170&C170 -> Slovenská motocyklová federáciadBAfanasiev Stanislav | N170: =+I170&H170 -> 30813883dB
A171: 30813883 | B171: =VLOOKUP(A171,Adr!A:B,2,FALSE) -> Slovenská motocyklová federácia | C171: Urbančok Šimon | D171: 8000 | E171: 0 | F171: d | G171: 026 03 | H171: B | I171: =A171&F171 -> 30813883d | J171: =A171&G171 -> 30813883026 03 | L171: =A171&G171&H171 -> 30813883026 03B | M171: =B171&F171&H171&C171 -> Slovenská motocyklová federáciadBUrbančok Šimon | N171: =+I171&H171 -> 30813883dB
A172: 34057587 | B172: =VLOOKUP(A172,Adr!A:B,2,FALSE) -> Slovenská Muaythai Asociácia | C172: thajský box - bežné transfery | D172: 57860 | E172: 0 | F172: a | G172: 026 02 | H172: B | I172: =A172&F172 -> 34057587a | J172: =A172&G172 -> 34057587026 02 | K172: thajský box | L172: =A172&G172&H172 -> 34057587026 02B | M172: =B172&F172&H172&C172 -> Slovenská Muaythai Asociácia aBthajský box - bežné transfery | N172: =+I172&H172 -> 34057587aB
A173: 34057587 | B173: =VLOOKUP(A173,Adr!A:B,2,FALSE) -> Slovenská Muaythai Asociácia | C173: Chochlíková Monika | D173: 31000 | E173: 0 | F173: d | G173: 026 03 | H173: B | I173: =A173&F173 -> 34057587d | J173: =A173&G173 -> 34057587026 03 | L173: =A173&G173&H173 -> 34057587026 03B | M173: =B173&F173&H173&C173 -> Slovenská Muaythai Asociácia dBChochlíková Monika | N173: =+I173&H173 -> 34057587dB
A174: 34057587 | B174: =VLOOKUP(A174,Adr!A:B,2,FALSE) -> Slovenská Muaythai Asociácia | C174: Zabezpečenie účasti reprezentácie Slovenskej republiky na Majstrovstvách sveta juniorov a kadetov IFMA 2026 a Majstrovstvách sveta seniorov IFMA 2026 | D174: 10000 | E174: 0 | F174: f | G174: 026 03 | H174: B | I174: =A174&F174 -> 34057587f | J174: =A174&G174 -> 34057587026 03 | L174: =A174&G174&H174 -> 34057587026 03B | M174: =B174&F174&H174&C174 -> Slovenská Muaythai Asociácia fBZabezpečenie účasti reprezentácie Slovenskej republiky na Majstrovstvách sveta juniorov a kadetov IFMA 2026 a Majstrovstvách sveta seniorov IFMA 2026 | N174: =+I174&H174 -> 34057587fB
A175: 30806887 | B175: =VLOOKUP(A175,Adr!A:B,2,FALSE) -> Slovenská nohejbalová asociácia | C175: rozvoj športov, ktoré nie sú uznanými podľa zákona č. 440/2015 Z. z. | D175: 46600 | E175: 0 | F175: g | G175: 026 03 | H175: B | I175: =A175&F175 -> 30806887g | J175: =A175&G175 -> 30806887026 03 | L175: =A175&G175&H175 -> 30806887026 03B | M175: =B175&F175&H175&C175 -> Slovenská nohejbalová asociáciagBrozvoj športov, ktoré nie sú uznanými podľa zákona č. 440/2015 Z. z. | N175: =+I175&H175 -> 30806887gB
A176: 36068764 | B176: =VLOOKUP(A176,Adr!A:B,2,FALSE) -> Slovenská plavecká federácia | C176: plavecké športy - bežné transfery | D176: 3269415 | E176: 0 | F176: a | G176: 026 02 | H176: B | I176: =A176&F176 -> 36068764a | J176: =A176&G176 -> 36068764026 02 | K176: plavecké športy | L176: =A176&G176&H176 -> 36068764026 02B | M176: =B176&F176&H176&C176 -> Slovenská plavecká federáciaaBplavecké športy - bežné transfery | N176: =+I176&H176 -> 36068764aB
A177: 36068764 | B177: =VLOOKUP(A177,Adr!A:B,2,FALSE) -> Slovenská plavecká federácia | C177: Duša Matej | D177: 16000 | E177: 0 | F177: d | G177: 026 03 | H177: B | I177: =A177&F177 -> 36068764d | J177: =A177&G177 -> 36068764026 03 | L177: =A177&G177&H177 -> 36068764026 03B | M177: =B177&F177&H177&C177 -> Slovenská plavecká federáciadBDuša Matej | N177: =+I177&H177 -> 36068764dB
A178: 36068764 | B178: =VLOOKUP(A178,Adr!A:B,2,FALSE) -> Slovenská plavecká federácia | C178: Gero Filip | D178: 8000 | E178: 0 | F178: d | G178: 026 03 | H178: B | I178: =A178&F178 -> 36068764d | J178: =A178&G178 -> 36068764026 03 | L178: =A178&G178&H178 -> 36068764026 03B | M178: =B178&F178&H178&C178 -> Slovenská plavecká federáciadBGero Filip | N178: =+I178&H178 -> 36068764dB
A179: 36068764 | B179: =VLOOKUP(A179,Adr!A:B,2,FALSE) -> Slovenská plavecká federácia | C179: Košťál Samuel | D179: 13000 | E179: 0 | F179: d | G179: 026 03 | H179: B | I179: =A179&F179 -> 36068764d | J179: =A179&G179 -> 36068764026 03 | L179: =A179&G179&H179 -> 36068764026 03B | M179: =B179&F179&H179&C179 -> Slovenská plavecká federáciadBKošťál Samuel | N179: =+I179&H179 -> 36068764dB
A180: 36068764 | B180: =VLOOKUP(A180,Adr!A:B,2,FALSE) -> Slovenská plavecká federácia | C180: Krajčovičová Lea Anna | D180: 12000 | E180: 0 | F180: d | G180: 026 03 | H180: B | I180: =A180&F180 -> 36068764d | J180: =A180&G180 -> 36068764026 03 | L180: =A180&G180&H180 -> 36068764026 03B | M180: =B180&F180&H180&C180 -> Slovenská plavecká federáciadBKrajčovičová Lea Anna | N180: =+I180&H180 -> 36068764dB
A181: 36068764 | B181: =VLOOKUP(A181,Adr!A:B,2,FALSE) -> Slovenská plavecká federácia | C181: Podmaníková Andrea | D181: 16000 | E181: 0 | F181: d | G181: 026 03 | H181: B | I181: =A181&F181 -> 36068764d | J181: =A181&G181 -> 36068764026 03 | L181: =A181&G181&H181 -> 36068764026 03B | M181: =B181&F181&H181&C181 -> Slovenská plavecká federáciadBPodmaníková Andrea | N181: =+I181&H181 -> 36068764dB
A182: 36068764 | B182: =VLOOKUP(A182,Adr!A:B,2,FALSE) -> Slovenská plavecká federácia | C182: Potocká Tamara | D182: 26000 | E182: 0 | F182: d | G182: 026 03 | H182: B | I182: =A182&F182 -> 36068764d | J182: =A182&G182 -> 36068764026 03 | L182: =A182&G182&H182 -> 36068764026 03B | M182: =B182&F182&H182&C182 -> Slovenská plavecká federáciadBPotocká Tamara | N182: =+I182&H182 -> 36068764dB
...

Sheet Cis
A1: Šport | C1: Účel | D1: Účel rozšírený | E1: Režim | F1: PPG | G1: Transfer | I1: PPG | J1: PPG názov
A2: aikido | C2: a | D2: šport 23 | E2: 1 | F2: 026 02 | G2: Príspevok uznanému športu | I2: 026 01 | J2: Šport pre všetkých, školský a univerzitný šport
A3: americký futbal | C3: b | D3: talenty | E3: 1 | F3: 026 02 | G3: Príspevok uznanému športu | I3: 026 02 | J3: Uznané športy
A4: atletika | C4: c | D4: reprezentácia | E4: 1 | F4: 026 02 | G4: Príspevok uznanému športu | I4: 026 03 | J4: Národné športové projekty
A5: automobilový šport | C5: d | D5: administratíva | E5: 1 | F5: 026 02 | G5: Príspevok uznanému športu | I5: 026 04 | J5: Športová infraštruktúra
A6: bandy hokej | C6: e | D6: ostatné | E6: 1 | F6: 026 02 | G6: Príspevok uznanému športu | I6: 026 05 | J6: Prierezové činnosti
A7: basebal | C7: f | D7: športovci | E7: 2 | F7: 026 03 | G7: Príspevok šporovcom top tímu
A8: basketbal | C8: g | D8: SOV | E8: 3 | F8: 026 03 | G8: Príspevok Slovenskému olympijskému výboru
A9: baskická pelota | C9: h | D9: SPV | E9: 3 | F9: 026 03 | G9: Príspevok slovenskému paralympijskému výboru
A10: bedminton | C10: i | D10: účasť a mládež | E10: 4 | F10: 026 03 | G10: Dotácia
A11: biatlon | C11: j | D11: multi a ŠPV | E11: 4 | F11: 026 01 | G11: Dotácia
A12: biliard | C12: k | D12: trasy | E12: 4 | F12: 026 01 | G12: Dotácia
A13: boby a skeleton | C13: l | D13: kampaň | E13: 4 | F13: 026 05 | G13: Dotácia
A14: boccia | C14: m | D14: odmeny | E14: 4 | F14: 026 03 | G14: Dotácia
A15: boule lyonnaise | C15: n
A16: bowling | C16: o
A17: box | C17: p
A18: bridž | C18: q
A19: curling | C19: r
A20: cyklistika | C20: s
A21: dáma | C21: t
A22: dračie lode | C22: u
A23: dráhový golf | C23: v
A24: fistbal | C24: w
A25: florbal | C25: x
A26: futbal | C26: y
A27: go | C27: z
A28: golf
A29: gymnastika
A30: hádzaná
A31: horolezectvo
A32: jachting
A33: jazdectvo
A34: judo
A35: ju-jitsu
A36: kanoistika
A37: karate
A38: kendo
A39: kickbox
... A98: zápasenie

Sheet Avízo - výnosy
A1: =Spolu!C3&", "&Spolu!C6 -> Slovenský zväz moderného päťboja, Olympijské námestie 14290/1, Bratislava, 831 04 | N1: =O1&" - "&P1 -> a - príspevok uznaným športom | O1: a | P1: príspevok uznaným športom
N2: =O2&" - "&P2 -> b - príspevok Slovenskému olympijskému a športovému výboru | O2: b | P2: príspevok Slovenskému olympijskému a športovému výboru
E3: 1. VYPLŇTE ZELENÉ BUNKY 2. VYTLAČTE, PODPÍŠTE A ODOŠLITE V LISTINNEJ PODOBE | N3: =O3&" - "&P3 -> c - príspevok Slovenskému paralympijskému výboru | O3: c | P3: príspevok Slovenskému paralympijskému výboru
N4: =O4&" - "&P4 -> d - príspevok športovcom top tímu | O4: d | P4: príspevok športovcom top tímu
C5: Ministerstvo cestovného ruchu a športu Slovenskej republiky | N5: =O5&" - "&P5 -> e - rozvoj športov, ktoré nie sú uznanými podľa zákona č. 440/2015 Z. z. | O5: e | P5: rozvoj športov, ktoré nie sú uznanými podľa zákona č. 440/2015 Z. z.
C6: sekcia financovania športu a štátnej športovej politiky | E6: Dátum poukázania vrátených prostriedkov: | N6: =O6&" - "&P6 -> f - organizovanie významných a tradičných športových podujatí na území SR v roku 2020 | O6: f | P6: organizovanie významných a tradičných športových podujatí na území SR v roku 2020
C7: Pribinova 32 | E7: Suma vrátených prostriedkov (eur): | N7: =O7&" - "&P7 -> g - projekty školského, univerzitného športu a športu pre všetkých | O7: g | P7: projekty školského, univerzitného športu a športu pre všetkých
C8: 810 08 Bratislava | E8: IBAN odosielajúceho účtu: | N8: =O8&" - "&P8 -> h - podpora a rozvoj turistických a cykloturistických trás | O8: h | P8: podpora a rozvoj turistických a cykloturistických trás
E9: Dátum odoslania AVÍZA: | N9: =O9&" - "&P9 -> i - finančné odmeny športovcom za výsledky dosiahnuté v roku 2019 a trénerom mládeže za dosiahnuté výsledky ich športovcov v roku 2019 a za celoživotnú prácu s mládežou | O9: i | P9: finančné odmeny športovcom za výsledky dosiahnuté v roku 2019 a trénerom mládeže za dosiahnuté výsledky ich športovcov v roku 2019 a za celoživotnú prácu s mládežou
N10: =O10&" - "&P10 -> j - projekty pre popularizáciu pohybových aktivít detí, mládeže a seniorov | O10: j | P10: projekty pre popularizáciu pohybových aktivít detí, mládeže a seniorov
N11: =O11&" - "&P11 -> k - výstavba, modernizácia a rekonštrukcia športovej infraštruktúry národného významu | O11: k | P11: výstavba, modernizácia a rekonštrukcia športovej infraštruktúry národného významu
A12: Avízo o úhrade výnosov | N12: =O12&" - "&P12 -> l - podpora zdravotne postihnutých športovcov | O12: l | P12: podpora zdravotne postihnutých športovcov
N13: =O13&" - "&P13 -> m - plnenie úloh verejného záujmu v športe národnými športovými organizáciami | O13: m | P13: plnenie úloh verejného záujmu v športe národnými športovými organizáciami
A14: ="Oznamujeme Vám, že dňa "&TEXT(F6,"dd..mm.yyyy")&" sme poukázali Ministerstvu cestovného ruchu a športu Slovenskej republiky výnosy z príspevku/dotácie poskytnutého/poskytnutej na úlohy v oblasti športu v roku 2026 v sume "&TEXT(F7,"### ### ###,00")& " eur. Finančné prostriedky vraciame z programu 026 Národný program rozvoja športu v SR." -> Oznamujeme Vám, že dňa 00.01.1900 sme poukázali Ministerstvu cestovného ruchu a športu Slovenskej republiky výnosy z príspevku/dotácie poskytnutého/poskytnutej na úlohy v oblasti športu v roku 2026 v sume ,00 eur. Finančné prostriedky vraciame z programu 026 Národný program rozvoja športu v SR. | N14: =O14&" - "&P14 -> n - organizovanie významnej súťaže podľa § 55 ods. 1 písm. b) | O14: n | P14: organizovanie významnej súťaže podľa § 55 ods. 1 písm. b)
A15: z podprogramu: | B15: 026 02 - Uznané športy | N15: =O15&" - "&P15 -> o - účasť na významnej súťaži podľa § 3 písm. h) druhého až štvrtého bodu Zákona o športe vrátane prípravy na túto súťaž | O15: o | P15: účasť na významnej súťaži podľa § 3 písm. h) druhého až štvrtého bodu Zákona o športe vrátane prípravy na túto súťaž
A16: z nášho účtu: | B16: =F8 -> 0 | E16: V prípade nejasností kontaktujte nasledovné osoby: | N16: =O16&" - "&P16 -> p - účasť na významnej súťaži podľa § 3 písm. h) prvého bodu Zákona o športe | O16: p | P16: účasť na významnej súťaži podľa § 3 písm. h) prvého bodu Zákona o športe
A17: na účet: | B17: SK62 8180 0000 0070 0069 4120, VS 31 | N17: =O17&" - "&P17 -> q - | O17: q
B18: ŠS: | C18: =Spolu!C4 -> 30788714 | E18: Ing. Mária Horáková | F18: 421947749446 | N18: =O18&" - "&P18 -> r - | O18: r
E19: Ing. Jana Špirková | F19: 421947749756
A20: Dátum: | B20: =F6 -> 0
B22: meno, priezvisko, mobil a podpis osoby oprávnenej vykonávať právne úkony v mene prijímateľa (v súlade so stanovami/zriaďovacou listinou) | N22: =O22&" - "&P22 -> 026 01 - Šport pre všetkých, školský a univerzitný šport | O22: 026 01 | P22: Šport pre všetkých, školský a univerzitný šport
N23: =O23&" - "&P23 -> 026 02 - Uznané športy | O23: 026 02 | P23: Uznané športy
N24: =O24&" - "&P24 -> 026 03 - Národné športové projekty | O24: 026 03 | P24: Národné športové projekty
N25: =O25&" - "&P25 -> 026 04 - Športová infraštruktúra | O25: 026 04 | P25: Športová infraštruktúra
N26: =O26&" - "&P26 -> 026 05 - Prierezové činnosti v športe | O26: 026 05 | P26: Prierezové činnosti v športe
N28: SK80 8180 0000 0070 0006 5236
N29: SK68 8180 0000 0070 0006 3900
N30: SK94 8180 0000 0070 0006 3820

Sheet Avízo - vratka
A1: =Spolu!C3&", "&Spolu!C6 -> Slovenský zväz moderného päťboja, Olympijské námestie 14290/1, Bratislava, 831 04 | N1: =O1&" - "&P1 -> a - príspevok uznaným športom | O1: a | P1: =Spolu!B17 -> príspevok uznaným športom
N2: =O2&" - "&P2 -> b - príspevok Slovenskému olympijskému a športovému výboru | O2: b | P2: =Spolu!B18 -> príspevok Slovenskému olympijskému a športovému výboru
E3: 1. VYPLŇTE ZELENÉ BUNKY 2. VYTLAČTE, PODPÍŠTE A ODOŠLITE V LISTINNEJ PODOBE | N3: =O3&" - "&P3 -> c - príspevok Slovenskému paralympijskému výboru | O3: c | P3: =Spolu!B19 -> príspevok Slovenskému paralympijskému výboru
N4: =O4&" - "&P4 -> d - príspevok športovcom top tímu | O4: d | P4: =Spolu!B20 -> príspevok športovcom top tímu
C5: Ministerstvo cestovného ruchu a športu Slovenskej republiky | N5: =O5&" - "&P5 -> e - organizácia významnej súťaže alebo účasť na významnej súťaži podľa § 3 písm. h) vrátane prípravy na túto súťaž | O5: e | P5: =Spolu!B21 -> organizácia významnej súťaže alebo účasť na významnej súťaži podľa § 3 písm. h) vrátane prípravy na túto súťaž
C6: sekcia financovania športu a štátnej športovej politiky | E6: Dátum poukázania vrátených prostriedkov: | N6: =O6&" - "&P6 -> f - plnenie úloh verejného záujmu v športe | O6: f | P6: =Spolu!B22 -> plnenie úloh verejného záujmu v športe
C7: Pribinova 32 | E7: Suma vrátených prostriedkov (eur): | N7: =O7&" - "&P7 -> g - rozvoj športov, ktoré nie sú uznanými podľa zákona č. 440/2015 Z. z. | O7: g | P7: =Spolu!B23 -> rozvoj športov, ktoré nie sú uznanými podľa zákona č. 440/2015 Z. z.
C8: 810 08 Bratislava | E8: IBAN odosielajúceho účtu: | N8: =O8&" - "&P8 -> h - podpora a rozvoj turistických a cykloturistických trás | O8: h | P8: =Spolu!B24 -> podpora a rozvoj turistických a cykloturistických trás
E9: IBAN určeného účtu ministerstva: | N9: =O9&" - "&P9 -> i - podpora národného projektu športu pre všetkých so zameraním na mládež | O9: i | P9: =Spolu!B25 -> podpora národného projektu športu pre všetkých so zameraním na mládež
E10: Dátum odoslania AVÍZA: | N10: =O10&" - "&P10 -> j - projekty školského športu, univerzitného športu a športu pre všetkých | O10: j | P10: =Spolu!B26 -> projekty školského športu, univerzitného športu a športu pre všetkých
N11: =O11&" - "&P11 -> k - výstavba, modernizácia a rekonštrukcia športovej infraštruktúry národného významu | O11: k | P11: =Spolu!B27 -> výstavba, modernizácia a rekonštrukcia športovej infraštruktúry národného významu
A12: Avízo o vrátení finančných prostriedkov | F12: SK84 8180 0000 0070 0069 4112 (výdavkový účet štátneho rozpočtu) slúži pre vrátenie nevyčerpaných finančných prostriedkov poskytnutých v r. 2026, v termíne do 30.11.2026 | N12: =O12&" - "&P12 -> l - športové pohybové tábory pre mládež | O12: l | P12: =Spolu!B28 -> športové pohybové tábory pre mládež
A13: ="Oznamujeme Vám, že dňa "&TEXT(F6,"dd.mm.yyyy")&" sme poukázali Ministerstvu cestovného ruchu a športu Slovenskej republiky nevyčerpané finančné prostriedky v sume "&TEXT(F7,"### ### ###,00")& " eur z príspevku/dotácie poskytnutého/poskytnutej na úlohy v oblasti športu v roku 2026. Finančné prostriedky vraciame z programu 026 Národný program rozvoja športu v SR." -> Oznamujeme Vám, že dňa 00.01.1900 sme poukázali Ministerstvu cestovného ruchu a športu Slovenskej republiky nevyčerpané finančné prostriedky v sume ,00 eur z príspevku/dotácie poskytnutého/poskytnutej na úlohy v oblasti športu v roku 2026. Finančné prostriedky vraciame z programu 026 Národný program rozvoja športu v SR. | F13: SK62 8180 0000 0070 0069 4120 (príjmový účet) slúži pre vrátenie nevyčerpaných/nezúčtovaných finančných prostriedkov poskytnutých v r. 2026, v termíne od 01.01.2027 do 31.05.2027 | N13: =O13&" - "&P13 -> m - organizácia tradičných športových podujatí | O13: m | P13: =Spolu!B29 -> organizácia tradičných športových podujatí
A14: z podprogramu: | B14: 026 03 - Národné športové projekty | N14: =O14&" - "&P14 -> n - | O14: n
A15: z účelu: | N15: =O15&" - "&P15 -> o - | O15: o
A16: z nášho účtu: | B16: =F8 -> 0 | N16: =O16&" - "&P16 -> p - | O16: p
A17: na účet: | B17: =F9 -> 0 | N17: =O17&" - "&P17 -> q - | O17: q
B18: VS: | C18: 31 | N18: =O18&" - "&P18 -> r - | O18: r
B19: ŠS: | C19: =Spolu!C4 -> 30788714 | F19: V prípade nejasností kontaktujte nasledovné osoby: | N19: =O19&" - "&P19 -> -
A20: Dátum: | B20: =F6 -> 0
F21: Ing. Mária Horáková | G21: 421947749446 | N21: =O21&" - "&P21 -> 026 01 - Šport pre všetkých, školský a univerzitný šport | O21: 026 01 | P21: Šport pre všetkých, školský a univerzitný šport
F22: Ing. Jana Špirková | G22: 421947749756 | N22: =O22&" - "&P22 -> 026 02 - Uznané športy | O22: 026 02 | P22: Uznané športy
N23: =O23&" - "&P23 -> 026 03 - Národné športové projekty | O23: 026 03 | P23: Národné športové projekty
B24: meno, priezvisko, mobil a podpis osoby oprávnenej vykonávať právne úkony v mene prijímateľa (v súlade so stanovami/zriaďovacou listinou) | N24: =O24&" - "&P24 -> 026 04 - Športová infraštruktúra | O24: 026 04 | P24: Športová infraštruktúra
N25: =O25&" - "&P25 -> 026 05 - Prierezové činnosti v športe | O25: 026 05 | P25: Prierezové činnosti v športe
N27: SK84 8180 0000 0070 0069 4112
N28: SK62 8180 0000 0070 0069 4120

Sheet Skratky
A1: Zoznam akceptovaných skratiek
A2: Pri vyúčtovaní môžete používať nasledovné skratky. Ak potrebujete, definujte ďalšie.
A3: Skratka | B3: Vysvetlenie
A4: MS | B4: majstrovstvá sveta
A5: ME | B5: majstrovstvá Európy
A6: SP | B6: svetový pohár
A7: EP | B7: európsky pohár
A8: MSR | B8: majstrovstvá Slovenska
A9: VV | B9: výkonný výbor
A10: ŠH | B10: športová hala
A11: PHM | B11: pohonné hmoty
A12: VC | B12: veľká cena
A13: VZ | B13: valné zhromaždenie
A14: EČV | B14: evidenčné číslo vozidla
... A21: CTM | B21: centrum talentovanej mládeže
