Workbook

Sheet Usmernenie
A1: Číslo: 00730/2026
A2: Usmernenie k priebežnému čerpaniu a vyúčtovaniu finančných prostriedkov poskytnutých Ministerstvom cestovného ruchu a športu SR v oblasti športu v roku 2026
A4: ZÁKLADNÉ POKYNY
A5: 1. Vložiť údaje do hárkov "Príjmy" a "Doklady".
A6: 2. Skontrolovať hárky "Doklady" a "Spolu".
A7: 3. Vyplniť hárok "Avízo - vratka" (len Prijímatelia, ktorí nevyčerpali celú sumu). V prípade vratky menšej ako 5 € (vrátane) za všetky účely spolu prijímateľ nevracia finančné prostriedky.
A8: 4. Po kontrole odoslať elektronickú verziu formuláru na adresu ziadosti.sport@mincrs.sk.
A9: 5. Vytlačiť hárky "Spolu", "Doklady", v prípade nevyčerpaných finančných prostriedkov aj vyplnený hárok "Avízo - vratka".
A10: 6. Dopísať do hárku "Spolu" dátum a čas odoslania elektronickej verzie formuláru vyúčtovania.
A11: 7. Podpísať hárok "Spolu" prípadne hárok "Avízo - vratka" štatutárnym zástupcom/zástupcami.
A12: 8. Odoslať vyúčtovanie - hárok "Doklady", hárok "Spolu" prípadne hárok "Avízo - vratka" v listinnej podobe na adresu: Ministerstvo cestovného ruchu a športu SR, sekcia financovania športu a štátnej športovej politiky, Pribinova 32, 810 08 Bratislava .
A13: Pri vypĺňaní odporúčame použiť hárok „Príklady“, v ktorom je uvedený spôsob uvádzania niektorých druhov výdavkov.
... A140: ....................................................................... JUDr. Dušan Hačko poverený vykonávaním funkcie generálneho riaditeľa sekcie financovania športu a štátnej športovej politiky

Sheet Príklady
A1: Príklady vyplnenia formulára
A2: =Doklady!A100 -> Priebežné čerpanie a vyúčtovanie finančných prostriedkov poskytnutých zo štátneho rozpočtu v oblasti športu v roku 2026 | H2: =+Doklady!I100 -> V1
H3: =+Doklady!I101 -> 46053
A4: Prijímateľ dotácie: | B4: Slovenský zväz skúšobný
A7: Účel úhrady (vyberte zo zoznamu, inak automatické vyhodnocovanie nebude fungovať) | B7: Interné číslo účtovného dokladu | C7: Číslo externého (originálneho) účtovného dokladu | D7: Dátum skutočnej úhrady účtovného dokladu | E7: Popis úhrady (vyberte z rozbaľovacieho zoznamu, alebo zadajte voľný text) | F7: IČO dodávateľa plnenia | G7: Dodávateľ plnenia | H7: Skutočne uhradená suma (eur) | I7: AK
A8: a - kriket - bežné výdavky | B8: 124/2026 | C8: DF 24 | D8: 46146 | E8: náklady na ubytovanie 10 športovcov + 1 tréner | G8: Chata Breznovčan | H8: 1350 | I8: 3
A9: a - kriket - bežné výdavky | B9: 100/2026 | C9: 3020 | D9: 46147 | E9: grafické práce na výrobe loga podujatia | G9: Anna Malá - PROMOTION, s.r.o. | H9: 100 | I9: 3
A10: a - kriket - bežné výdavky | B10: 121/2026 | C10: 100002352 | D10: 46148 | E10: cestovné - vlak - Bratislava - Brezno, 16 osôb | G10: Ján Rýchly | H10: 50 | I10: 3
A11: a - kriket - bežné výdavky | B11: 125/2026 | C11: DF 26 | D11: 46149 | E11: stravovanie 20 osôb | G11: Reštaurácia "U vodníka", Brezno | H11: 200 | I11: 3
A12: a - kriket - bežné výdavky | B12: 126/2026 | C12: DF 29 | D12: 46150 | E12: prenájom plavárne | G12: STARZ, Bratislava | H12: 180 | I12: 3
A13: a - kriket - bežné výdavky | B13: 128/2026 | C13: DF 30 | D13: 46151 | E13: nákup športového oblečenia - 15 ks | G13: Adidas, Brezno | H13: 505 | I13: 3
A14: a - kriket - bežné výdavky | B14: 270/2026 | C14: 3252514 | D14: 46152 | E14: nákup leteniek - 6 ks | G14: Czech Airlines | H14: 4700 | I14: 2
A15: a - kriket - bežné výdavky | B15: 274/2026 | C15: D/258/2026 | D15: 46153 | E15: materiálové zabezpečenie pretekov - nákup 4 pušiek | G15: Puškárstvo - Ernest Bezaj, Malinovo | H15: 3330 | I15: 2
A16: a - kriket - bežné výdavky | B16: 275/2026 | C16: DF 32 | D16: 46154 | E16: občerstvenie - 6 osôb | G16: Messing Catering, s.r.o., Rovinka | H16: 1000 | I16: 2
A17: a - kriket - bežné výdavky | B17: 280/2026 | C17: DF 33 | D17: 46155 | E17: ubytovanie - 2 osoby | G17: Jozef Karát - privát, Šaľa | H17: 300 | I17: 2
A18: a - kriket - bežné výdavky | B18: 190/2026 | C18: DF50 | D18: 46156 | E18: prenájom miestnosti | G18: Double Tree Hotel, Bratislava | H18: 600 | I18: 2
A19: a - kriket - bežné výdavky | B19: 250/2026 | C19: 999 | D19: 46157 | E19: cestovné - Cerová - Trnava a späť, 3.9.2026, 2 osoby | G19: Železničná spoločnosť, a.s., Slovensko | H19: 25.9 | I19: 2
... A23: a - kriket - bežné výdavky | B23: J/2026-20 | C23: 258 | D23: 46162 | E23: doplnky výživy - 21 športovcov | G23: Lekáreň Kozia, Bratislava | H23: 124 | I23: 2
A24: a - kriket - bežné výdavky | B24: DF2026/326 | C24: 1213275 | D24: 46163 | E24: oprava športtesteru | G24: TOP TREND Patrik Valo | H24: 19.1 | I24: 2
A25: a - kriket - bežné výdavky | B25: DF2026/193 | C25: 2007006035 | D25: 46164 | E25: havarijné poistenie 1-3/2026, EČV BA 258 KK | G25: Uniqa poisťovňa, a.s. | H25: 277.74 | I25: 4
A26: a - kriket - bežné výdavky | B26: 46357 | C26: 258 | D26: 46165 | E26: diaľničná nálepka na rok 2026 | G26: OMV, s.r.o. | H26: 50 | I26: 4
A27: a - kriket - bežné výdavky | B27: 199/2026 | C27: 32 | D27: 46166 | E27: poštovné | G27: Slovenská pošta, a.s. | H27: 9 | I27: 4
A28: a - kriket - bežné výdavky | B28: 46143 | C28: 3 | D28: 46167 | E28: nájom kancelárskych priestorov 2/2026 | G28: Slovenské združenie telesnej kultúry | H28: 10 | I28: 4
A29: a - kriket - bežné výdavky | B29: P1/V/259 | C29: 20123698752 | D29: 46168 | E29: regenerácia, 8 športovcov, 8/2026 | G29: SPORTMEDICAL s.r.o., Bratislava | H29: 500 | I29: 1
A30: a - kriket - bežné výdavky | B30: 235/2026 | C30: 40010 | D30: 46169 | E30: nákup materiálu - reprezentačná vlajka 1 ks | G30: ADAT, s.r.o. | H30: 71.2 | I30: 3
A31: a - kriket - bežné výdavky | B31: 206/2026 | C31: DF100/9/2026 | D31: 46170 | E31: refundácia nákladov na základe zmluvy pre CTM Žilina: Okresné kolo v skúškach, 7.8.2026, Žilina, 43 osôb, z toho: 37 športovcov, 1 tréner, 1 strážna služba, 1 masér, 3 technickí pracovníci, úhrada nákladov za stravovanie | G31: Prestige catering, s.r.o. | H31: 250 | I31: 1
A32: a - kriket - bežné výdavky | B32: 207/2026 | C32: DF500 | D32: 46171 | E32: prenájom plavárne, 4 dráhy, 8 hodín | G32: Mesto Žilina | H32: 320 | I32: 5
A33: a - kriket - bežné výdavky | B33: 305/20246 | C33: 14 | D33: 46172 | E33: upratovacie služby 5/2026 | G33: Boris Dubaj - živnostník | H33: 40 | I33: 4
A34: a - kriket - bežné výdavky | B34: 46023 | C34: V-2026-3 | D34: 46173 | E34: bankové poplatky | G34: SLSP, a.s. | H34: 25 | I34: 4
A35: a - kriket - bežné výdavky | B35: 46082 | C35: 980 | D35: 46174 | E35: poplatok medzinárodnej federácii za rok 2026 | G35: Internationale Asociation ..... | H35: 150 | I35: 4
A36: a - kriket - bežné výdavky | B36: 46113 | C36: 5 | D36: 46175 | E36: členský poplatok za rok 2026 | G36: Konfederácia športových zväzov | H36: 100 | I36: 4
A37: a - kriket - bežné výdavky | B37: 301/2026 | C37: 78954787 | D37: 46176 | E37: prenájom optického kábla 3/2026 | G37: e-Net, s.r.o. | H37: 74.1 | I37: 4
A38: a - kriket - bežné výdavky | B38: 330/2026 | C38: FD52 | D38: 46177 | E38: poplatky za telefón, 7/2026 | G38: Slovak telekom, a.s. | H38: 120 | I38: 2
A39: a - kriket - bežné výdavky | B39: V1-12 | C39: V1-12 | D39: 46178 | E39: PHM - služobné motorové vozidlo EČV: BA 111 SA Obdobie: 14.4. - 18.4.2026 Najazdené kilometre: 800 km | G39: Slovnaft, a.s. Bratislava | H39: 80 | I39: 3
A40: a - kriket - bežné výdavky | B40: 25 | C40: 358 | D40: 46179 | E40: trénerské služby 10/2026 | G40: Ondrej Pado - živnostník | H40: 600 | I40: 1
A41: a - kriket - bežné výdavky | B41: 3 | C41: 26985235 | D41: 46180 | E41: oprava služobného motorového vozidla, BA 222 AA | G41: Prvý autoservis, Bratislava | H41: 10 | I41: 3
A42: a - kriket - bežné výdavky | B42: P1/V/309 | C42: PP46130119 | D42: 46181 | E42: lekárske vyšetrenie - 10 športovcov | G42: Alpha medical a.s. | H42: 19 | I42: 2
A43: a - kriket - bežné výdavky | B43: 300/2026 | C43: 256 | D43: 46182 | E43: laboratórne vyšetrenie | G43: Nemocnica s poliklinikou, Prešov | H43: 230 | I43: 2
A44: a - kriket - bežné výdavky | B44: V/2026/3 | C44: DF2026/143 | D44: 46183 | E44: lyžiarsky servis - február 2026 | G44: Dušan Otčenáš - Martek Sport | H44: 175 | I44: 2
A45: a - kriket - bežné výdavky | B45: ID258 | C45: 369963 | D45: 46184 | E45: športová výstroj - tenisové rakety - 7 ks | G45: Sportissimo, Bratislava | H45: 147 | I45: 1
...

Sheet Príjmy
A1: Aktualizovaná suma prostriedkov poskytnutých ministerstvom k dátumu | C1: 46234 | G1: 46053
G2: 46081
A3: Prijímateľ | B3: =INDEX(Adr!B:B,Doklady!B102+1) -> Slovenský zväz moderného päťboja | G3: 46112
A4: IČO: | B4: =RIGHT("0000"&INDEX(Adr!A:A,Doklady!B102+1),8) -> 30788714 | G4: 46142
A5: Sídlo: | B5: =INDEX(Adr!D:D,Doklady!B102+1)&", "&INDEX(Adr!E:E,Doklady!B102+1) -> Olympijské námestie 14290/1, Bratislava | G5: 46173
G6: 46203
G7: 46234
G8: 46265
A9: PPG | B9: PPG | C9: Poskytnuté prostriedky | G9: 46295
A10: 026 01 | B10: Šport pre všetkých, školský a univerzitný šport | C10: =+Spolu!C10 -> 0 | G10: 46326
A11: 026 02 | B11: Uznané športy | C11: =+Spolu!C11 -> 121229 | G11: 46356
A12: 026 03 | B12: Národné športové projekty | C12: =+Spolu!C12 -> 0 | G12: 46387
A13: 026 04 | B13: Športová infraštruktúra | C13: =+Spolu!C13 -> 0
A14: 026 05 | B14: Prierezové činnosti v športe | C14: =+Spolu!C14 -> 0
A15: SPOLU | C15: =SUM(C10:C14) -> 121229
A17: Prijímateľ prostriedkov zo štátneho rozpočtu je povinný priebežne zverejňovať informácie o prijatí a spôsobe ich použitia najneskôr do 25. dňa kalendárneho mesiaca nasledujúceho po kalendárnom mesiaci, v ktorom boli prijaté alebo použité ( § 65, ods. 6 zákona č. 440/2015 Z. z. o športe a o zmene a doplnení niektorých zákonov v znení neskorších predpisov).
A61: 15

Sheet Spolu
A1: =Doklady!A100 -> Priebežné čerpanie a vyúčtovanie finančných prostriedkov poskytnutých zo štátneho rozpočtu v oblasti športu v roku 2026
B3: Prijímateľ dotácie: | C3: =INDEX(Adr!B2:B242,Doklady!B102) -> Slovenský zväz moderného päťboja | I3: =Doklady!I100 -> V1
B4: IČO: | C4: =INDEX(Adr!A2:A242,Doklady!B102) -> 30788714 | I4: =Doklady!I101 -> 46053
B5: Právna forma: | C5: =INDEX(Adr!C2:C242,Doklady!B102) -> občianske združenie
B6: Sídlo: | C6: =INDEX(Adr!D2:D242,Doklady!B102)&", "&INDEX(Adr!E2:E242,Doklady!B102)&", "&INDEX(Adr!F2:F242,Doklady!B102) -> Olympijské námestie 14290/1, Bratislava, 831 04
A9: PPG | B9: Podprogram | C9: Poskytnuté (eur) | D9: Vyúčtované (eur) | E9: Povinnosť vrátiť (eur)
A10: 026 01 | B10: Šport pre všetkých, školský a univerzitný šport | C10: =SUMIF(FP!J:J,Doklady!$B$1&A10,FP!D:D) -> 0 | D10: =C10-E10 -> 0 | E10: =SUMIF(K:K,A10,I:I) -> 0 | L10: AAA
A11: 026 02 | B11: Uznané športy | C11: =SUMIF(FP!J:J,Doklady!$B$1&A11,FP!D:D) -> 121229 | D11: =+C11-E11 -> 71965.74 | E11: =+I39-I42+I44-I47 -> 49263.26 | L11: =L41 -> a - moderný päťboj - bežné transfery
A12: 026 03 | B12: Národné športové projekty | C12: =SUMIF(FP!J:J,Doklady!$B$1&A12,FP!D:D) -> 0 | D12: =C12-E12 -> 0 | E12: =SUMIF(K:K,A12,I:I) -> 0 | L12: =L42 -> a - moderný päťboj - kapitálové transfery
A13: 026 04 | B13: Športová infraštruktúra | C13: =SUMIF(FP!J:J,Doklady!$B$1&A13,FP!D:D) -> 0 | D13: =C13-E13 -> 0 | E13: =SUMIF(K:K,A13,I:I) -> 0 | L13: =L46 -> 2
A14: 026 05 | B14: Prierezové činnosti v športe | C14: =SUMIF(FP!J:J,Doklady!$B$1&A14,FP!D:D) -> 0 | D14: =C14-E14 -> 0 | E14: =SUMIF(K:K,A14,I:I) -> 0 | L14: =L47 -> 2
A16: Účel | B16: Názov | I16: Suma
A17: a | B17: príspevok uznaným športom | I17: =SUMIF(FP!I:I,Doklady!$B$1&A17,FP!D:D) -> 121229
A18: b | B18: príspevok Slovenskému olympijskému a športovému výboru | I18: =SUMIF(FP!I:I,Doklady!$B$1&A18,FP!D:D) -> 0
A19: c | B19: príspevok Slovenskému paralympijskému výboru | I19: =SUMIF(FP!I:I,Doklady!$B$1&A19,FP!D:D) -> 0
A20: d | B20: príspevok športovcom top tímu | I20: =SUMIF(FP!I:I,Doklady!$B$1&A20,FP!D:D) -> 0
A21: e | B21: organizácia významnej súťaže alebo účasť na významnej súťaži podľa § 3 písm. h) vrátane prípravy na túto súťaž | I21: =SUMIF(FP!I:I,Doklady!$B$1&A21,FP!D:D) -> 0
A22: f | B22: plnenie úloh verejného záujmu v športe | I22: =SUMIF(FP!I:I,Doklady!$B$1&A22,FP!D:D) -> 0
A23: g | B23: rozvoj športov, ktoré nie sú uznanými podľa zákona č. 440/2015 Z. z. | I23: =SUMIF(FP!I:I,Doklady!$B$1&A23,FP!D:D) -> 0
A24: h | B24: podpora a rozvoj turistických a cykloturistických trás | I24: =SUMIF(FP!I:I,Doklady!$B$1&A24,FP!D:D) -> 0
A25: i | B25: podpora národného projektu športu pre všetkých so zameraním na mládež | I25: =SUMIF(FP!I:I,Doklady!$B$1&A25,FP!D:D) -> 0
A26: j | B26: projekty školského športu, univerzitného športu a športu pre všetkých | I26: =SUMIF(FP!I:I,Doklady!$B$1&A26,FP!D:D) -> 0
A27: k | B27: výstavba, modernizácia a rekonštrukcia športovej infraštruktúry národného významu | I27: =SUMIF(FP!I:I,Doklady!$B$1&A27,FP!D:D) -> 0
A28: l | B28: športové pohybové tábory pre mládež | I28: =SUMIF(FP!I:I,Doklady!$B$1&A28,FP!D:D) -> 0
A29: m | B29: organizácia tradičných športových podujatí | I29: =SUMIF(FP!I:I,Doklady!$B$1&A29,FP!D:D) -> 0
A30: n | I30: =SUMIF(FP!I:I,Doklady!$B$1&A30,FP!D:D) -> 0
A31: o | I31: =SUMIF(FP!I:I,Doklady!$B$1&A31,FP!D:D) -> 0
A32: p | I32: =SUMIF(FP!I:I,Doklady!$B$1&A32,FP!D:D) -> 0
A33: q | I33: =SUMIF(FP!I:I,Doklady!$B$1&A33,FP!D:D) -> 0
A34: r | I34: =SUMIF(FP!I:I,Doklady!$B$1&A34,FP!D:D) -> 0
A36: Použitie príspevku uznanému športu | C36: 1 | D36: 2 | E36: 3 | F36: 4 | G36: 5 | H36: 5
A38: Účel | B38: ="Šport "&K40 -> Šport moderný päťboj | C38: mládež 23 MIN.20% | D38: talenty MIN.20% | E38: reprezentácia MIN.25% | F38: prevádzka MAX.15% | G38: ostatné úlohy | H38: kapitálové transfery z PUŠ | I38: SPOLU | L38: =COUNTIF(FP!N:N,Doklady!B1&"aB") -> 1
A39: a | B39: Poskytnutý príspevok uznanému športu | C39: =I39*0.2 -> 24245.8 | D39: =I39*0.2 -> 24245.8 | E39: =I39*0.25 -> 30307.25 | F39: =+I39*0.15 -> 18184.35 | G39: =+MAX(I39-C39-D39-E39-F39-H39,0) -> 24245.8 | H39: =+IFERROR(VLOOKUP(K40&" - kapitálové transfery",B$53:C$90,2,0),0) -> 0 | I39: =SUMIF(FP!K:K,K40,FP!D:D) -> 121229 | L39: =COUNTIF(FP!N:N,Doklady!B1&"aK") -> 0
A40: a | B40: Vyúčtovaný príspevok uznanému športu | C40: =DSUM(Doklady!A103:J10011,"GGG",Spolu!L40:M42) -> 16075.63 | D40: =DSUM(Doklady!A103:J10011,"GGG",Spolu!N40:O42) -> 1485.7 | E40: =DSUM(Doklady!A103:J10011,"GGG",Spolu!P40:Q42) -> 48755.49 | F40: =DSUM(Doklady!A103:J10011,"GGG",Spolu!R40:S42) -> 5648.92 | G40: =DSUM(Doklady!A103:J10011,"GGG",Spolu!T40:U42)-H40 -> 0 | H40: =+IFERROR(VLOOKUP(K40&" - kapitálové transfery",B$53:D$90,3,0),0) -> 0 | I40: =+C40+D40+E40+F40+G40+H40 -> 71965.74 | J40: =+K45 -> . | K40: =IF(L38>0,INDEX(FP!K:K,Doklady!B2),".") -> moderný päťboj | L40: AAA | M40: HHH | N40: AAA | O40: HHH | P40: AAA | Q40: HHH | R40: AAA | S40: HHH | T40: AAA | U40: HHH
A41: a | B41: ROZDIEL | C41: =MAX(C39-C40,0) -> 8170.17 | D41: =MAX(D39-D40,0) -> 22760.1 | E41: =MAX(E39-E40,0) -> 0 | F41: =MIN(I39,MAX(-F39+F40,0)) -> 0 | G41: =MIN(J39,MAX(-G39+G40+MIN(F40-F39,0),0)) -> 0 | H41: =MAX(H39-H40,0) -> 0 | I41: =+I39-I42 -> 49263.26 | J41: =+K46 -> 0 | K41: =+I41-H41 -> 49263.26 | L41: =IF(L38>0,"a - "&INDEX(FP!C:C,Doklady!B2),2) -> a - moderný päťboj - bežné transfery | M41: 1 | N41: =+L41 -> a - moderný päťboj - bežné transfery | O41: 2 | P41: =+L41 -> a - moderný päťboj - bežné transfery | Q41: 3 | R41: =+L41 -> a - moderný päťboj - bežné transfery | S41: 4 | T41: =+L41 -> a - moderný päťboj - bežné transfery | U41: 5
A42: a | B42: Uznaná suma vyúčtovaných FP | C42: =+C40 -> 16075.63 | D42: =+D40 -> 1485.7 | E42: =+E40 -> 48755.49 | F42: =+MIN(F39:F40) -> 5648.92 | G42: =+MIN(G39+MAX(F39-F40,0)-MAX(E40-E39,0)-MAX(D40-D39,0)-MAX(C40-C39,0),G40) -> 0 | H42: =+MIN(H39:H40) -> 0 | I42: =+C42+D42+E42+MIN(F39:F40)+G42+H42 -> 71965.74 | J42: =+K47 -> 0 | K42: =+I42-H42 -> 71965.74 | L42: =+SUBSTITUTE(L41,"bežné","kapitálové") -> a - moderný päťboj - kapitálové transfery | M42: 1 | N42: =+L42 -> a - moderný päťboj - kapitálové transfery | O42: 2 | P42: =+L42 -> a - moderný päťboj - kapitálové transfery | Q42: 3 | R42: =+L42 -> a - moderný päťboj - kapitálové transfery | S42: 4 | T42: =+L42 -> a - moderný päťboj - kapitálové transfery | U42: 5
A43: Účel | B43: =IF(L38>2,"Šport "&INDEX(FP!K:K,Doklady!B2+2),"Šport "&K45) -> Šport . | C43: mládež 23 MIN.20% | D43: talenty MIN.20% | E43: reprezentácia MIN.25% | F43: prevádzka MAX.15% | G43: ostatné úlohy | H43: kapitálové transfery z PUŠ | I43: SPOLU | L43: =L38-1 -> 0
A44: a | B44: Poskytnutý príspevok uznanému športu | C44: =I44*0.2 -> 0 | D44: =I44*0.2 -> 0 | E44: =I44*0.25 -> 0 | F44: =+I44*0.15 -> 0 | G44: =+MAX(I44-C44-D44-E44-F44-H44,0) -> 0 | H44: =+IFERROR(VLOOKUP(K45&" - kapitálové transfery",B$53:C$90,2,0),0) -> 0 | I44: =SUMIF(FP!K:K,K45,FP!D:D) -> 0
A45: a | B45: Vyúčtovaný príspevok uznanému športu | C45: =DSUM(Doklady!A103:J10011,"GGG",Spolu!L45:M47) -> 0 | D45: =DSUM(Doklady!A103:J10011,"GGG",Spolu!N45:O47) -> 0 | E45: =DSUM(Doklady!A103:J10011,"GGG",Spolu!P45:Q47) -> 0 | F45: =DSUM(Doklady!A103:J10011,"GGG",Spolu!R45:S47) -> 0 | G45: =DSUM(Doklady!A103:J10011,"GGG",Spolu!T45:U47)-H45 -> 0 | H45: =+IFERROR(VLOOKUP(K45&" - kapitálové transfery",B$53:D$90,3,0),0) -> 0 | I45: =+C45+D45+E45+F45+G45+H45 -> 0 | K45: =IF(L38>1,INDEX(FP!K:K,Doklady!B2+1),".") -> . | L45: AAA | M45: HHH | N45: AAA | O45: HHH | P45: AAA | Q45: HHH | R45: AAA | S45: HHH | T45: AAA | U45: HHH
A46: a | B46: ROZDIEL | C46: =MAX(C44-C45,0) -> 0 | D46: =MAX(D44-D45,0) -> 0 | E46: =MAX(E44-E45,0) -> 0 | F46: =MIN(I44,MAX(-F44+F45,0)) -> 0 | G46: =MIN(J44,MAX(-G44+G45+MIN(F45-F44,0),0)) -> 0 | H46: =MAX(H44-H45,0) -> 0 | I46: =+I44-I47 -> 0 | K46: =+I46-H46 -> 0 | L46: =IF(L43>0,"a - "&INDEX(FP!C:C,Doklady!B2+1),2) -> 2 | M46: 1 | N46: =+L46 -> 2 | O46: 2 | P46: =+L46 -> 2 | Q46: 3 | R46: =+L46 -> 2 | S46: 4 | T46: =+L46 -> 2 | U46: 5
...

Sheet Doklady
A1: =IF(ROW()<=B$3,INDEX(FP!F:F,B$2+ROW()-1)&" - "&INDEX(FP!C:C,B$2+ROW()-1),"") -> a - moderný päťboj - bežné transfery | B1: =INDEX(Adr!A:A,B102+1) -> 30788714 | C1: =IF(ROW()<=B$3,INDEX(FP!E:E,B$2+ROW()-1),"") -> 0 | D1: =IF(ROW()<=B$3,INDEX(FP!F:F,B$2+ROW()-1),"") -> a | F1: =IF(ROW()<=B$3,INDEX(FP!G:G,B$2+ROW()-1),"") -> 026 02 | H1: =IF(ROW()<=B$3,INDEX(FP!C:C,B$2+ROW()-1),"") -> moderný päťboj - bežné transfery | I1: =IF(ROW()<=B$3,SUMIF(A$107:A$10053,A1,I$107:I$10053),"") -> 71965.74 | J1: =IF(ROW()<=B$3,SUMIFS(I$103:I$50053,A$103:A$50053,K1,J$103:J$50053,L1),"") -> 0 | K1: =$A1 -> a - moderný päťboj - bežné transfery | L1: 99
A2: =IF(ROW()<=B$3,INDEX(FP!F:F,B$2+ROW()-1)&" - "&INDEX(FP!C:C,B$2+ROW()-1),"") | B2: =MATCH(B1,FP!A:A,0) -> 406 | C2: =IF(ROW()<=B$3,INDEX(FP!E:E,B$2+ROW()-1),"") | D2: =IF(ROW()<=B$3,INDEX(FP!F:F,B$2+ROW()-1),"") | F2: =IF(ROW()<=B$3,INDEX(FP!G:G,B$2+ROW()-1),"") | H2: =IF(ROW()<=B$3,INDEX(FP!C:C,B$2+ROW()-1),"") | I2: =IF(ROW()<=B$3,SUMIF(A$107:A$10053,A2,I$107:I$10053),"") | J2: =IF(ROW()<=B$3,SUMIFS(I$103:I$50053,A$103:A$50053,K2,J$103:J$50053,L2),"") | K2: =$A2 | L2: 99 | M2: AAA | N2: HHH
A3: =IF(ROW()<=B$3,INDEX(FP!F:F,B$2+ROW()-1)&" - "&INDEX(FP!C:C,B$2+ROW()-1),"") | B3: =COUNTIF(FP!A:A,Doklady!B1) -> 1 | C3: =IF(ROW()<=B$3,INDEX(FP!E:E,B$2+ROW()-1),"") | D3: =IF(ROW()<=B$3,INDEX(FP!F:F,B$2+ROW()-1),"") | F3: =IF(ROW()<=B$3,INDEX(FP!G:G,B$2+ROW()-1),"") | H3: =IF(ROW()<=B$3,INDEX(FP!C:C,B$2+ROW()-1),"") | I3: =IF(ROW()<=B$3,SUMIF(A$107:A$10053,A3,I$107:I$10053),"") | J3: =IF(ROW()<=B$3,SUMIFS(I$103:I$50053,A$103:A$50053,K3,J$103:J$50053,L3),"") | K3: =$A3 | L3: 99 | M3: =$A2 | N3: 99
A4: =IF(ROW()<=B$3,INDEX(FP!F:F,B$2+ROW()-1)&" - "&INDEX(FP!C:C,B$2+ROW()-1),"") | C4: =IF(ROW()<=B$3,INDEX(FP!E:E,B$2+ROW()-1),"") | D4: =IF(ROW()<=B$3,INDEX(FP!F:F,B$2+ROW()-1),"") | F4: =IF(ROW()<=B$3,INDEX(FP!G:G,B$2+ROW()-1),"") | H4: =IF(ROW()<=B$3,INDEX(FP!C:C,B$2+ROW()-1),"") | I4: =IF(ROW()<=B$3,SUMIF(A$107:A$10053,A4,I$107:I$10053),"") | J4: =IF(ROW()<=B$3,SUMIFS(I$103:I$50053,A$103:A$50053,K4,J$103:J$50053,L4),"") | K4: =$A4 | L4: 99 | M4: AAA | N4: HHH
A5: =IF(ROW()<=B$3,INDEX(FP!F:F,B$2+ROW()-1)&" - "&INDEX(FP!C:C,B$2+ROW()-1),"") | C5: =IF(ROW()<=B$3,INDEX(FP!E:E,B$2+ROW()-1),"") | D5: =IF(ROW()<=B$3,INDEX(FP!F:F,B$2+ROW()-1),"") | F5: =IF(ROW()<=B$3,INDEX(FP!G:G,B$2+ROW()-1),"") | H5: =IF(ROW()<=B$3,INDEX(FP!C:C,B$2+ROW()-1),"") | I5: =IF(ROW()<=B$3,SUMIF(A$107:A$10053,A5,I$107:I$10053),"") | J5: =IF(ROW()<=B$3,SUMIFS(I$103:I$50053,A$103:A$50053,K5,J$103:J$50053,L5),"") | K5: =$A5 | L5: 99 | M5: =$A4 | N5: 99
A6: =IF(ROW()<=B$3,INDEX(FP!F:F,B$2+ROW()-1)&" - "&INDEX(FP!C:C,B$2+ROW()-1),"") | C6: =IF(ROW()<=B$3,INDEX(FP!E:E,B$2+ROW()-1),"") | D6: =IF(ROW()<=B$3,INDEX(FP!F:F,B$2+ROW()-1),"") | F6: =IF(ROW()<=B$3,INDEX(FP!G:G,B$2+ROW()-1),"") | H6: =IF(ROW()<=B$3,INDEX(FP!C:C,B$2+ROW()-1),"") | I6: =IF(ROW()<=B$3,SUMIF(A$107:A$10053,A6,I$107:I$10053),"") | J6: =IF(ROW()<=B$3,SUMIFS(I$103:I$50053,A$103:A$50053,K6,J$103:J$50053,L6),"") | K6: =$A6 | L6: 99 | M6: AAA | N6: HHH
A7: =IF(ROW()<=B$3,INDEX(FP!F:F,B$2+ROW()-1)&" - "&INDEX(FP!C:C,B$2+ROW()-1),"") | C7: =IF(ROW()<=B$3,INDEX(FP!E:E,B$2+ROW()-1),"") | D7: =IF(ROW()<=B$3,INDEX(FP!F:F,B$2+ROW()-1),"") | F7: =IF(ROW()<=B$3,INDEX(FP!G:G,B$2+ROW()-1),"") | H7: =IF(ROW()<=B$3,INDEX(FP!C:C,B$2+ROW()-1),"") | I7: =IF(ROW()<=B$3,SUMIF(A$107:A$10053,A7,I$107:I$10053),"") | J7: =IF(ROW()<=B$3,SUMIFS(I$103:I$50053,A$103:A$50053,K7,J$103:J$50053,L7),"") | K7: =$A7 | L7: 99 | M7: =$A6 | N7: 99
A8: =IF(ROW()<=B$3,INDEX(FP!F:F,B$2+ROW()-1)&" - "&INDEX(FP!C:C,B$2+ROW()-1),"") | C8: =IF(ROW()<=B$3,INDEX(FP!E:E,B$2+ROW()-1),"") | D8: =IF(ROW()<=B$3,INDEX(FP!F:F,B$2+ROW()-1),"") | F8: =IF(ROW()<=B$3,INDEX(FP!G:G,B$2+ROW()-1),"") | H8: =IF(ROW()<=B$3,INDEX(FP!C:C,B$2+ROW()-1),"") | I8: =IF(ROW()<=B$3,SUMIF(A$107:A$10053,A8,I$107:I$10053),"") | J8: =IF(ROW()<=B$3,SUMIFS(I$103:I$50053,A$103:A$50053,K8,J$103:J$50053,L8),"") | K8: =$A8 | L8: 99 | M8: AAA | N8: HHH
A9: =IF(ROW()<=B$3,INDEX(FP!F:F,B$2+ROW()-1)&" - "&INDEX(FP!C:C,B$2+ROW()-1),"") | C9: =IF(ROW()<=B$3,INDEX(FP!E:E,B$2+ROW()-1),"") | D9: =IF(ROW()<=B$3,INDEX(FP!F:F,B$2+ROW()-1),"") | F9: =IF(ROW()<=B$3,INDEX(FP!G:G,B$2+ROW()-1),"") | H9: =IF(ROW()<=B$3,INDEX(FP!C:C,B$2+ROW()-1),"") | I9: =IF(ROW()<=B$3,SUMIF(A$107:A$10053,A9,I$107:I$10053),"") | J9: =IF(ROW()<=B$3,SUMIFS(I$103:I$50053,A$103:A$50053,K9,J$103:J$50053,L9),"") | K9: =$A9 | L9: 99 | M9: =$A8 | N9: 99
A10: =IF(ROW()<=B$3,INDEX(FP!F:F,B$2+ROW()-1)&" - "&INDEX(FP!C:C,B$2+ROW()-1),"") | C10: =IF(ROW()<=B$3,INDEX(FP!E:E,B$2+ROW()-1),"") | D10: =IF(ROW()<=B$3,INDEX(FP!F:F,B$2+ROW()-1),"") | F10: =IF(ROW()<=B$3,INDEX(FP!G:G,B$2+ROW()-1),"") | H10: =IF(ROW()<=B$3,INDEX(FP!C:C,B$2+ROW()-1),"") | I10: =IF(ROW()<=B$3,SUMIF(A$107:A$10053,A10,I$107:I$10053),"") | J10: =IF(ROW()<=B$3,SUMIFS(I$103:I$50053,A$103:A$50053,K10,J$103:J$50053,L10),"") | K10: =$A10 | L10: 99 | M10: AAA | N10: HHH
A11: =IF(ROW()<=B$3,INDEX(FP!F:F,B$2+ROW()-1)&" - "&INDEX(FP!C:C,B$2+ROW()-1),"") | C11: =IF(ROW()<=B$3,INDEX(FP!E:E,B$2+ROW()-1),"") | D11: =IF(ROW()<=B$3,INDEX(FP!F:F,B$2+ROW()-1),"") | F11: =IF(ROW()<=B$3,INDEX(FP!G:G,B$2+ROW()-1),"") | H11: =IF(ROW()<=B$3,INDEX(FP!C:C,B$2+ROW()-1),"") | I11: =IF(ROW()<=B$3,SUMIF(A$107:A$10053,A11,I$107:I$10053),"") | J11: =IF(ROW()<=B$3,SUMIFS(I$103:I$50053,A$103:A$50053,K11,J$103:J$50053,L11),"") | K11: =$A11 | L11: 99 | M11: =$A10 | N11: 99
A12: =IF(ROW()<=B$3,INDEX(FP!F:F,B$2+ROW()-1)&" - "&INDEX(FP!C:C,B$2+ROW()-1),"") | C12: =IF(ROW()<=B$3,INDEX(FP!E:E,B$2+ROW()-1),"") | D12: =IF(ROW()<=B$3,INDEX(FP!F:F,B$2+ROW()-1),"") | F12: =IF(ROW()<=B$3,INDEX(FP!G:G,B$2+ROW()-1),"") | H12: =IF(ROW()<=B$3,INDEX(FP!C:C,B$2+ROW()-1),"") | I12: =IF(ROW()<=B$3,SUMIF(A$107:A$10053,A12,I$107:I$10053),"") | J12: =IF(ROW()<=B$3,SUMIFS(I$103:I$50053,A$103:A$50053,K12,J$103:J$50053,L12),"") | K12: =$A12 | L12: 99 | M12: AAA | N12: HHH
A13: =IF(ROW()<=B$3,INDEX(FP!F:F,B$2+ROW()-1)&" - "&INDEX(FP!C:C,B$2+ROW()-1),"") | C13: =IF(ROW()<=B$3,INDEX(FP!E:E,B$2+ROW()-1),"") | D13: =IF(ROW()<=B$3,INDEX(FP!F:F,B$2+ROW()-1),"") | F13: =IF(ROW()<=B$3,INDEX(FP!G:G,B$2+ROW()-1),"") | H13: =IF(ROW()<=B$3,INDEX(FP!C:C,B$2+ROW()-1),"") | I13: =IF(ROW()<=B$3,SUMIF(A$107:A$10053,A13,I$107:I$10053),"") | J13: =IF(ROW()<=B$3,SUMIFS(I$103:I$50053,A$103:A$50053,K13,J$103:J$50053,L13),"") | K13: =$A13 | L13: 99 | M13: =$A12 | N13: 99
A14: =IF(ROW()<=B$3,INDEX(FP!F:F,B$2+ROW()-1)&" - "&INDEX(FP!C:C,B$2+ROW()-1),"") | C14: =IF(ROW()<=B$3,INDEX(FP!E:E,B$2+ROW()-1),"") | D14: =IF(ROW()<=B$3,INDEX(FP!F:F,B$2+ROW()-1),"") | F14: =IF(ROW()<=B$3,INDEX(FP!G:G,B$2+ROW()-1),"") | H14: =IF(ROW()<=B$3,INDEX(FP!C:C,B$2+ROW()-1),"") | I14: =IF(ROW()<=B$3,SUMIF(A$107:A$10053,A14,I$107:I$10053),"") | J14: =IF(ROW()<=B$3,SUMIFS(I$103:I$50053,A$103:A$50053,K14,J$103:J$50053,L14),"") | K14: =$A14 | L14: 99 | M14: AAA | N14: HHH
A15: =IF(ROW()<=B$3,INDEX(FP!F:F,B$2+ROW()-1)&" - "&INDEX(FP!C:C,B$2+ROW()-1),"") | C15: =IF(ROW()<=B$3,INDEX(FP!E:E,B$2+ROW()-1),"") | D15: =IF(ROW()<=B$3,INDEX(FP!F:F,B$2+ROW()-1),"") | F15: =IF(ROW()<=B$3,INDEX(FP!G:G,B$2+ROW()-1),"") | H15: =IF(ROW()<=B$3,INDEX(FP!C:C,B$2+ROW()-1),"") | I15: =IF(ROW()<=B$3,SUMIF(A$107:A$10053,A15,I$107:I$10053),"") | J15: =IF(ROW()<=B$3,SUMIFS(I$103:I$50053,A$103:A$50053,K15,J$103:J$50053,L15),"") | K15: =$A15 | L15: 99 | M15: =$A14 | N15: 99
A16: =IF(ROW()<=B$3,INDEX(FP!F:F,B$2+ROW()-1)&" - "&INDEX(FP!C:C,B$2+ROW()-1),"") | C16: =IF(ROW()<=B$3,INDEX(FP!E:E,B$2+ROW()-1),"") | D16: =IF(ROW()<=B$3,INDEX(FP!F:F,B$2+ROW()-1),"") | F16: =IF(ROW()<=B$3,INDEX(FP!G:G,B$2+ROW()-1),"") | H16: =IF(ROW()<=B$3,INDEX(FP!C:C,B$2+ROW()-1),"") | I16: =IF(ROW()<=B$3,SUMIF(A$107:A$10053,A16,I$107:I$10053),"") | J16: =IF(ROW()<=B$3,SUMIFS(I$103:I$50053,A$103:A$50053,K16,J$103:J$50053,L16),"") | K16: =$A16 | L16: 99 | M16: AAA | N16: HHH
A17: =IF(ROW()<=B$3,INDEX(FP!F:F,B$2+ROW()-1)&" - "&INDEX(FP!C:C,B$2+ROW()-1),"") | C17: =IF(ROW()<=B$3,INDEX(FP!E:E,B$2+ROW()-1),"") | D17: =IF(ROW()<=B$3,INDEX(FP!F:F,B$2+ROW()-1),"") | F17: =IF(ROW()<=B$3,INDEX(FP!G:G,B$2+ROW()-1),"") | H17: =IF(ROW()<=B$3,INDEX(FP!C:C,B$2+ROW()-1),"") | I17: =IF(ROW()<=B$3,SUMIF(A$107:A$10053,A17,I$107:I$10053),"") | J17: =IF(ROW()<=B$3,SUMIFS(I$103:I$50053,A$103:A$50053,K17,J$103:J$50053,L17),"") | K17: =$A17 | L17: 99 | M17: =$A16 | N17: 99
A18: =IF(ROW()<=B$3,INDEX(FP!F:F,B$2+ROW()-1)&" - "&INDEX(FP!C:C,B$2+ROW()-1),"") | C18: =IF(ROW()<=B$3,INDEX(FP!E:E,B$2+ROW()-1),"") | D18: =IF(ROW()<=B$3,INDEX(FP!F:F,B$2+ROW()-1),"") | F18: =IF(ROW()<=B$3,INDEX(FP!G:G,B$2+ROW()-1),"") | H18: =IF(ROW()<=B$3,INDEX(FP!C:C,B$2+ROW()-1),"") | I18: =IF(ROW()<=B$3,SUMIF(A$107:A$10053,A18,I$107:I$10053),"") | J18: =IF(ROW()<=B$3,SUMIFS(I$103:I$50053,A$103:A$50053,K18,J$103:J$50053,L18),"") | K18: =$A18 | L18: 99 | M18: AAA | N18: HHH
A19: =IF(ROW()<=B$3,INDEX(FP!F:F,B$2+ROW()-1)&" - "&INDEX(FP!C:C,B$2+ROW()-1),"") | C19: =IF(ROW()<=B$3,INDEX(FP!E:E,B$2+ROW()-1),"") | D19: =IF(ROW()<=B$3,INDEX(FP!F:F,B$2+ROW()-1),"") | F19: =IF(ROW()<=B$3,INDEX(FP!G:G,B$2+ROW()-1),"") | H19: =IF(ROW()<=B$3,INDEX(FP!C:C,B$2+ROW()-1),"") | I19: =IF(ROW()<=B$3,SUMIF(A$107:A$10053,A19,I$107:I$10053),"") | J19: =IF(ROW()<=B$3,SUMIFS(I$103:I$50053,A$103:A$50053,K19,J$103:J$50053,L19),"") | K19: =$A19 | L19: 99 | M19: =$A18 | N19: 99
A20: =IF(ROW()<=B$3,INDEX(FP!F:F,B$2+ROW()-1)&" - "&INDEX(FP!C:C,B$2+ROW()-1),"") | C20: =IF(ROW()<=B$3,INDEX(FP!E:E,B$2+ROW()-1),"") | D20: =IF(ROW()<=B$3,INDEX(FP!F:F,B$2+ROW()-1),"") | F20: =IF(ROW()<=B$3,INDEX(FP!G:G,B$2+ROW()-1),"") | H20: =IF(ROW()<=B$3,INDEX(FP!C:C,B$2+ROW()-1),"") | I20: =IF(ROW()<=B$3,SUMIF(A$107:A$10053,A20,I$107:I$10053),"") | J20: =IF(ROW()<=B$3,SUMIFS(I$103:I$50053,A$103:A$50053,K20,J$103:J$50053,L20),"") | K20: =$A20 | L20: 99 | M20: AAA | N20: HHH
A21: =IF(ROW()<=B$3,INDEX(FP!F:F,B$2+ROW()-1)&" - "&INDEX(FP!C:C,B$2+ROW()-1),"") | C21: =IF(ROW()<=B$3,INDEX(FP!E:E,B$2+ROW()-1),"") | D21: =IF(ROW()<=B$3,INDEX(FP!F:F,B$2+ROW()-1),"") | F21: =IF(ROW()<=B$3,INDEX(FP!G:G,B$2+ROW()-1),"") | H21: =IF(ROW()<=B$3,INDEX(FP!C:C,B$2+ROW()-1),"") | I21: =IF(ROW()<=B$3,SUMIF(A$107:A$10053,A21,I$107:I$10053),"") | J21: =IF(ROW()<=B$3,SUMIFS(I$103:I$50053,A$103:A$50053,K21,J$103:J$50053,L21),"") | K21: =$A21 | L21: 99 | M21: =$A20 | N21: 99
A22: =IF(ROW()<=B$3,INDEX(FP!F:F,B$2+ROW()-1)&" - "&INDEX(FP!C:C,B$2+ROW()-1),"") | C22: =IF(ROW()<=B$3,INDEX(FP!E:E,B$2+ROW()-1),"") | D22: =IF(ROW()<=B$3,INDEX(FP!F:F,B$2+ROW()-1),"") | F22: =IF(ROW()<=B$3,INDEX(FP!G:G,B$2+ROW()-1),"") | H22: =IF(ROW()<=B$3,INDEX(FP!C:C,B$2+ROW()-1),"") | I22: =IF(ROW()<=B$3,SUMIF(A$107:A$10053,A22,I$107:I$10053),"") | J22: =IF(ROW()<=B$3,SUMIFS(I$103:I$50053,A$103:A$50053,K22,J$103:J$50053,L22),"") | K22: =$A22 | L22: 99 | M22: AAA | N22: HHH
A23: =IF(ROW()<=B$3,INDEX(FP!F:F,B$2+ROW()-1)&" - "&INDEX(FP!C:C,B$2+ROW()-1),"") | C23: =IF(ROW()<=B$3,INDEX(FP!E:E,B$2+ROW()-1),"") | D23: =IF(ROW()<=B$3,INDEX(FP!F:F,B$2+ROW()-1),"") | F23: =IF(ROW()<=B$3,INDEX(FP!G:G,B$2+ROW()-1),"") | H23: =IF(ROW()<=B$3,INDEX(FP!C:C,B$2+ROW()-1),"") | I23: =IF(ROW()<=B$3,SUMIF(A$107:A$10053,A23,I$107:I$10053),"") | J23: =IF(ROW()<=B$3,SUMIFS(I$103:I$50053,A$103:A$50053,K23,J$103:J$50053,L23),"") | K23: =$A23 | L23: 99 | M23: =$A22 | N23: 99
A24: =IF(ROW()<=B$3,INDEX(FP!F:F,B$2+ROW()-1)&" - "&INDEX(FP!C:C,B$2+ROW()-1),"") | C24: =IF(ROW()<=B$3,INDEX(FP!E:E,B$2+ROW()-1),"") | D24: =IF(ROW()<=B$3,INDEX(FP!F:F,B$2+ROW()-1),"") | F24: =IF(ROW()<=B$3,INDEX(FP!G:G,B$2+ROW()-1),"") | H24: =IF(ROW()<=B$3,INDEX(FP!C:C,B$2+ROW()-1),"") | I24: =IF(ROW()<=B$3,SUMIF(A$107:A$10053,A24,I$107:I$10053),"") | J24: =IF(ROW()<=B$3,SUMIFS(I$103:I$50053,A$103:A$50053,K24,J$103:J$50053,L24),"") | K24: =$A24 | L24: 99 | M24: AAA | N24: HHH
A25: =IF(ROW()<=B$3,INDEX(FP!F:F,B$2+ROW()-1)&" - "&INDEX(FP!C:C,B$2+ROW()-1),"") | C25: =IF(ROW()<=B$3,INDEX(FP!E:E,B$2+ROW()-1),"") | D25: =IF(ROW()<=B$3,INDEX(FP!F:F,B$2+ROW()-1),"") | F25: =IF(ROW()<=B$3,INDEX(FP!G:G,B$2+ROW()-1),"") | H25: =IF(ROW()<=B$3,INDEX(FP!C:C,B$2+ROW()-1),"") | I25: =IF(ROW()<=B$3,SUMIF(A$107:A$10053,A25,I$107:I$10053),"") | J25: =IF(ROW()<=B$3,SUMIFS(I$103:I$50053,A$103:A$50053,K25,J$103:J$50053,L25),"") | K25: =$A25 | L25: 99 | M25: =$A24 | N25: 99
A26: =IF(ROW()<=B$3,INDEX(FP!F:F,B$2+ROW()-1)&" - "&INDEX(FP!C:C,B$2+ROW()-1),"") | C26: =IF(ROW()<=B$3,INDEX(FP!E:E,B$2+ROW()-1),"") | D26: =IF(ROW()<=B$3,INDEX(FP!F:F,B$2+ROW()-1),"") | F26: =IF(ROW()<=B$3,INDEX(FP!G:G,B$2+ROW()-1),"") | H26: =IF(ROW()<=B$3,INDEX(FP!C:C,B$2+ROW()-1),"") | I26: =IF(ROW()<=B$3,SUMIF(A$107:A$10053,A26,I$107:I$10053),"") | J26: =IF(ROW()<=B$3,SUMIFS(I$103:I$50053,A$103:A$50053,K26,J$103:J$50053,L26),"") | K26: =$A26 | L26: 99 | M26: AAA | N26: HHH
A27: =IF(ROW()<=B$3,INDEX(FP!F:F,B$2+ROW()-1)&" - "&INDEX(FP!C:C,B$2+ROW()-1),"") | C27: =IF(ROW()<=B$3,INDEX(FP!E:E,B$2+ROW()-1),"") | D27: =IF(ROW()<=B$3,INDEX(FP!F:F,B$2+ROW()-1),"") | F27: =IF(ROW()<=B$3,INDEX(FP!G:G,B$2+ROW()-1),"") | H27: =IF(ROW()<=B$3,INDEX(FP!C:C,B$2+ROW()-1),"") | I27: =IF(ROW()<=B$3,SUMIF(A$107:A$10053,A27,I$107:I$10053),"") | J27: =IF(ROW()<=B$3,SUMIFS(I$103:I$50053,A$103:A$50053,K27,J$103:J$50053,L27),"") | K27: =$A27 | L27: 99 | M27: =$A26 | N27: 99
A28: =IF(ROW()<=B$3,INDEX(FP!F:F,B$2+ROW()-1)&" - "&INDEX(FP!C:C,B$2+ROW()-1),"") | C28: =IF(ROW()<=B$3,INDEX(FP!E:E,B$2+ROW()-1),"") | D28: =IF(ROW()<=B$3,INDEX(FP!F:F,B$2+ROW()-1),"") | F28: =IF(ROW()<=B$3,INDEX(FP!G:G,B$2+ROW()-1),"") | H28: =IF(ROW()<=B$3,INDEX(FP!C:C,B$2+ROW()-1),"") | I28: =IF(ROW()<=B$3,SUMIF(A$107:A$10053,A28,I$107:I$10053),"") | J28: =IF(ROW()<=B$3,SUMIFS(I$103:I$50053,A$103:A$50053,K28,J$103:J$50053,L28),"") | K28: =$A28 | L28: 99 | M28: AAA | N28: HHH
A29: =IF(ROW()<=B$3,INDEX(FP!F:F,B$2+ROW()-1)&" - "&INDEX(FP!C:C,B$2+ROW()-1),"") | C29: =IF(ROW()<=B$3,INDEX(FP!E:E,B$2+ROW()-1),"") | D29: =IF(ROW()<=B$3,INDEX(FP!F:F,B$2+ROW()-1),"") | F29: =IF(ROW()<=B$3,INDEX(FP!G:G,B$2+ROW()-1),"") | H29: =IF(ROW()<=B$3,INDEX(FP!C:C,B$2+ROW()-1),"") | I29: =IF(ROW()<=B$3,SUMIF(A$107:A$10053,A29,I$107:I$10053),"") | J29: =IF(ROW()<=B$3,SUMIFS(I$103:I$50053,A$103:A$50053,K29,J$103:J$50053,L29),"") | K29: =$A29 | L29: 99 | M29: =$A28 | N29: 99
A30: =IF(ROW()<=B$3,INDEX(FP!F:F,B$2+ROW()-1)&" - "&INDEX(FP!C:C,B$2+ROW()-1),"") | C30: =IF(ROW()<=B$3,INDEX(FP!E:E,B$2+ROW()-1),"") | D30: =IF(ROW()<=B$3,INDEX(FP!F:F,B$2+ROW()-1),"") | F30: =IF(ROW()<=B$3,INDEX(FP!G:G,B$2+ROW()-1),"") | H30: =IF(ROW()<=B$3,INDEX(FP!C:C,B$2+ROW()-1),"") | I30: =IF(ROW()<=B$3,SUMIF(A$107:A$10053,A30,I$107:I$10053),"") | J30: =IF(ROW()<=B$3,SUMIFS(I$103:I$50053,A$103:A$50053,K30,J$103:J$50053,L30),"") | K30: =$A30 | L30: 99 | M30: AAA | N30: HHH
A31: =IF(ROW()<=B$3,INDEX(FP!F:F,B$2+ROW()-1)&" - "&INDEX(FP!C:C,B$2+ROW()-1),"") | C31: =IF(ROW()<=B$3,INDEX(FP!E:E,B$2+ROW()-1),"") | D31: =IF(ROW()<=B$3,INDEX(FP!F:F,B$2+ROW()-1),"") | F31: =IF(ROW()<=B$3,INDEX(FP!G:G,B$2+ROW()-1),"") | H31: =IF(ROW()<=B$3,INDEX(FP!C:C,B$2+ROW()-1),"") | I31: =IF(ROW()<=B$3,SUMIF(A$107:A$10053,A31,I$107:I$10053),"") | J31: =IF(ROW()<=B$3,SUMIFS(I$103:I$50053,A$103:A$50053,K31,J$103:J$50053,L31),"") | K31: =$A31 | L31: 99 | M31: =$A30 | N31: 99
A32: =IF(ROW()<=B$3,INDEX(FP!F:F,B$2+ROW()-1)&" - "&INDEX(FP!C:C,B$2+ROW()-1),"") | C32: =IF(ROW()<=B$3,INDEX(FP!E:E,B$2+ROW()-1),"") | D32: =IF(ROW()<=B$3,INDEX(FP!F:F,B$2+ROW()-1),"") | F32: =IF(ROW()<=B$3,INDEX(FP!G:G,B$2+ROW()-1),"") | H32: =IF(ROW()<=B$3,INDEX(FP!C:C,B$2+ROW()-1),"") | I32: =IF(ROW()<=B$3,SUMIF(A$107:A$10053,A32,I$107:I$10053),"") | J32: =IF(ROW()<=B$3,SUMIFS(I$103:I$50053,A$103:A$50053,K32,J$103:J$50053,L32),"") | K32: =$A32 | L32: 99 | M32: AAA | N32: HHH
A33: =IF(ROW()<=B$3,INDEX(FP!F:F,B$2+ROW()-1)&" - "&INDEX(FP!C:C,B$2+ROW()-1),"") | C33: =IF(ROW()<=B$3,INDEX(FP!E:E,B$2+ROW()-1),"") | D33: =IF(ROW()<=B$3,INDEX(FP!F:F,B$2+ROW()-1),"") | F33: =IF(ROW()<=B$3,INDEX(FP!G:G,B$2+ROW()-1),"") | H33: =IF(ROW()<=B$3,INDEX(FP!C:C,B$2+ROW()-1),"") | I33: =IF(ROW()<=B$3,SUMIF(A$107:A$10053,A33,I$107:I$10053),"") | J33: =IF(ROW()<=B$3,SUMIFS(I$103:I$50053,A$103:A$50053,K33,J$103:J$50053,L33),"") | K33: =$A33 | L33: 99 | M33: =$A32 | N33: 99
A34: =IF(ROW()<=B$3,INDEX(FP!F:F,B$2+ROW()-1)&" - "&INDEX(FP!C:C,B$2+ROW()-1),"") | C34: =IF(ROW()<=B$3,INDEX(FP!E:E,B$2+ROW()-1),"") | D34: =IF(ROW()<=B$3,INDEX(FP!F:F,B$2+ROW()-1),"") | F34: =IF(ROW()<=B$3,INDEX(FP!G:G,B$2+ROW()-1),"") | H34: =IF(ROW()<=B$3,INDEX(FP!C:C,B$2+ROW()-1),"") | I34: =IF(ROW()<=B$3,SUMIF(A$107:A$10053,A34,I$107:I$10053),"") | J34: =IF(ROW()<=B$3,SUMIFS(I$103:I$50053,A$103:A$50053,K34,J$103:J$50053,L34),"") | K34: =$A34 | L34: 99 | M34: AAA | N34: HHH
A35: =IF(ROW()<=B$3,INDEX(FP!F:F,B$2+ROW()-1)&" - "&INDEX(FP!C:C,B$2+ROW()-1),"") | C35: =IF(ROW()<=B$3,INDEX(FP!E:E,B$2+ROW()-1),"") | D35: =IF(ROW()<=B$3,INDEX(FP!F:F,B$2+ROW()-1),"") | F35: =IF(ROW()<=B$3,INDEX(FP!G:G,B$2+ROW()-1),"") | H35: =IF(ROW()<=B$3,INDEX(FP!C:C,B$2+ROW()-1),"") | I35: =IF(ROW()<=B$3,SUMIF(A$107:A$10053,A35,I$107:I$10053),"") | J35: =IF(ROW()<=B$3,SUMIFS(I$103:I$50053,A$103:A$50053,K35,J$103:J$50053,L35),"") | K35: =$A35 | L35: 99 | M35: =$A34 | N35: 99
A36: =IF(ROW()<=B$3,INDEX(FP!F:F,B$2+ROW()-1)&" - "&INDEX(FP!C:C,B$2+ROW()-1),"") | C36: =IF(ROW()<=B$3,INDEX(FP!E:E,B$2+ROW()-1),"") | D36: =IF(ROW()<=B$3,INDEX(FP!F:F,B$2+ROW()-1),"") | F36: =IF(ROW()<=B$3,INDEX(FP!G:G,B$2+ROW()-1),"") | H36: =IF(ROW()<=B$3,INDEX(FP!C:C,B$2+ROW()-1),"") | I36: =IF(ROW()<=B$3,SUMIF(A$107:A$10053,A36,I$107:I$10053),"") | J36: =IF(ROW()<=B$3,SUMIFS(I$103:I$50053,A$103:A$50053,K36,J$103:J$50053,L36),"") | K36: =$A36 | L36: 99 | M36: AAA | N36: HHH
A37: =IF(ROW()<=B$3,INDEX(FP!F:F,B$2+ROW()-1)&" - "&INDEX(FP!C:C,B$2+ROW()-1),"") | C37: =IF(ROW()<=B$3,INDEX(FP!E:E,B$2+ROW()-1),"") | D37: =IF(ROW()<=B$3,INDEX(FP!F:F,B$2+ROW()-1),"") | F37: =IF(ROW()<=B$3,INDEX(FP!G:G,B$2+ROW()-1),"") | H37: =IF(ROW()<=B$3,INDEX(FP!C:C,B$2+ROW()-1),"") | I37: =IF(ROW()<=B$3,SUMIF(A$107:A$10053,A37,I$107:I$10053),"") | J37: =IF(ROW()<=B$3,SUMIFS(I$103:I$50053,A$103:A$50053,K37,J$103:J$50053,L37),"") | K37: =$A37 | L37: 99 | M37: =$A36 | N37: 99
A38: =IF(ROW()<=B$3,INDEX(FP!F:F,B$2+ROW()-1)&" - "&INDEX(FP!C:C,B$2+ROW()-1),"") | C38: =IF(ROW()<=B$3,INDEX(FP!E:E,B$2+ROW()-1),"") | D38: =IF(ROW()<=B$3,INDEX(FP!F:F,B$2+ROW()-1),"") | F38: =IF(ROW()<=B$3,INDEX(FP!G:G,B$2+ROW()-1),"") | H38: =IF(ROW()<=B$3,INDEX(FP!C:C,B$2+ROW()-1),"") | I38: =IF(ROW()<=B$3,SUMIF(A$107:A$10053,A38,I$107:I$10053),"") | J38: =IF(ROW()<=B$3,SUMIFS(I$103:I$50053,A$103:A$50053,K38,J$103:J$50053,L38),"") | K38: =$A38 | L38: 99 | M38: AAA | N38: HHH
A39: =IF(ROW()<=B$3,INDEX(FP!F:F,B$2+ROW()-1)&" - "&INDEX(FP!C:C,B$2+ROW()-1),"") | C39: =IF(ROW()<=B$3,INDEX(FP!E:E,B$2+ROW()-1),"") | D39: =IF(ROW()<=B$3,INDEX(FP!F:F,B$2+ROW()-1),"") | F39: =IF(ROW()<=B$3,INDEX(FP!G:G,B$2+ROW()-1),"") | H39: =IF(ROW()<=B$3,INDEX(FP!C:C,B$2+ROW()-1),"") | I39: =IF(ROW()<=B$3,SUMIF(A$107:A$10053,A39,I$107:I$10053),"") | J39: =IF(ROW()<=B$3,SUMIFS(I$103:I$50053,A$103:A$50053,K39,J$103:J$50053,L39),"") | K39: =$A39 | L39: 99 | M39: =$A38 | N39: 99
A40: =IF(ROW()<=B$3,INDEX(FP!F:F,B$2+ROW()-1)&" - "&INDEX(FP!C:C,B$2+ROW()-1),"") | C40: =IF(ROW()<=B$3,INDEX(FP!E:E,B$2+ROW()-1),"") | D40: =IF(ROW()<=B$3,INDEX(FP!F:F,B$2+ROW()-1),"") | F40: =IF(ROW()<=B$3,INDEX(FP!G:G,B$2+ROW()-1),"") | H40: =IF(ROW()<=B$3,INDEX(FP!C:C,B$2+ROW()-1),"") | I40: =IF(ROW()<=B$3,SUMIF(A$107:A$10053,A40,I$107:I$10053),"") | J40: =IF(ROW()<=B$3,SUMIFS(I$103:I$50053,A$103:A$50053,K40,J$103:J$50053,L40),"") | K40: =$A40 | L40: 99 | M40: AAA | N40: HHH
...

Sheet Adr
A1: IČO | B1: Subjekt | C1: Právna forma | D1: Ulica a číslo domu | E1: Mesto | F1: PSČ | G1: Webové sídlo | H1: E-mail | I1: Štatutárny zástupca | J1: Štatutár - funkcia | K1: Kontakná osoba | L1: Kontakt telefón | M1: IBAN 1 | N1: IBAN PUŠ | O1: IBAN TOP | P1: IBAN DOT
A2: 17066816 | B2: Aeroklub Dubnica nad Váhom | C2: občianske združenie | D2: Letisko Slávnica | E2: Slávnica | F2: 018 54 | G2: https://akdubnica.sk/ | H2: akdubnica@gmail.com | I2: Jaroslav Michálek | J2: predseda | K2: Jaroslav Michálek | L2: 421905505202 | M2: SK08 0900 0000 0000 6366 9107
A3: 37894021 | B3: ASOCIÁCIA MAŽORETKOVÉHO ŠPORTU SLOVENSKO | C3: občianske združenie | D3: Rozkvet 2073/155 | E3: Považská Bystrica | F3: 017 01 | G3: www.amas.sk | H3: elllapb@gmail.com | I3: Elena Martinková | J3: prezident | K3: Elena Martinková | L3: 421903471398 | M3: SK55 7500 0000 0040 3499 6617
A4: 00681482 | B4: Asociácia športu pre všetkých Slovenskej republiky | C4: občianske združenie | D4: Olympijské námestie 14290/1 | E4: Bratislava | F4: 832 80 | G4: https://aspv.sk/ | H4: aspv@aspv.sk | I4: Ján Holko | J4: predseda | K4: Ján Holko | L4: 421911244266 | M4: SK32 0200 0000 0050 7394 7054
A5: 42097631 | B5: Atletický klub Slávia Technická univerzita Košice | C5: občianske združenie | D5: Watsonova 4/a | E5: Košice | F5: 040 01 | G5: https://akstuke.sk/ | H5: henrietaviktoria@centrum.sk | I5: Henrieta Rusnáková | J5: predseda | K5: Henrieta Rusnáková | L5: 421908982308 | M5: SK24 0200 0000 0024 3329 8059
A6: 55184707 | B6: Baláž Racing | C6: občianske združenie | D6: Medveďovej 21 | E6: Bratislava | F6: 851 04 | G6: www.balaz-racing.sk | H6: hd.balaz@gmail.com | I6: Michal Baláž | J6: predseda | K6: Michal Baláž | L6: 421948780850 | M6: SK02 8330 0000 0029 0251 8350
A7: 57153647 | B7: basket G Michalovce | C7: občianske združenie | D7: Bieloruská 5848/2 | E7: Michalovce | F7: 071 01 | G7: www.basketgirls.sk | H7: basketgirlsmi@gmail.com | I7: Roman Skvašík | J7: prezident klubu | K7: Roman Skvašík | L7: 421908407004
A8: 17641616 | B8: Basketbalový klub Klokani Ivanka pri Dunaji | C8: občianske združenie | D8: Štefánikova 772/82 | E8: Ivanka pri Dunaji | F8: 900 28 | G8: www.bk-klokani.sk | H8: ivan.malovec@gmail.com | I8: Ivan Malovec | J8: predseda | K8: Ivan Malovec | L8: 421915969868 | M8: SK48 7500 0000 0040 3001 1622
A9: 42089158 | B9: Black Tiger Taekwondo - Klub Snina | C9: občianske združenie | D9: 1. Mája 2057/9 | E9: Snina | F9: 069 01 | G9: www.black-tiger-snina-8bd8ea.webnode.sk | H9: tomaspotocky87@gmail.com | I9: Tomáš Potocký | J9: predseda | K9: Tomáš Potocký | L9: 421918211200 | M9: SK68 7500 0000 0040 2432 8420
A10: 42311462 | B10: B-STAR | C10: občianske združenie | D10: J.Bottu 465/10 | E10: Zvolen | F10: 960 01 | H10: barbara.papankova@gmail.com | I10: Barbara Papánková | K10: Barbara Papánková | L10: 421904438123 | M10: SK72 1100 0000 0029 2490 9272
A11: 42254388 | B11: Deaflympijský výbor Slovenska | C11: občianske združenie | D11: Kýčerského 7 | E11: Bratislava 1 | F11: 811 05 | G11: www.deaflympic.sk | H11: office@deaflympic.sk | I11: Peter Birka | J11: prezident | K11: Milena Fabšičová | L11: 421911370554 | M11: SK30 1100 0000 0029 2988 5740
A12: 56933312 | B12: Festival športu a cestovného ruchu o. z. | C12: občianske združenie | D12: Matúškova 1630/1 | E12: Dolný Kubín | F12: 026 01 | H12: jozef@kbmusic@sk | I12: Jozef Kozák | J12: predseda | K12: Jozef Kozák | L12: 421908030020
A13: 36793922 | B13: Fit&Co. s.r.o. | C13: spoločnosť s ručením obmedzeným | D13: Pribinova 8 | E13: Bratislava | F13: 81109 | H13: martin@365fitco.sk | I13: Martin Ranuša | J13: konateľ | K13: Martin Ranuša | L13: 421915777587 | R13: =A13 -> 36793922
A14: 54362318 | B14: Florbalový klub Snina | C14: občianske združenie | D14: Pribinova 1458/21 | E14: Snina | F14: 069 01 | H14: sninskyflorbal@gmail.com | I14: Martin Biľo | J14: predseda | K14: Martin Biľo | L14: 421907462677 | M14: SK68 0900 0000 0051 9207 0152
A15: 42403626 | B15: Gaál Wrestling Team, o.z. | C15: občianske združenie | D15: Gen. Smetanov háj 288/18 | E15: Dunajská Streda | F15: 929 01 | H15: gaal.wrestling.team@gmail.com | I15: Peter Lukács | J15: predseda | K15: Peter Lukács | L15: 421918199006 | R15: =A15 -> 42403626
A16: 53939042 | B16: Gladiators TnUAD Trenčín n.o | C16: Nezisková organizácia poskytujúca všeobecne prospešné služby | D16: Trenčianske Jastrabie 56 | E16: Trenčianske Jastrabie | F16: 913 22 | G16: www.gladiatorstrencin.sk | H16: lfryvaldsky@gmail.com | I16: Lukáš Frývaldský | J16: riaditeľ | K16: Lukáš Frývaldský | L16: 421904760660 | M16: SK75 1100 0000 0029 4527 4659 | R16: =A16 -> 53939042
A17: 52489159 | B17: HC UNIZA | C17: občianske združenie | D17: M. Šinského 936/11 | E17: Žilina | F17: 010 07 | G17: www.hc.uniza.sk | H17: hcuniza@gmail.com | I17: Alexander Gašparovič | J17: predseda | K17: Alexander Gašparovič | L17: 421905103966 | M17: SK63 8330 0000 0025 0203 4322 | R17: =A17 -> 52489159
A18: 50005430 | B18: HK Košice - hádzanársky klub | C18: občianske združenie | D18: Tr. SNP 104 | E18: Košice | F18: 040 11 | G18: www.hkkosice.sk | H18: o.melich@gmail.com | I18: Ondrej Melich | J18: prezident | K18: Ondrej Melich | L18: 421905922204 | M18: SK16 0900 0000 0051 7115 0225 | R18: =A18 -> 50005430
A19: 00603481 | B19: Hlavné mesto Slovenskej republiky Bratislava | C19: samostatný územný samosprávny celok | D19: Primaciálne námestie č. 1 | E19: Bratislava | F19: 814 99 | G19: www.bratislava.sk | H19: sport@bratislava.sk | I19: Ctibor Košťál | J19: riaditeľ Magistrátu hlavného mesta SR Bratislavy
A20: 42419981 | B20: Hokejový klub Spiš Indians | C20: občianske združenie | D20: Ulica Športovcov 985/8 | E20: Levoča | F20: 054 01 | G20: www.spisindians.com | H20: rakel@levonet.sk | I20: Radoslav Kellner | J20: predseda | K20: Radoslav Kellner | L20: 421905906040 | M20: SK24 0900 0000 0050 8246 0459 | R20: =A20 -> 42419981
A21: 17151261 | B21: Hokejový klub Spišská Nová Ves | C21: občianske združenie | D21: T. Vansovej 1286/1 | E21: Spišská Nová Ves | F21: 052 01 | G21: www.hksnv.sk | H21: rapacrichard@hotmail.com | I21: Richard Rapáč | J21: riaditeľ | K21: Richard Rapáč | M21: SK40 1100 0000 0026 2984 0698 | R21: =A21 -> 17151261
A22: 50879391 | B22: Hokejový klub UMB | C22: občianske združenie | D22: Hronské predmestie 1452/4 | E22: Banská Bystrica | F22: 974 01 | G22: www.umbhockey.sk | H22: lukas@umbhockey.sk | I22: Lukáš Opáth | J22: prezident | M22: SK12 0900 0000 0051 3456 4613
A23: 50642804 | B23: iCompete Natural Slovakia | C23: občianske združenie | D23: Jesenského 71 | E23: Zvolen | F23: 960 01 | G23: www.icn.sk | H23: icn@icn.sk | I23: René Tomášek | J23: prezident | K23: René Tomášek | L23: 421905819613 | M23: SK84 7500 0000 0040 3183 7581 | R23: =A23 -> 50642804
A24: 42313431 | B24: Jazdecký klub Masarykov Dvor | C24: občianske združenie | D24: Vígľaš 361 | E24: Vígľaš | F24: 962 02 | G24: www.jkmasaryk.sk | H24: administrativa@mdvor.sk | I24: Martin Malatinec | J24: predseda | K24: Simona Škamlová | L24: 421918991198
A25: 42234425 | B25: JUDO CLUB Bardejov o. z. | C25: občianske združenie | D25: J.Grešáka 2745/15 | E25: Bardejov | F25: 085 01 | G25: www.judovychod.sk | H25: stanislav.mlynaric@centrum.sk | I25: Stanislav Mlynarič | J25: podpredseda | K25: Stanislav Mlynarič
A26: 37956035 | B26: Judo Klub Dukla Banská Bystrica | C26: občianske združenie | R26: =A26 -> 37956035
A27: 35533099 | B27: Karate Klub IGLOW, o. z. | C27: občianske združenie | D27: Javorová 9 | E27: Spišská Nová Ves | F27: 052 01 | G27: https://www.kkiglow.sk/ | H27: jaro.javorsky14@gmail.com | I27: Jaroslav Javorský | J27: predseda | K27: Jaroslav Javorský | L27: 421903601117 | M27: SK81 7500 0000 0040 3512 9136 | R27: =A27 -> 35533099
A28: 45011893 | B28: Klub gymnastických športov Slávia Trnava | C28: občianske združenie | D28: Rybníkova 6 | E28: Trnava | F28: 917 01 | G28: https://gymnastikatrnava.sk/ | H28: kgsslaviatrnava@gmail.com | I28: Ján Novák | J28: predseda | K28: Ján Novák | L28: 421911024681 | M28: SK18 1100 0000 0029 4608 3598 | R28: =A28 -> 45011893
A29: 31940803 | B29: Klub plaveckých športov Nereus Žilina, o. z. | C29: občianske združenie | D29: Vysokoškolákov 1765/8 | E29: Žilina | F29: 010 08 | G29: www.nereus.sk | H29: Jurkovic.t@gmail.com | I29: Tomáš Jurkovič | J29: predseda | K29: Tomáš Jurkovič
A30: 37812025 | B30: Klub rádiového orientačného behu Medik Martin | C30: občianske združenie | D30: Malá Hora 4066/4 | E30: Martin | F30: 036 01 | H30: simecek@jfned.uniba.sk | I30: Jozef Šimeček | K30: Jozef Šimeček | L30: 421905204759 | M30: SK51 0900 0000 0003 5189 3357 | R30: =A30 -> 37812025
A31: 36082538 | B31: Klub sálového futbalu Športový klub Prednádražie Trnava | C31: občianske združenie | D31: Ulica Čajkovského 6331/39 | E31: Trnava | F31: 917 08 | G31: prengocup.com | H31: michalik.m@gmail.com | I31: Martin Michalík | J31: predseda | K31: Martin Michalík | R31: =A31 -> 36082538
A32: 17067065 | B32: Letecká amatérska asociácia Slovenskej republiky | C32: občianske združenie | D32: Jánošíkova 264/19 | E32: Žilina | F32: 010 01 | G32: www.laa.sk | H32: sekretariat@laa.sk | I32: Miroslav Jančiar | J32: predseda | K32: Miroslav Jančiar | L32: 421903441416 | R32: =A32 -> 17067065
A33: 51027097 | B33: Letecko-raketomodelárska asociácia Slovenska o.z. | C33: občianske združenie | D33: J.Š. Šikuru 11616/74A | E33: Martin | F33: 036 08 | G33: https://www.lermas.sk/ | H33: sekretariat@lermas.sk | I33: Ľubomír Krupár | J33: predseda | K33: Ľubomír Krupár | L33: 421910946689 | M33: SK54 0900 0000 0052 4075 8681 | R33: =A33 -> 51027097
A34: 35804246 | B34: MACO RACING, s r.o. | C34: spoločnosť s ručením obmedzeným | D34: Obežná 12 | E34: Bratislava | F34: 821 02 | G34: www.macoracing.com | H34: info@macoracing.com | I34: Denisa Grešková | J34: konateľ | K34: Denisa Grešková | L34: 421903723738
A35: 42269423 | B35: MAMMAL - Slovenský zväz MMA | C35: občianske združenie | D35: Židovská 298/19 | E35: Bratislava 1 | F35: 811 01 | G35: www.mammal.sk | H35: info@mammal.sk; marek.herda@mammal.sk | I35: Marek Herda | J35: prezident | K35: Jana Gurová | L35: 421903555547 | M35: SK90 0200 0000 0049 7897 1855 | R35: =A35 -> 42269423
A36: 00630616 | B36: Maratón klub Rajec | C36: občianske združenie | D36: Mudrochova 909/4 | E36: Rajec | F36: 015 01 | G36: www.rajeckymaraton.sk | H36: pavol.uhlarik@gmail.com | I36: Pavol Uhlárik | J36: predseda | K36: Pavol Uhlárik | R36: =A36 -> 00630616
A37: 53332504 | B37: Mestský športový klub IUVENTA Michalovce o.z. | C37: občianske združenie | D37: Karola Kuzmányho 6225/24 | E37: Michalovce | F37: 071 01 | G37: www.iuventa-zhk.sk | H37: iuventa-zhk@iuventa-zhk.sk | I37: Patrik Sabov | J37: prezident klubu | K37: Jana Čalovková | L37: 421903411449 | R37: =A37 -> 53332504
A38: 42413095 | B38: Mládežnícky športový klub Senec | C38: občianske združenie | D38: Košická 8 | E38: Senec | F38: 903 01 | G38: www.msksenec.sk | H38: ladislav.talamon@gmail.com | I38: Ľudovít Szabo | J38: predseda | K38: Ladislav Talamon | L38: 421918784551 | R38: =A38 -> 42413095
A39: 57018421 | B39: Mladí v kraji | C39: občianske združenie | D39: Horná 260/81 | E39: Lieskovec | F39: 962 21 | H39: simon.tavoda@gmail.com | I39: Timotej Daubner | J39: predseda | K39: Šimon Ťavoda | L39: 421902838313 | R39: =A39 -> 57018421
A40: 53018109 | B40: Nadácia S4S | C40: nadácia | D40: Pluhová 2 | E40: Bratislava | F40: 831 03 | G40: www.starsforstars.eu | H40: masarcin@starsforstars.eu | I40: Miroslav Masarčin | J40: správca nadácie | K40: Miroslav Masarčin | L40: 421903752699 | M40: SK69 1100 0000 0029 4209 2294 | R40: =A40 -> 53018109
...

Sheet FP
A1: IČO | B1: Prijímateľ | C1: Predmet (názov, miesto, termín, parametre) | D1: Schválená (eur) | E1: SF (%) | F1: Účel | G1: PPG | H1: B/K | I1: ico+ucel | J1: ico+ppg | K1: Šport | L1: ICO+PPG+BK | M1: Zoraď | N1: ico+ucel+B/K
A2: 17066816 | B2: =VLOOKUP(A2,Adr!A:B,2,FALSE) -> Aeroklub Dubnica nad Váhom | C2: 50. ročník Let Strážovskou Hornatinou | D2: 5000 | E2: 0 | F2: f | G2: 026 03 | H2: B | I2: =A2&F2 -> 17066816f | J2: =A2&G2 -> 17066816026 03 | L2: =A2&G2&H2 -> 17066816026 03B | M2: =B2&F2&H2&C2 -> Aeroklub Dubnica nad VáhomfB50. ročník Let Strážovskou Hornatinou | N2: =+I2&H2 -> 17066816fB
A3: 37894021 | B3: =VLOOKUP(A3,Adr!A:B,2,FALSE) -> ASOCIÁCIA MAŽORETKOVÉHO ŠPORTU SLOVENSKO | C3: rozvoj športov, ktoré nie sú uznanými podľa zákona č. 440/2015 Z. z. | D3: 36700 | E3: 0 | F3: g | G3: 026 03 | H3: B | I3: =A3&F3 -> 37894021g | J3: =A3&G3 -> 37894021026 03 | L3: =A3&G3&H3 -> 37894021026 03B | M3: =B3&F3&H3&C3 -> ASOCIÁCIA MAŽORETKOVÉHO ŠPORTU SLOVENSKOgBrozvoj športov, ktoré nie sú uznanými podľa zákona č. 440/2015 Z. z. | N3: =+I3&H3 -> 37894021gB
A4: 00681482 | B4: =VLOOKUP(A4,Adr!A:B,2,FALSE) -> Asociácia športu pre všetkých Slovenskej republiky | C4: Slovensko v pohybe 2026 | D4: 50000 | E4: 0 | F4: f | G4: 026 03 | H4: B | I4: =A4&F4 -> 00681482f | J4: =A4&G4 -> 00681482026 03 | L4: =A4&G4&H4 -> 00681482026 03B | M4: =B4&F4&H4&C4 -> Asociácia športu pre všetkých Slovenskej republikyfBSlovensko v pohybe 2026 | N4: =+I4&H4 -> 00681482fB
A5: 42097631 | B5: =VLOOKUP(A5,Adr!A:B,2,FALSE) -> Atletický klub Slávia Technická univerzita Košice | C5: Skokom, behom, hodom do sveta - rozvoj pohybových zručností a návykov deti a mládeže v atletike | D5: 8000 | E5: 0 | F5: f | G5: 026 03 | H5: B | I5: =A5&F5 -> 42097631f | J5: =A5&G5 -> 42097631026 03 | L5: =A5&G5&H5 -> 42097631026 03B | M5: =B5&F5&H5&C5 -> Atletický klub Slávia Technická univerzita KošicefBSkokom, behom, hodom do sveta - rozvoj pohybových zručností a návykov deti a mládeže v atletike | N5: =+I5&H5 -> 42097631fB
A6: 55184707 | B6: =VLOOKUP(A6,Adr!A:B,2,FALSE) -> Baláž Racing | C6: Podpora mladého pretekára Matiasa Baláža v sezóne 2026 | D6: 8000 | E6: 0 | F6: f | G6: 026 03 | H6: B | I6: =A6&F6 -> 55184707f | J6: =A6&G6 -> 55184707026 03 | L6: =A6&G6&H6 -> 55184707026 03B | M6: =B6&F6&H6&C6 -> Baláž RacingfBPodpora mladého pretekára Matiasa Baláža v sezóne 2026 | N6: =+I6&H6 -> 55184707fB
A7: 57153647 | B7: =VLOOKUP(A7,Adr!A:B,2,FALSE) -> basket G Michalovce | C7: Zabezpečenie materiálno-organizačných podmienok pre kvalitnú prípravu hráčok v sezóne 2026/2027 | D7: 6900 | E7: 0 | F7: f | G7: 026 03 | H7: B | I7: =A7&F7 -> 57153647f | J7: =A7&G7 -> 57153647026 03 | L7: =A7&G7&H7 -> 57153647026 03B | M7: =B7&F7&H7&C7 -> basket G MichalovcefBZabezpečenie materiálno-organizačných podmienok pre kvalitnú prípravu hráčok v sezóne 2026/2027 | N7: =+I7&H7 -> 57153647fB
A8: 17641616 | B8: =VLOOKUP(A8,Adr!A:B,2,FALSE) -> Basketbalový klub Klokani Ivanka pri Dunaji | C8: Systematický rozvoj dievčenského mládežníckeho basketbalu v sezóne 2026 | D8: 10000 | E8: 0 | F8: f | G8: 026 03 | H8: B | I8: =A8&F8 -> 17641616f | J8: =A8&G8 -> 17641616026 03 | L8: =A8&G8&H8 -> 17641616026 03B | M8: =B8&F8&H8&C8 -> Basketbalový klub Klokani Ivanka pri DunajifBSystematický rozvoj dievčenského mládežníckeho basketbalu v sezóne 2026 | N8: =+I8&H8 -> 17641616fB
A9: 42089158 | B9: =VLOOKUP(A9,Adr!A:B,2,FALSE) -> Black Tiger Taekwondo - Klub Snina | C9: Projekt Vytvorme deťom a mládeži v našom meste vhodné podmienky pre ich športový rast | D9: 8000 | E9: 0 | F9: f | G9: 026 03 | H9: B | I9: =A9&F9 -> 42089158f | J9: =A9&G9 -> 42089158026 03 | L9: =A9&G9&H9 -> 42089158026 03B | M9: =B9&F9&H9&C9 -> Black Tiger Taekwondo - Klub SninafBProjekt Vytvorme deťom a mládeži v našom meste vhodné podmienky pre ich športový rast | N9: =+I9&H9 -> 42089158fB
A10: 42311462 | B10: =VLOOKUP(A10,Adr!A:B,2,FALSE) -> B-STAR | C10: B-STAR CUP 2026 | D10: 2000 | E10: 0 | F10: f | G10: 026 03 | H10: B | I10: =A10&F10 -> 42311462f | J10: =A10&G10 -> 42311462026 03 | L10: =A10&G10&H10 -> 42311462026 03B | M10: =B10&F10&H10&C10 -> B-STARfBB-STAR CUP 2026 | N10: =+I10&H10 -> 42311462fB
A11: 42254388 | B11: =VLOOKUP(A11,Adr!A:B,2,FALSE) -> Deaflympijský výbor Slovenska | C11: zabezpečenie činnosti a úloh v roku 2025 | D11: 390711 | E11: 0 | F11: c | G11: 026 03 | H11: B | I11: =A11&F11 -> 42254388c | J11: =A11&G11 -> 42254388026 03 | L11: =A11&G11&H11 -> 42254388026 03B | M11: =B11&F11&H11&C11 -> Deaflympijský výbor SlovenskacBzabezpečenie činnosti a úloh v roku 2025 | N11: =+I11&H11 -> 42254388cB
A12: 42254388 | B12: =VLOOKUP(A12,Adr!A:B,2,FALSE) -> Deaflympijský výbor Slovenska | C12: Antušeková Adela | D12: 9000 | E12: 0 | F12: d | G12: 026 03 | H12: B | I12: =A12&F12 -> 42254388d | J12: =A12&G12 -> 42254388026 03 | L12: =A12&G12&H12 -> 42254388026 03B | M12: =B12&F12&H12&C12 -> Deaflympijský výbor SlovenskadBAntušeková Adela | N12: =+I12&H12 -> 42254388dB
A13: 42254388 | B13: =VLOOKUP(A13,Adr!A:B,2,FALSE) -> Deaflympijský výbor Slovenska | C13: Antušeková Martina | D13: 22000 | E13: 0 | F13: d | G13: 026 03 | H13: B | I13: =A13&F13 -> 42254388d | J13: =A13&G13 -> 42254388026 03 | L13: =A13&G13&H13 -> 42254388026 03B | M13: =B13&F13&H13&C13 -> Deaflympijský výbor SlovenskadBAntušeková Martina | N13: =+I13&H13 -> 42254388dB
... A73: 42254302 | B73: =VLOOKUP(A73,Adr!A:B,2,FALSE) -> Slávia Gymnastické centrum Bratislava | C73: Zabezpečenie kontinuálnej športovej prípravy reprezentantov Slovenskej republiky v športovej gymnastike | D73: 9200 | E73: 0 | F73: f | G73: 026 03 | H73: B | I73: =A73&F73 -> 42254302f | J73: =A73&G73 -> 42254302026 03 | L73: =A73&G73&H73 -> 42254302026 03B | M73: =B73&F73&H73&C73 -> Slávia Gymnastické centrum BratislavafBZabezpečenie kontinuálnej športovej prípravy reprezentantov Slovenskej republiky v športovej gymnastike | N73: =+I73&H73 -> 42254302fB
A74: 30787009 | B74: =VLOOKUP(A74,Adr!A:B,2,FALSE) -> Slovenská asociácia amerického futbalu, o.z. | C74: americký futbal - bežné transfery | D74: 38332 | E74: 0 | F74: a | G74: 026 02 | H74: B | I74: =A74&F74 -> 30787009a | J74: =A74&G74 -> 30787009026 02 | K74: americký futbal | L74: =A74&G74&H74 -> 30787009026 02B | M74: =B74&F74&H74&C74 -> Slovenská asociácia amerického futbalu, o.z.aBamerický futbal - bežné transfery | N74: =+I74&H74 -> 30787009aB
A75: 00631655 | B75: =VLOOKUP(A75,Adr!A:B,2,FALSE) -> Slovenská asociácia boccie | C75: boccia - bežné transfery | D75: 34332 | E75: 0 | F75: a | G75: 026 02 | H75: B | I75: =A75&F75 -> 00631655a | J75: =A75&G75 -> 00631655026 02 | K75: boccia | L75: =A75&G75&H75 -> 00631655026 02B | M75: =B75&F75&H75&C75 -> Slovenská asociácia boccieaBboccia - bežné transfery | N75: =+I75&H75 -> 00631655aB
A76: 00631655 | B76: =VLOOKUP(A76,Adr!A:B,2,FALSE) -> Slovenská asociácia boccie | C76: boccia - kapitálové transfery | D76: 4000 | E76: 0 | F76: a | G76: 026 02 | H76: K | I76: =A76&F76 -> 00631655a | J76: =A76&G76 -> 00631655026 02 | K76: boccia | L76: =A76&G76&H76 -> 00631655026 02K | M76: =B76&F76&H76&C76 -> Slovenská asociácia boccieaKboccia - kapitálové transfery | N76: =+I76&H76 -> 00631655aK
A77: 00631655 | B77: =VLOOKUP(A77,Adr!A:B,2,FALSE) -> Slovenská asociácia boccie | C77: boule lyonnaise - bežné transfery | D77: 34332 | E77: 0 | F77: a | G77: 026 02 | H77: B | I77: =A77&F77 -> 00631655a | J77: =A77&G77 -> 00631655026 02 | K77: boule lyonnaise | L77: =A77&G77&H77 -> 00631655026 02B | M77: =B77&F77&H77&C77 -> Slovenská asociácia boccieaBboule lyonnaise - bežné transfery | N77: =+I77&H77 -> 00631655aB
A78: 00631655 | B78: =VLOOKUP(A78,Adr!A:B,2,FALSE) -> Slovenská asociácia boccie | C78: boule lyonnaise - kapitálové transfery | D78: 4000 | E78: 0 | F78: a | G78: 026 02 | H78: K | I78: =A78&F78 -> 00631655a | J78: =A78&G78 -> 00631655026 02 | K78: boule lyonnaise | L78: =A78&G78&H78 -> 00631655026 02K | M78: =B78&F78&H78&C78 -> Slovenská asociácia boccieaKboule lyonnaise - kapitálové transfery | N78: =+I78&H78 -> 00631655aK
A79: 42019541 | B79: =VLOOKUP(A79,Adr!A:B,2,FALSE) -> Slovenská asociácia čínskeho wushu | C79: wushu - bežné transfery | D79: 68538 | E79: 0 | F79: a | G79: 026 02 | H79: B | I79: =A79&F79 -> 42019541a | J79: =A79&G79 -> 42019541026 02 | K79: wushu | L79: =A79&G79&H79 -> 42019541026 02B | M79: =B79&F79&H79&C79 -> Slovenská asociácia čínskeho wushuaBwushu - bežné transfery | N79: =+I79&H79 -> 42019541aB
A80: 30810108 | B80: =VLOOKUP(A80,Adr!A:B,2,FALSE) -> Slovenská Asociácia Dynamickej Streľby | C80: dynamická streľba - bežné transfery | D80: 51766 | E80: 0 | F80: a | G80: 026 02 | H80: B | I80: =A80&F80 -> 30810108a | J80: =A80&G80 -> 30810108026 02 | K80: dynamická streľba | L80: =A80&G80&H80 -> 30810108026 02B | M80: =B80&F80&H80&C80 -> Slovenská Asociácia Dynamickej StreľbyaBdynamická streľba - bežné transfery | N80: =+I80&H80 -> 30810108aB
A81: 30810108 | B81: =VLOOKUP(A81,Adr!A:B,2,FALSE) -> Slovenská Asociácia Dynamickej Streľby | C81: 29th MOSQUITO MATCH 2026 – SLOVAK NATIONAL CHAMPIONSHIP | D81: 15000 | E81: 0 | F81: m | G81: 026 03 | H81: B | I81: =A81&F81 -> 30810108m | J81: =A81&G81 -> 30810108026 03 | L81: =A81&G81&H81 -> 30810108026 03B | M81: =B81&F81&H81&C81 -> Slovenská Asociácia Dynamickej StreľbymB29th MOSQUITO MATCH 2026 – SLOVAK NATIONAL CHAMPIONSHIP | N81: =+I81&H81 -> 30810108mB
A82: 30842069 | B82: =VLOOKUP(A82,Adr!A:B,2,FALSE) -> Slovenská asociácia fitnes, kulturistiky a silového trojboja | C82: fitnes a kulturistika - bežné transfery | D82: 898677 | E82: 0 | F82: a | G82: 026 02 | H82: B | I82: =A82&F82 -> 30842069a | J82: =A82&G82 -> 30842069026 02 | K82: fitnes a kulturistika | L82: =A82&G82&H82 -> 30842069026 02B | M82: =B82&F82&H82&C82 -> Slovenská asociácia fitnes, kulturistiky a silového trojbojaaBfitnes a kulturistika - bežné transfery | N82: =+I82&H82 -> 30842069aB
A83: 30842069 | B83: =VLOOKUP(A83,Adr!A:B,2,FALSE) -> Slovenská asociácia fitnes, kulturistiky a silového trojboja | C83: silové športy - bežné transfery | D83: 43062 | E83: 0 | F83: a | G83: 026 02 | H83: B | I83: =A83&F83 -> 30842069a | J83: =A83&G83 -> 30842069026 02 | K83: silové športy | L83: =A83&G83&H83 -> 30842069026 02B | M83: =B83&F83&H83&C83 -> Slovenská asociácia fitnes, kulturistiky a silového trojbojaaBsilové športy - bežné transfery | N83: =+I83&H83 -> 30842069aB
A84: 31749852 | B84: =VLOOKUP(A84,Adr!A:B,2,FALSE) -> Slovenská asociácia Frisbee | C84: športy s lietajúcim diskom - bežné transfery | D84: 152119 | E84: 0 | F84: a | G84: 026 02 | H84: B | I84: =A84&F84 -> 31749852a | J84: =A84&G84 -> 31749852026 02 | K84: športy s lietajúcim diskom | L84: =A84&G84&H84 -> 31749852026 02B | M84: =B84&F84&H84&C84 -> Slovenská asociácia FrisbeeaBšporty s lietajúcim diskom - bežné transfery | N84: =+I84&H84 -> 31749852aB
A85: 30844711 | B85: =VLOOKUP(A85,Adr!A:B,2,FALSE) -> Slovenská asociácia go | C85: go - bežné transfery | D85: 38332 | E85: 0 | F85: a | G85: 026 02 | H85: B | I85: =A85&F85 -> 30844711a | J85: =A85&G85 -> 30844711026 02 | K85: go | L85: =A85&G85&H85 -> 30844711026 02B | M85: =B85&F85&H85&C85 -> Slovenská asociácia goaBgo - bežné transfery | N85: =+I85&H85 -> 30844711aB
